BEGIN:VCALENDAR
VERSION:2.0
PRODID:-//Main Line Parent - ECPv6.15.20//NONSGML v1.0//EN
CALSCALE:GREGORIAN
METHOD:PUBLISH
X-WR-CALNAME:Main Line Parent
X-ORIGINAL-URL:https://mainlineparent.com
X-WR-CALDESC:Events for Main Line Parent
REFRESH-INTERVAL;VALUE=DURATION:PT1H
X-Robots-Tag:noindex
X-PUBLISHED-TTL:PT1H
BEGIN:VTIMEZONE
TZID:America/New_York
BEGIN:DAYLIGHT
TZOFFSETFROM:-0500
TZOFFSETTO:-0400
TZNAME:EDT
DTSTART:20250309T070000
END:DAYLIGHT
BEGIN:STANDARD
TZOFFSETFROM:-0400
TZOFFSETTO:-0500
TZNAME:EST
DTSTART:20251102T060000
END:STANDARD
BEGIN:DAYLIGHT
TZOFFSETFROM:-0500
TZOFFSETTO:-0400
TZNAME:EDT
DTSTART:20260308T070000
END:DAYLIGHT
BEGIN:STANDARD
TZOFFSETFROM:-0400
TZOFFSETTO:-0500
TZNAME:EST
DTSTART:20261101T060000
END:STANDARD
BEGIN:DAYLIGHT
TZOFFSETFROM:-0500
TZOFFSETTO:-0400
TZNAME:EDT
DTSTART:20270314T070000
END:DAYLIGHT
BEGIN:STANDARD
TZOFFSETFROM:-0400
TZOFFSETTO:-0500
TZNAME:EST
DTSTART:20271107T060000
END:STANDARD
END:VTIMEZONE
BEGIN:VEVENT
DTSTART;TZID=America/New_York:20260517T120000
DTEND;TZID=America/New_York:20260517T180000
DTSTAMP:20260425T130512
CREATED:20260319T140906Z
LAST-MODIFIED:20260319T140906Z
UID:10077691-1779019200-1779040800@mainlineparent.com
SUMMARY:Lansdowne Arts on the Avenue
DESCRIPTION:Lansdowne Arts on the Avenue Festival annually features 50+ juried artists\, performances\, demonstrations and more! \n Lansdowne Arts on the Avenue Festival – A Free Celebration of Creativity\, Craft & Community 30 N. Lansdowne Ave.\, Lansdowne\, PA Sunday\, May 17\, 2026 | 12–6 PM (Rain Date: Sunday\, May 31) \nJoin us for a vibrant celebration of art\, music\, and community in the heart of Lansdowne. Since 2003\, the Lansdowne Economic Development Corporation has brought this free\, all-ages festival to life\, transforming our historic downtown into a lively\, open-air gallery where local makers\, visual artists\, performers\, and neighbors come together. \nWhat you’ll discover: \n70+ juried artists working in painting\, sculpture\, fiber\, ceramics\, jewelry\, and more\nLive music and performances throughout the day\nDemonstrations and interactive art experiences for all ages\nFood trucks\, a beer garden\, and great downtown shopping\nA walkable festival footprint that encourages exploration of Lansdowne’s businesses\, galleries and cultural spaces \nBring a friend\, bring the family\, and enjoy: \nA stroll down Lansdowne Avenue with artist booths interwoven into the streetscape\nCreative moments for kids and adults\, from craft demos to live performance\nA chance to meet the makers\, ask questions\, and discover work you won’t find anywhere else\nSupporting a nonprofit-led festival that keeps 100% of sales with the artists (no commission taken) \nCome for the art\, stay for the community. Join us in celebrating 21 years of creativity in Lansdowne! \n Learn more and plan your visit: https://www.lansdowneartsontheavenue.com/ \nFor more to do in Delco\, go to visitdelco.com
URL:https://mainlineparent.com/event/lansdowne-arts-on-the-avenue/
LOCATION:Veterans Landing\, 30 N. Lansdowne Ave.\, Lansdowne\, PA\, 19050
CATEGORIES:Community Event,Delaware County Events,For The Whole Family
ATTACH;FMTTYPE=image/jpeg:https://mainlineparent.com/wp-content/uploads/2026/03/Lansdown-Arts-Ave-e1773929332163.jpg
END:VEVENT
END:VCALENDAR