BEGIN:VCALENDAR
VERSION:2.0
PRODID:-//Main Line Parent - ECPv6.15.20//NONSGML v1.0//EN
CALSCALE:GREGORIAN
METHOD:PUBLISH
X-ORIGINAL-URL:https://mainlineparent.com
X-WR-CALDESC:Events for Main Line Parent
REFRESH-INTERVAL;VALUE=DURATION:PT1H
X-Robots-Tag:noindex
X-PUBLISHED-TTL:PT1H
BEGIN:VTIMEZONE
TZID:America/New_York
BEGIN:DAYLIGHT
TZOFFSETFROM:-0500
TZOFFSETTO:-0400
TZNAME:EDT
DTSTART:20250309T070000
END:DAYLIGHT
BEGIN:STANDARD
TZOFFSETFROM:-0400
TZOFFSETTO:-0500
TZNAME:EST
DTSTART:20251102T060000
END:STANDARD
BEGIN:DAYLIGHT
TZOFFSETFROM:-0500
TZOFFSETTO:-0400
TZNAME:EDT
DTSTART:20260308T070000
END:DAYLIGHT
BEGIN:STANDARD
TZOFFSETFROM:-0400
TZOFFSETTO:-0500
TZNAME:EST
DTSTART:20261101T060000
END:STANDARD
BEGIN:DAYLIGHT
TZOFFSETFROM:-0500
TZOFFSETTO:-0400
TZNAME:EDT
DTSTART:20270314T070000
END:DAYLIGHT
BEGIN:STANDARD
TZOFFSETFROM:-0400
TZOFFSETTO:-0500
TZNAME:EST
DTSTART:20271107T060000
END:STANDARD
END:VTIMEZONE
BEGIN:VEVENT
DTSTART;TZID=America/New_York:20260425T100000
DTEND;TZID=America/New_York:20260425T140000
DTSTAMP:20260422T104005
CREATED:20260313T142226Z
LAST-MODIFIED:20260313T142226Z
UID:10077654-1777111200-1777125600@mainlineparent.com
SUMMARY:ElderNet's 50th Anniversary Celebration
DESCRIPTION:Time to celebrate 50 years! For 50 years\, ElderNet has been the quiet force helping older adults in Lower Merion and Narberth remain safe\, nourished\, and connected at home. From volunteer drivers to pantry shelves\, from care management to friendly visits — our neighbors have never had to face challenges alone. Fifty years is more than a number. It’s thousands of lives touched. It’s dignity preserved. It’s community in action. And we’re just getting started. \n• Music & Entertainment \n• Food\, Drinks \n• Fun Activities \n• Raffle Baskets \n• Free to attend
URL:https://mainlineparent.com/event/eldernets-50th-anniversary-celebration/
LOCATION:The Bryn Mawr Gazebo\, 9 S. Bryn Mawr Avenue\, Bryn Mawr\, PA\, 19010
CATEGORIES:Community Event,For Kids Ages 1 – 3,For Kids Ages 11 – 14,For Kids Ages 15+,For Kids Ages 4 – 6,For Kids Ages 7 – 10,For New & Expecting Parents,For Parents,For The Whole Family,Free,Montgomery County Events
ATTACH;FMTTYPE=image/jpeg:https://mainlineparent.com/wp-content/uploads/2026/03/Elder-Net-50.jpg
END:VEVENT
END:VCALENDAR