BEGIN:VCALENDAR
VERSION:2.0
PRODID:-//Main Line Parent - ECPv6.15.20//NONSGML v1.0//EN
CALSCALE:GREGORIAN
METHOD:PUBLISH
X-ORIGINAL-URL:https://mainlineparent.com
X-WR-CALDESC:Events for Main Line Parent
REFRESH-INTERVAL;VALUE=DURATION:PT1H
X-Robots-Tag:noindex
X-PUBLISHED-TTL:PT1H
BEGIN:VTIMEZONE
TZID:America/New_York
BEGIN:DAYLIGHT
TZOFFSETFROM:-0500
TZOFFSETTO:-0400
TZNAME:EDT
DTSTART:20240310T070000
END:DAYLIGHT
BEGIN:STANDARD
TZOFFSETFROM:-0400
TZOFFSETTO:-0500
TZNAME:EST
DTSTART:20241103T060000
END:STANDARD
BEGIN:DAYLIGHT
TZOFFSETFROM:-0500
TZOFFSETTO:-0400
TZNAME:EDT
DTSTART:20250309T070000
END:DAYLIGHT
BEGIN:STANDARD
TZOFFSETFROM:-0400
TZOFFSETTO:-0500
TZNAME:EST
DTSTART:20251102T060000
END:STANDARD
BEGIN:DAYLIGHT
TZOFFSETFROM:-0500
TZOFFSETTO:-0400
TZNAME:EDT
DTSTART:20260308T070000
END:DAYLIGHT
BEGIN:STANDARD
TZOFFSETFROM:-0400
TZOFFSETTO:-0500
TZNAME:EST
DTSTART:20261101T060000
END:STANDARD
END:VTIMEZONE
BEGIN:VEVENT
DTSTART;TZID=America/New_York:20251217T173000
DTEND;TZID=America/New_York:20251217T200000
DTSTAMP:20260421T061501
CREATED:20250930T182726Z
LAST-MODIFIED:20250930T182726Z
UID:10067186-1765992600-1766001600@mainlineparent.com
SUMMARY:Exploring Art for Ages 6-11 (drop-ins available)
DESCRIPTION:Each Wednesday through December 17\, students can join a weekly art class at the Rockdale Art Center. \n\n\n\n\n\n\n\n\n\n\n \n\n\n\n\n\n\n\nWith new projects each session\, this class is perfect for the growing artist to explore drawing\, painting\, collage\, sculpture & more while learning about different artists and art techniques. Students create a unique artwork every class on paper\, board\, canvas\, or even in air dry clay or other 3D materials. This course is for ages 5-10 years old\, please understand we cannot accept younger students. \nSometimes art-making can get messy\, so students should dress to create. \nChoose to pay per class\, month\, or for the full course! Choose what works best for your family from the drop down menu below: \n$420.00 for the 16 week course\, includes all supplies \nOR \n\n$135 for OCTOBER classes (5 classes)\n$108 for NOVEMBER classes (4 classes)\n$81 for DECEMBER classes (3 classes)\n\nOR pay $30 per class!
URL:https://mainlineparent.com/event/exploring-art-for-ages-6-11-drop-ins-available/2025-12-17/
LOCATION:Rockdale Art Center\, 799 Mount Rd\, Aston\, PA
CATEGORIES:Class or Workshop,Delaware County Events,Kid Event
ATTACH;FMTTYPE=image/webp:https://mainlineparent.com/wp-content/uploads/2025/09/exploringart-e1759256774616.webp
END:VEVENT
BEGIN:VEVENT
DTSTART;TZID=America/New_York:20251210T173000
DTEND;TZID=America/New_York:20251210T200000
DTSTAMP:20260421T061501
CREATED:20250930T182726Z
LAST-MODIFIED:20250930T182726Z
UID:10067185-1765387800-1765396800@mainlineparent.com
SUMMARY:Exploring Art for Ages 6-11 (drop-ins available)
DESCRIPTION:Each Wednesday through December 17\, students can join a weekly art class at the Rockdale Art Center. \n\n\n\n\n\n\n\n\n\n\n \n\n\n\n\n\n\n\nWith new projects each session\, this class is perfect for the growing artist to explore drawing\, painting\, collage\, sculpture & more while learning about different artists and art techniques. Students create a unique artwork every class on paper\, board\, canvas\, or even in air dry clay or other 3D materials. This course is for ages 5-10 years old\, please understand we cannot accept younger students. \nSometimes art-making can get messy\, so students should dress to create. \nChoose to pay per class\, month\, or for the full course! Choose what works best for your family from the drop down menu below: \n$420.00 for the 16 week course\, includes all supplies \nOR \n\n$135 for OCTOBER classes (5 classes)\n$108 for NOVEMBER classes (4 classes)\n$81 for DECEMBER classes (3 classes)\n\nOR pay $30 per class!
URL:https://mainlineparent.com/event/exploring-art-for-ages-6-11-drop-ins-available/2025-12-10/
LOCATION:Rockdale Art Center\, 799 Mount Rd\, Aston\, PA
CATEGORIES:Class or Workshop,Delaware County Events,Kid Event
ATTACH;FMTTYPE=image/webp:https://mainlineparent.com/wp-content/uploads/2025/09/exploringart-e1759256774616.webp
END:VEVENT
BEGIN:VEVENT
DTSTART;TZID=America/New_York:20251203T173000
DTEND;TZID=America/New_York:20251203T200000
DTSTAMP:20260421T061501
CREATED:20250930T182726Z
LAST-MODIFIED:20250930T182726Z
UID:10067184-1764783000-1764792000@mainlineparent.com
SUMMARY:Exploring Art for Ages 6-11 (drop-ins available)
DESCRIPTION:Each Wednesday through December 17\, students can join a weekly art class at the Rockdale Art Center. \n\n\n\n\n\n\n\n\n\n\n \n\n\n\n\n\n\n\nWith new projects each session\, this class is perfect for the growing artist to explore drawing\, painting\, collage\, sculpture & more while learning about different artists and art techniques. Students create a unique artwork every class on paper\, board\, canvas\, or even in air dry clay or other 3D materials. This course is for ages 5-10 years old\, please understand we cannot accept younger students. \nSometimes art-making can get messy\, so students should dress to create. \nChoose to pay per class\, month\, or for the full course! Choose what works best for your family from the drop down menu below: \n$420.00 for the 16 week course\, includes all supplies \nOR \n\n$135 for OCTOBER classes (5 classes)\n$108 for NOVEMBER classes (4 classes)\n$81 for DECEMBER classes (3 classes)\n\nOR pay $30 per class!
URL:https://mainlineparent.com/event/exploring-art-for-ages-6-11-drop-ins-available/2025-12-03/
LOCATION:Rockdale Art Center\, 799 Mount Rd\, Aston\, PA
CATEGORIES:Class or Workshop,Delaware County Events,Kid Event
ATTACH;FMTTYPE=image/webp:https://mainlineparent.com/wp-content/uploads/2025/09/exploringart-e1759256774616.webp
END:VEVENT
BEGIN:VEVENT
DTSTART;TZID=America/New_York:20251126T173000
DTEND;TZID=America/New_York:20251126T200000
DTSTAMP:20260421T061501
CREATED:20250930T182726Z
LAST-MODIFIED:20250930T182726Z
UID:10067183-1764178200-1764187200@mainlineparent.com
SUMMARY:Exploring Art for Ages 6-11 (drop-ins available)
DESCRIPTION:Each Wednesday through December 17\, students can join a weekly art class at the Rockdale Art Center. \n\n\n\n\n\n\n\n\n\n\n \n\n\n\n\n\n\n\nWith new projects each session\, this class is perfect for the growing artist to explore drawing\, painting\, collage\, sculpture & more while learning about different artists and art techniques. Students create a unique artwork every class on paper\, board\, canvas\, or even in air dry clay or other 3D materials. This course is for ages 5-10 years old\, please understand we cannot accept younger students. \nSometimes art-making can get messy\, so students should dress to create. \nChoose to pay per class\, month\, or for the full course! Choose what works best for your family from the drop down menu below: \n$420.00 for the 16 week course\, includes all supplies \nOR \n\n$135 for OCTOBER classes (5 classes)\n$108 for NOVEMBER classes (4 classes)\n$81 for DECEMBER classes (3 classes)\n\nOR pay $30 per class!
URL:https://mainlineparent.com/event/exploring-art-for-ages-6-11-drop-ins-available/2025-11-26/
LOCATION:Rockdale Art Center\, 799 Mount Rd\, Aston\, PA
CATEGORIES:Class or Workshop,Delaware County Events,Kid Event
ATTACH;FMTTYPE=image/webp:https://mainlineparent.com/wp-content/uploads/2025/09/exploringart-e1759256774616.webp
END:VEVENT
BEGIN:VEVENT
DTSTART;TZID=America/New_York:20251119T173000
DTEND;TZID=America/New_York:20251119T200000
DTSTAMP:20260421T061501
CREATED:20250930T182726Z
LAST-MODIFIED:20250930T182726Z
UID:10067182-1763573400-1763582400@mainlineparent.com
SUMMARY:Exploring Art for Ages 6-11 (drop-ins available)
DESCRIPTION:Each Wednesday through December 17\, students can join a weekly art class at the Rockdale Art Center. \n\n\n\n\n\n\n\n\n\n\n \n\n\n\n\n\n\n\nWith new projects each session\, this class is perfect for the growing artist to explore drawing\, painting\, collage\, sculpture & more while learning about different artists and art techniques. Students create a unique artwork every class on paper\, board\, canvas\, or even in air dry clay or other 3D materials. This course is for ages 5-10 years old\, please understand we cannot accept younger students. \nSometimes art-making can get messy\, so students should dress to create. \nChoose to pay per class\, month\, or for the full course! Choose what works best for your family from the drop down menu below: \n$420.00 for the 16 week course\, includes all supplies \nOR \n\n$135 for OCTOBER classes (5 classes)\n$108 for NOVEMBER classes (4 classes)\n$81 for DECEMBER classes (3 classes)\n\nOR pay $30 per class!
URL:https://mainlineparent.com/event/exploring-art-for-ages-6-11-drop-ins-available/2025-11-19/
LOCATION:Rockdale Art Center\, 799 Mount Rd\, Aston\, PA
CATEGORIES:Class or Workshop,Delaware County Events,Kid Event
ATTACH;FMTTYPE=image/webp:https://mainlineparent.com/wp-content/uploads/2025/09/exploringart-e1759256774616.webp
END:VEVENT
BEGIN:VEVENT
DTSTART;TZID=America/New_York:20251112T173000
DTEND;TZID=America/New_York:20251112T200000
DTSTAMP:20260421T061501
CREATED:20250930T182726Z
LAST-MODIFIED:20250930T182726Z
UID:10067181-1762968600-1762977600@mainlineparent.com
SUMMARY:Exploring Art for Ages 6-11 (drop-ins available)
DESCRIPTION:Each Wednesday through December 17\, students can join a weekly art class at the Rockdale Art Center. \n\n\n\n\n\n\n\n\n\n\n \n\n\n\n\n\n\n\nWith new projects each session\, this class is perfect for the growing artist to explore drawing\, painting\, collage\, sculpture & more while learning about different artists and art techniques. Students create a unique artwork every class on paper\, board\, canvas\, or even in air dry clay or other 3D materials. This course is for ages 5-10 years old\, please understand we cannot accept younger students. \nSometimes art-making can get messy\, so students should dress to create. \nChoose to pay per class\, month\, or for the full course! Choose what works best for your family from the drop down menu below: \n$420.00 for the 16 week course\, includes all supplies \nOR \n\n$135 for OCTOBER classes (5 classes)\n$108 for NOVEMBER classes (4 classes)\n$81 for DECEMBER classes (3 classes)\n\nOR pay $30 per class!
URL:https://mainlineparent.com/event/exploring-art-for-ages-6-11-drop-ins-available/2025-11-12/
LOCATION:Rockdale Art Center\, 799 Mount Rd\, Aston\, PA
CATEGORIES:Class or Workshop,Delaware County Events,Kid Event
ATTACH;FMTTYPE=image/webp:https://mainlineparent.com/wp-content/uploads/2025/09/exploringart-e1759256774616.webp
END:VEVENT
BEGIN:VEVENT
DTSTART;TZID=America/New_York:20251105T173000
DTEND;TZID=America/New_York:20251105T200000
DTSTAMP:20260421T061501
CREATED:20250930T182726Z
LAST-MODIFIED:20250930T182726Z
UID:10067180-1762363800-1762372800@mainlineparent.com
SUMMARY:Exploring Art for Ages 6-11 (drop-ins available)
DESCRIPTION:Each Wednesday through December 17\, students can join a weekly art class at the Rockdale Art Center. \n\n\n\n\n\n\n\n\n\n\n \n\n\n\n\n\n\n\nWith new projects each session\, this class is perfect for the growing artist to explore drawing\, painting\, collage\, sculpture & more while learning about different artists and art techniques. Students create a unique artwork every class on paper\, board\, canvas\, or even in air dry clay or other 3D materials. This course is for ages 5-10 years old\, please understand we cannot accept younger students. \nSometimes art-making can get messy\, so students should dress to create. \nChoose to pay per class\, month\, or for the full course! Choose what works best for your family from the drop down menu below: \n$420.00 for the 16 week course\, includes all supplies \nOR \n\n$135 for OCTOBER classes (5 classes)\n$108 for NOVEMBER classes (4 classes)\n$81 for DECEMBER classes (3 classes)\n\nOR pay $30 per class!
URL:https://mainlineparent.com/event/exploring-art-for-ages-6-11-drop-ins-available/2025-11-05/
LOCATION:Rockdale Art Center\, 799 Mount Rd\, Aston\, PA
CATEGORIES:Class or Workshop,Delaware County Events,Kid Event
ATTACH;FMTTYPE=image/webp:https://mainlineparent.com/wp-content/uploads/2025/09/exploringart-e1759256774616.webp
END:VEVENT
BEGIN:VEVENT
DTSTART;TZID=America/New_York:20251029T173000
DTEND;TZID=America/New_York:20251029T200000
DTSTAMP:20260421T061501
CREATED:20250930T182726Z
LAST-MODIFIED:20250930T182726Z
UID:10067179-1761759000-1761768000@mainlineparent.com
SUMMARY:Exploring Art for Ages 6-11 (drop-ins available)
DESCRIPTION:Each Wednesday through December 17\, students can join a weekly art class at the Rockdale Art Center. \n\n\n\n\n\n\n\n\n\n\n \n\n\n\n\n\n\n\nWith new projects each session\, this class is perfect for the growing artist to explore drawing\, painting\, collage\, sculpture & more while learning about different artists and art techniques. Students create a unique artwork every class on paper\, board\, canvas\, or even in air dry clay or other 3D materials. This course is for ages 5-10 years old\, please understand we cannot accept younger students. \nSometimes art-making can get messy\, so students should dress to create. \nChoose to pay per class\, month\, or for the full course! Choose what works best for your family from the drop down menu below: \n$420.00 for the 16 week course\, includes all supplies \nOR \n\n$135 for OCTOBER classes (5 classes)\n$108 for NOVEMBER classes (4 classes)\n$81 for DECEMBER classes (3 classes)\n\nOR pay $30 per class!
URL:https://mainlineparent.com/event/exploring-art-for-ages-6-11-drop-ins-available/2025-10-29/
LOCATION:Rockdale Art Center\, 799 Mount Rd\, Aston\, PA
CATEGORIES:Class or Workshop,Delaware County Events,Kid Event
ATTACH;FMTTYPE=image/webp:https://mainlineparent.com/wp-content/uploads/2025/09/exploringart-e1759256774616.webp
END:VEVENT
BEGIN:VEVENT
DTSTART;TZID=America/New_York:20251022T173000
DTEND;TZID=America/New_York:20251022T200000
DTSTAMP:20260421T061501
CREATED:20250930T182726Z
LAST-MODIFIED:20250930T182726Z
UID:10067178-1761154200-1761163200@mainlineparent.com
SUMMARY:Exploring Art for Ages 6-11 (drop-ins available)
DESCRIPTION:Each Wednesday through December 17\, students can join a weekly art class at the Rockdale Art Center. \n\n\n\n\n\n\n\n\n\n\n \n\n\n\n\n\n\n\nWith new projects each session\, this class is perfect for the growing artist to explore drawing\, painting\, collage\, sculpture & more while learning about different artists and art techniques. Students create a unique artwork every class on paper\, board\, canvas\, or even in air dry clay or other 3D materials. This course is for ages 5-10 years old\, please understand we cannot accept younger students. \nSometimes art-making can get messy\, so students should dress to create. \nChoose to pay per class\, month\, or for the full course! Choose what works best for your family from the drop down menu below: \n$420.00 for the 16 week course\, includes all supplies \nOR \n\n$135 for OCTOBER classes (5 classes)\n$108 for NOVEMBER classes (4 classes)\n$81 for DECEMBER classes (3 classes)\n\nOR pay $30 per class!
URL:https://mainlineparent.com/event/exploring-art-for-ages-6-11-drop-ins-available/2025-10-22/
LOCATION:Rockdale Art Center\, 799 Mount Rd\, Aston\, PA
CATEGORIES:Class or Workshop,Delaware County Events,Kid Event
ATTACH;FMTTYPE=image/webp:https://mainlineparent.com/wp-content/uploads/2025/09/exploringart-e1759256774616.webp
END:VEVENT
BEGIN:VEVENT
DTSTART;TZID=America/New_York:20251015T173000
DTEND;TZID=America/New_York:20251015T200000
DTSTAMP:20260421T061501
CREATED:20250930T182726Z
LAST-MODIFIED:20250930T182726Z
UID:10067177-1760549400-1760558400@mainlineparent.com
SUMMARY:Exploring Art for Ages 6-11 (drop-ins available)
DESCRIPTION:Each Wednesday through December 17\, students can join a weekly art class at the Rockdale Art Center. \n\n\n\n\n\n\n\n\n\n\n \n\n\n\n\n\n\n\nWith new projects each session\, this class is perfect for the growing artist to explore drawing\, painting\, collage\, sculpture & more while learning about different artists and art techniques. Students create a unique artwork every class on paper\, board\, canvas\, or even in air dry clay or other 3D materials. This course is for ages 5-10 years old\, please understand we cannot accept younger students. \nSometimes art-making can get messy\, so students should dress to create. \nChoose to pay per class\, month\, or for the full course! Choose what works best for your family from the drop down menu below: \n$420.00 for the 16 week course\, includes all supplies \nOR \n\n$135 for OCTOBER classes (5 classes)\n$108 for NOVEMBER classes (4 classes)\n$81 for DECEMBER classes (3 classes)\n\nOR pay $30 per class!
URL:https://mainlineparent.com/event/exploring-art-for-ages-6-11-drop-ins-available/2025-10-15/
LOCATION:Rockdale Art Center\, 799 Mount Rd\, Aston\, PA
CATEGORIES:Class or Workshop,Delaware County Events,Kid Event
ATTACH;FMTTYPE=image/webp:https://mainlineparent.com/wp-content/uploads/2025/09/exploringart-e1759256774616.webp
END:VEVENT
BEGIN:VEVENT
DTSTART;TZID=America/New_York:20251008T173000
DTEND;TZID=America/New_York:20251008T200000
DTSTAMP:20260421T061501
CREATED:20250930T182726Z
LAST-MODIFIED:20250930T182726Z
UID:10067176-1759944600-1759953600@mainlineparent.com
SUMMARY:Exploring Art for Ages 6-11 (drop-ins available)
DESCRIPTION:Each Wednesday through December 17\, students can join a weekly art class at the Rockdale Art Center. \n\n\n\n\n\n\n\n\n\n\n \n\n\n\n\n\n\n\nWith new projects each session\, this class is perfect for the growing artist to explore drawing\, painting\, collage\, sculpture & more while learning about different artists and art techniques. Students create a unique artwork every class on paper\, board\, canvas\, or even in air dry clay or other 3D materials. This course is for ages 5-10 years old\, please understand we cannot accept younger students. \nSometimes art-making can get messy\, so students should dress to create. \nChoose to pay per class\, month\, or for the full course! Choose what works best for your family from the drop down menu below: \n$420.00 for the 16 week course\, includes all supplies \nOR \n\n$135 for OCTOBER classes (5 classes)\n$108 for NOVEMBER classes (4 classes)\n$81 for DECEMBER classes (3 classes)\n\nOR pay $30 per class!
URL:https://mainlineparent.com/event/exploring-art-for-ages-6-11-drop-ins-available/2025-10-08/
LOCATION:Rockdale Art Center\, 799 Mount Rd\, Aston\, PA
CATEGORIES:Class or Workshop,Delaware County Events,Kid Event
ATTACH;FMTTYPE=image/webp:https://mainlineparent.com/wp-content/uploads/2025/09/exploringart-e1759256774616.webp
END:VEVENT
BEGIN:VEVENT
DTSTART;TZID=America/New_York:20251001T173000
DTEND;TZID=America/New_York:20251001T200000
DTSTAMP:20260421T061501
CREATED:20250930T182726Z
LAST-MODIFIED:20250930T182726Z
UID:10067175-1759339800-1759348800@mainlineparent.com
SUMMARY:Exploring Art for Ages 6-11 (drop-ins available)
DESCRIPTION:Each Wednesday through December 17\, students can join a weekly art class at the Rockdale Art Center. \n\n\n\n\n\n\n\n\n\n\n \n\n\n\n\n\n\n\nWith new projects each session\, this class is perfect for the growing artist to explore drawing\, painting\, collage\, sculpture & more while learning about different artists and art techniques. Students create a unique artwork every class on paper\, board\, canvas\, or even in air dry clay or other 3D materials. This course is for ages 5-10 years old\, please understand we cannot accept younger students. \nSometimes art-making can get messy\, so students should dress to create. \nChoose to pay per class\, month\, or for the full course! Choose what works best for your family from the drop down menu below: \n$420.00 for the 16 week course\, includes all supplies \nOR \n\n$135 for OCTOBER classes (5 classes)\n$108 for NOVEMBER classes (4 classes)\n$81 for DECEMBER classes (3 classes)\n\nOR pay $30 per class!
URL:https://mainlineparent.com/event/exploring-art-for-ages-6-11-drop-ins-available/2025-10-01/
LOCATION:Rockdale Art Center\, 799 Mount Rd\, Aston\, PA
CATEGORIES:Class or Workshop,Delaware County Events,Kid Event
ATTACH;FMTTYPE=image/webp:https://mainlineparent.com/wp-content/uploads/2025/09/exploringart-e1759256774616.webp
END:VEVENT
END:VCALENDAR