BEGIN:VCALENDAR
VERSION:2.0
PRODID:-//Main Line Parent - ECPv6.15.20//NONSGML v1.0//EN
CALSCALE:GREGORIAN
METHOD:PUBLISH
X-ORIGINAL-URL:https://mainlineparent.com
X-WR-CALDESC:Events for Main Line Parent
REFRESH-INTERVAL;VALUE=DURATION:PT1H
X-Robots-Tag:noindex
X-PUBLISHED-TTL:PT1H
BEGIN:VTIMEZONE
TZID:America/New_York
BEGIN:DAYLIGHT
TZOFFSETFROM:-0500
TZOFFSETTO:-0400
TZNAME:EDT
DTSTART:20250309T070000
END:DAYLIGHT
BEGIN:STANDARD
TZOFFSETFROM:-0400
TZOFFSETTO:-0500
TZNAME:EST
DTSTART:20251102T060000
END:STANDARD
BEGIN:DAYLIGHT
TZOFFSETFROM:-0500
TZOFFSETTO:-0400
TZNAME:EDT
DTSTART:20260308T070000
END:DAYLIGHT
BEGIN:STANDARD
TZOFFSETFROM:-0400
TZOFFSETTO:-0500
TZNAME:EST
DTSTART:20261101T060000
END:STANDARD
BEGIN:DAYLIGHT
TZOFFSETFROM:-0500
TZOFFSETTO:-0400
TZNAME:EDT
DTSTART:20270314T070000
END:DAYLIGHT
BEGIN:STANDARD
TZOFFSETFROM:-0400
TZOFFSETTO:-0500
TZNAME:EST
DTSTART:20271107T060000
END:STANDARD
END:VTIMEZONE
BEGIN:VEVENT
DTSTART;TZID=America/New_York:20260526T163000
DTEND;TZID=America/New_York:20260526T183000
DTSTAMP:20260425T235850
CREATED:20260420T164557Z
LAST-MODIFIED:20260420T164557Z
UID:10077791-1779813000-1779820200@mainlineparent.com
SUMMARY:Holy Rosary Regional Catholic School Open House
DESCRIPTION:Looking for a nurturing\, award-winning environment for your child? Join us at Holy Rosary Regional Catholic School’s Plymouth Meeting campus at our OPEN HOUSE scheduled for Tuesday\, May 26th from 4:30 PM-6:30PM. Holy Rosary is a 2026 Main Line Parent LOVE Award recipient for Excellence in Education serving students in Grades PK3-8th grade. Please RSVP to Kathy Wolper\, Enrollment Director at kwolper@holyrosaryregional.com or by phone at 610-825-0160 to secure your spot.
URL:https://mainlineparent.com/event/holy-rosary-regional-catholic-school-open-house/
LOCATION:Holy Rosary Regional Catholic School\, 3040 Walton Road\, Plymouth Meeting\, PA\, 19462\, United States
CATEGORIES:Community Event,Montgomery County Events,Open Houses and Admissions Events
ATTACH;FMTTYPE=image/jpeg:https://mainlineparent.com/wp-content/uploads/2026/04/holy-rosary-e1776703543146.jpg
END:VEVENT
END:VCALENDAR