BEGIN:VCALENDAR
VERSION:2.0
PRODID:-//Main Line Parent - ECPv6.15.20//NONSGML v1.0//EN
CALSCALE:GREGORIAN
METHOD:PUBLISH
X-ORIGINAL-URL:https://mainlineparent.com
X-WR-CALDESC:Events for Main Line Parent
REFRESH-INTERVAL;VALUE=DURATION:PT1H
X-Robots-Tag:noindex
X-PUBLISHED-TTL:PT1H
BEGIN:VTIMEZONE
TZID:America/New_York
BEGIN:DAYLIGHT
TZOFFSETFROM:-0500
TZOFFSETTO:-0400
TZNAME:EDT
DTSTART:20250309T070000
END:DAYLIGHT
BEGIN:STANDARD
TZOFFSETFROM:-0400
TZOFFSETTO:-0500
TZNAME:EST
DTSTART:20251102T060000
END:STANDARD
BEGIN:DAYLIGHT
TZOFFSETFROM:-0500
TZOFFSETTO:-0400
TZNAME:EDT
DTSTART:20260308T070000
END:DAYLIGHT
BEGIN:STANDARD
TZOFFSETFROM:-0400
TZOFFSETTO:-0500
TZNAME:EST
DTSTART:20261101T060000
END:STANDARD
BEGIN:DAYLIGHT
TZOFFSETFROM:-0500
TZOFFSETTO:-0400
TZNAME:EDT
DTSTART:20270314T070000
END:DAYLIGHT
BEGIN:STANDARD
TZOFFSETFROM:-0400
TZOFFSETTO:-0500
TZNAME:EST
DTSTART:20271107T060000
END:STANDARD
END:VTIMEZONE
BEGIN:VEVENT
DTSTART;TZID=America/New_York:20260214T110000
DTEND;TZID=America/New_York:20260214T130000
DTSTAMP:20260423T085658
CREATED:20250205T151934Z
LAST-MODIFIED:20260211T165459Z
UID:10054898-1771066800-1771074000@mainlineparent.com
SUMMARY:Live Music at Get Cafe
DESCRIPTION:Join Get Cafe for Live Music by Jann Glider – Original Music\, Bossa\, Blues\, and more. \nJann is a guitarist\, songwriter\, and composer who has built a repertoire of original songs and compositions as well as interpretations of popular songs drawn from Classic Rock (especially The Beatles)\, Folk Rock\, Blues\, and Bossa.
URL:https://mainlineparent.com/event/live-music/
LOCATION:GET Cafe\, 246 Haverford Ave\, Narberth\, PA\, 19072\, United States
CATEGORIES:Community Event,Musical Performance
ATTACH;FMTTYPE=image/jpeg:https://mainlineparent.com/wp-content/uploads/2025/02/Jann-glider-get-cafe.jpg
END:VEVENT
END:VCALENDAR