BEGIN:VCALENDAR
VERSION:2.0
PRODID:-//Main Line Parent - ECPv6.15.20//NONSGML v1.0//EN
CALSCALE:GREGORIAN
METHOD:PUBLISH
X-ORIGINAL-URL:https://mainlineparent.com
X-WR-CALDESC:Events for Main Line Parent
REFRESH-INTERVAL;VALUE=DURATION:PT1H
X-Robots-Tag:noindex
X-PUBLISHED-TTL:PT1H
BEGIN:VTIMEZONE
TZID:America/New_York
BEGIN:DAYLIGHT
TZOFFSETFROM:-0500
TZOFFSETTO:-0400
TZNAME:EDT
DTSTART:20250309T070000
END:DAYLIGHT
BEGIN:STANDARD
TZOFFSETFROM:-0400
TZOFFSETTO:-0500
TZNAME:EST
DTSTART:20251102T060000
END:STANDARD
BEGIN:DAYLIGHT
TZOFFSETFROM:-0500
TZOFFSETTO:-0400
TZNAME:EDT
DTSTART:20260308T070000
END:DAYLIGHT
BEGIN:STANDARD
TZOFFSETFROM:-0400
TZOFFSETTO:-0500
TZNAME:EST
DTSTART:20261101T060000
END:STANDARD
BEGIN:DAYLIGHT
TZOFFSETFROM:-0500
TZOFFSETTO:-0400
TZNAME:EDT
DTSTART:20270314T070000
END:DAYLIGHT
BEGIN:STANDARD
TZOFFSETFROM:-0400
TZOFFSETTO:-0500
TZNAME:EST
DTSTART:20271107T060000
END:STANDARD
END:VTIMEZONE
BEGIN:VEVENT
DTSTART;TZID=America/New_York:20260104T090000
DTEND;TZID=America/New_York:20260104T150000
DTSTAMP:20260425T234339
CREATED:20251215T165128Z
LAST-MODIFIED:20251215T165128Z
UID:10074307-1767517200-1767538800@mainlineparent.com
SUMMARY:Althouse Arboretum Christmas Tree Recycling
DESCRIPTION:Althouse Arboretum makes Christmas tree-cycling easy at their annual\, free drive-through Christmas Tree Recycling event. Just drive in with your Christmas tree and students will remove it from your car. Later in the year\, arboretum volunteers use the collected trees to make wood chips for the trails. There is no fee for drop-off\, but donations are accepted.Please remove all ornaments and stands. They also accept string lights for recycling!
URL:https://mainlineparent.com/event/althouse-arboretum-christmas-tree-recycling/2026-01-04/
LOCATION:Althouse Arboretum\, 1794 Gilbertsville Road\, Pottstown\, PA\, 19464
CATEGORIES:Community Event
ATTACH;FMTTYPE=image/png:https://mainlineparent.com/wp-content/uploads/2025/12/althouse-tree-recycling-e1765817452482.png
END:VEVENT
BEGIN:VEVENT
DTSTART;TZID=America/New_York:20260103T090000
DTEND;TZID=America/New_York:20260103T150000
DTSTAMP:20260425T234339
CREATED:20251215T165128Z
LAST-MODIFIED:20251215T165128Z
UID:10074306-1767430800-1767452400@mainlineparent.com
SUMMARY:Althouse Arboretum Christmas Tree Recycling
DESCRIPTION:Althouse Arboretum makes Christmas tree-cycling easy at their annual\, free drive-through Christmas Tree Recycling event. Just drive in with your Christmas tree and students will remove it from your car. Later in the year\, arboretum volunteers use the collected trees to make wood chips for the trails. There is no fee for drop-off\, but donations are accepted.Please remove all ornaments and stands. They also accept string lights for recycling!
URL:https://mainlineparent.com/event/althouse-arboretum-christmas-tree-recycling/2026-01-03/
LOCATION:Althouse Arboretum\, 1794 Gilbertsville Road\, Pottstown\, PA\, 19464
CATEGORIES:Community Event
ATTACH;FMTTYPE=image/png:https://mainlineparent.com/wp-content/uploads/2025/12/althouse-tree-recycling-e1765817452482.png
END:VEVENT
END:VCALENDAR