BEGIN:VCALENDAR
VERSION:2.0
PRODID:-//Main Line Parent - ECPv6.15.20//NONSGML v1.0//EN
CALSCALE:GREGORIAN
METHOD:PUBLISH
X-WR-CALNAME:Main Line Parent
X-ORIGINAL-URL:https://mainlineparent.com
X-WR-CALDESC:Events for Main Line Parent
REFRESH-INTERVAL;VALUE=DURATION:PT1H
X-Robots-Tag:noindex
X-PUBLISHED-TTL:PT1H
BEGIN:VTIMEZONE
TZID:America/New_York
BEGIN:DAYLIGHT
TZOFFSETFROM:-0500
TZOFFSETTO:-0400
TZNAME:EDT
DTSTART:20240310T070000
END:DAYLIGHT
BEGIN:STANDARD
TZOFFSETFROM:-0400
TZOFFSETTO:-0500
TZNAME:EST
DTSTART:20241103T060000
END:STANDARD
BEGIN:DAYLIGHT
TZOFFSETFROM:-0500
TZOFFSETTO:-0400
TZNAME:EDT
DTSTART:20250309T070000
END:DAYLIGHT
BEGIN:STANDARD
TZOFFSETFROM:-0400
TZOFFSETTO:-0500
TZNAME:EST
DTSTART:20251102T060000
END:STANDARD
BEGIN:DAYLIGHT
TZOFFSETFROM:-0500
TZOFFSETTO:-0400
TZNAME:EDT
DTSTART:20260308T070000
END:DAYLIGHT
BEGIN:STANDARD
TZOFFSETFROM:-0400
TZOFFSETTO:-0500
TZNAME:EST
DTSTART:20261101T060000
END:STANDARD
BEGIN:DAYLIGHT
TZOFFSETFROM:-0500
TZOFFSETTO:-0400
TZNAME:EDT
DTSTART:20270314T070000
END:DAYLIGHT
BEGIN:STANDARD
TZOFFSETFROM:-0400
TZOFFSETTO:-0500
TZNAME:EST
DTSTART:20271107T060000
END:STANDARD
END:VTIMEZONE
BEGIN:VEVENT
DTSTART;TZID=America/New_York:20260329T140000
DTEND;TZID=America/New_York:20260329T160000
DTSTAMP:20260424T071737
CREATED:20260328T160325Z
LAST-MODIFIED:20260328T160325Z
UID:10077706-1774792800-1774800000@mainlineparent.com
SUMMARY:Shrek Jr. by CCC Shines
DESCRIPTION:Over 200+ students have come together for this production of Shrek Jr.\, learning teamwork\, building confidence\, and forming friendships that extend far beyond the stage. \nJoin CCC Shines for this hilarious production at Cardinal O’Hara High School. Purchase tickets here.
URL:https://mainlineparent.com/event/shrek-jr-by-ccc-shines/2026-03-29/
LOCATION:Cardinal O’Hara High School\, 1701 S. Sproul Road\, Springfield\, PA\, 19064
CATEGORIES:Community Event,For The Whole Family,Theatre Performances
ATTACH;FMTTYPE=image/jpeg:https://mainlineparent.com/wp-content/uploads/2026/03/CCC-Shrek-Jr.jpg
END:VEVENT
BEGIN:VEVENT
DTSTART;TZID=America/New_York:20260328T140000
DTEND;TZID=America/New_York:20260328T160000
DTSTAMP:20260424T071737
CREATED:20260328T160325Z
LAST-MODIFIED:20260328T160325Z
UID:10077705-1774706400-1774713600@mainlineparent.com
SUMMARY:Shrek Jr. by CCC Shines
DESCRIPTION:Over 200+ students have come together for this production of Shrek Jr.\, learning teamwork\, building confidence\, and forming friendships that extend far beyond the stage. \nJoin CCC Shines for this hilarious production at Cardinal O’Hara High School. Purchase tickets here.
URL:https://mainlineparent.com/event/shrek-jr-by-ccc-shines/2026-03-28/
LOCATION:Cardinal O’Hara High School\, 1701 S. Sproul Road\, Springfield\, PA\, 19064
CATEGORIES:Community Event,For The Whole Family,Theatre Performances
ATTACH;FMTTYPE=image/jpeg:https://mainlineparent.com/wp-content/uploads/2026/03/CCC-Shrek-Jr.jpg
END:VEVENT
BEGIN:VEVENT
DTSTART;TZID=America/New_York:20251221T193000
DTEND;TZID=America/New_York:20251221T210000
DTSTAMP:20260424T071737
CREATED:20241219T200822Z
LAST-MODIFIED:20251013T205348Z
UID:10069231-1766345400-1766350800@mainlineparent.com
SUMMARY:Shooting Stars Holiday Spectacular
DESCRIPTION:The Upper Darby Summer Stage Shooting Stars are set to bring holiday cheer with their annual Holiday Spectacular\, a fun-filled performance showcasing talented students from 18 local high schools. Audiences of all ages will enjoy festive songs and dazzling choreography designed to capture the magic of the season. \nExpect a 90-minute show packed with Broadway-style numbers set against a holiday wonderland. Mark your calendars and secure your seats to be part of this perennial fan favorite! Doors will open one (1) hour prior to the start of the show. Please plan to arrive at least 15 minutes prior to show time to be seated in a timely manner. \nPurchase tickets before December 1st to enjoy $5 off per ticket. Purchase the WEEKEND BUNDLE to take an extra 10% off! \nFree parking and wheelchair access are available. \nThe Shooting Stars are presented by the Upper Darby Arts & Education Foundation. This all-star group represent Upper Darby Summer Stage as year-round community ambassadors\, sharing their talents and inspiring audiences across the region through the joy of music & movement. \nTickets range from $12 to $18.
URL:https://mainlineparent.com/event/shooting-stars-holiday-spectacular/2025-12-21/
LOCATION:Monsignor Bonner & Archbishop Prendergast Catholic High School\, 403 N. Lansdowne Ave.\, Drexel Hill\, PA\, 19026\, United States
CATEGORIES:Christmas Events,Delaware County Events,Family Event,Musical Performance
ATTACH;FMTTYPE=image/webp:https://mainlineparent.com/wp-content/uploads/2024/12/Shooting-Stars-2019-Holiday-1.webp
ORGANIZER;CN="Upper Darby Summer Stage":MAILTO:admin@udfoundation.org
END:VEVENT
BEGIN:VEVENT
DTSTART;TZID=America/New_York:20251220T193000
DTEND;TZID=America/New_York:20251220T210000
DTSTAMP:20260424T071737
CREATED:20241219T200822Z
LAST-MODIFIED:20251013T205348Z
UID:10069230-1766259000-1766264400@mainlineparent.com
SUMMARY:Shooting Stars Holiday Spectacular
DESCRIPTION:The Upper Darby Summer Stage Shooting Stars are set to bring holiday cheer with their annual Holiday Spectacular\, a fun-filled performance showcasing talented students from 18 local high schools. Audiences of all ages will enjoy festive songs and dazzling choreography designed to capture the magic of the season. \nExpect a 90-minute show packed with Broadway-style numbers set against a holiday wonderland. Mark your calendars and secure your seats to be part of this perennial fan favorite! Doors will open one (1) hour prior to the start of the show. Please plan to arrive at least 15 minutes prior to show time to be seated in a timely manner. \nPurchase tickets before December 1st to enjoy $5 off per ticket. Purchase the WEEKEND BUNDLE to take an extra 10% off! \nFree parking and wheelchair access are available. \nThe Shooting Stars are presented by the Upper Darby Arts & Education Foundation. This all-star group represent Upper Darby Summer Stage as year-round community ambassadors\, sharing their talents and inspiring audiences across the region through the joy of music & movement. \nTickets range from $12 to $18.
URL:https://mainlineparent.com/event/shooting-stars-holiday-spectacular/2025-12-20/
LOCATION:Monsignor Bonner & Archbishop Prendergast Catholic High School\, 403 N. Lansdowne Ave.\, Drexel Hill\, PA\, 19026\, United States
CATEGORIES:Christmas Events,Delaware County Events,Family Event,Musical Performance
ATTACH;FMTTYPE=image/webp:https://mainlineparent.com/wp-content/uploads/2024/12/Shooting-Stars-2019-Holiday-1.webp
ORGANIZER;CN="Upper Darby Summer Stage":MAILTO:admin@udfoundation.org
END:VEVENT
BEGIN:VEVENT
DTSTART;TZID=America/New_York:20251211T190000
DTEND;TZID=America/New_York:20251211T200000
DTSTAMP:20260424T071737
CREATED:20251210T040845Z
LAST-MODIFIED:20251210T040845Z
UID:10070560-1765479600-1765483200@mainlineparent.com
SUMMARY:Advent Lessons and Carols
DESCRIPTION:Join the students of Martin Saints Classical High School for an evening of Advent Lessons and Carols.
URL:https://mainlineparent.com/event/advent-lessons-and-carols/
LOCATION:Martin Saints Classical High School\, 3000 Keenwood Road\, E. Norriston\, PA
CATEGORIES:Christmas Events,Family Event,Montgomery County Events,Musical Performance
ATTACH;FMTTYPE=image/png:https://mainlineparent.com/wp-content/uploads/2025/12/IMG_5647-e1765339702452.png
END:VEVENT
BEGIN:VEVENT
DTSTART;TZID=America/New_York:20251205T173000
DTEND;TZID=America/New_York:20251205T203000
DTSTAMP:20260424T071737
CREATED:20250728T125001Z
LAST-MODIFIED:20250728T125001Z
UID:10060919-1764955800-1764966600@mainlineparent.com
SUMMARY:Parents Night Out at My Gym Springfield
DESCRIPTION:My Gym Springfield offers a fun and active Parents Night Out on the first Friday of every month. These 3-hour drop off events are for kids ages 4 to 10 years old and include a pizza dinner. \nFrom 5:30-8:30 pm\, children will play organized games and engage in skills-based activities like obstacle courses\, gymnastics circuits\, balancing and climbing activities\, and games like floor is lava\, the museum game\, & king of the hot dog with experienced My Gym teachers to guide them. \nEach month brings a new theme. \n\nAug 1st: End of Summer Luau\nSept 5th: Superheroes\nOct 3rd: Glow in the Dark\nNov 7th: Philly Sports\nDec 5th: Polar Express\n\nPrice: $60 per child / 20% off for siblings
URL:https://mainlineparent.com/event/parents-night-out-at-my-gym-springfield/2025-12-05/
LOCATION:My Gym Children’s Fitness Center\, 1001 Baltimore Pike\, lower level\, Springfield\, PA\, 19064\, United States
CATEGORIES:Delaware County Events,Kid Event,Parent Event
ATTACH;FMTTYPE=image/png:https://mainlineparent.com/wp-content/uploads/2025/07/Social-Post-PNO-3-1080x1080-1024x1024-1.png
END:VEVENT
BEGIN:VEVENT
DTSTART;TZID=America/New_York:20251107T173000
DTEND;TZID=America/New_York:20251107T203000
DTSTAMP:20260424T071737
CREATED:20250728T125001Z
LAST-MODIFIED:20250728T125001Z
UID:10060918-1762536600-1762547400@mainlineparent.com
SUMMARY:Parents Night Out at My Gym Springfield
DESCRIPTION:My Gym Springfield offers a fun and active Parents Night Out on the first Friday of every month. These 3-hour drop off events are for kids ages 4 to 10 years old and include a pizza dinner. \nFrom 5:30-8:30 pm\, children will play organized games and engage in skills-based activities like obstacle courses\, gymnastics circuits\, balancing and climbing activities\, and games like floor is lava\, the museum game\, & king of the hot dog with experienced My Gym teachers to guide them. \nEach month brings a new theme. \n\nAug 1st: End of Summer Luau\nSept 5th: Superheroes\nOct 3rd: Glow in the Dark\nNov 7th: Philly Sports\nDec 5th: Polar Express\n\nPrice: $60 per child / 20% off for siblings
URL:https://mainlineparent.com/event/parents-night-out-at-my-gym-springfield/2025-11-07/
LOCATION:My Gym Children’s Fitness Center\, 1001 Baltimore Pike\, lower level\, Springfield\, PA\, 19064\, United States
CATEGORIES:Delaware County Events,Kid Event,Parent Event
ATTACH;FMTTYPE=image/png:https://mainlineparent.com/wp-content/uploads/2025/07/Social-Post-PNO-3-1080x1080-1024x1024-1.png
END:VEVENT
BEGIN:VEVENT
DTSTART;TZID=America/New_York:20251013T160000
DTEND;TZID=America/New_York:20251013T164500
DTSTAMP:20260424T071737
CREATED:20250926T202729Z
LAST-MODIFIED:20250926T202729Z
UID:10067129-1760371200-1760373900@mainlineparent.com
SUMMARY:STEM/STEAM Story Time at Springfield Library
DESCRIPTION:Children ages 5 to 11 are invited to come listen to a story or two and use their creativity and critical thinking skills to complete a story time design challenge at the Springfield Township Library. \nThese challenges will reflect a different science or art theme each week. It is important to register so that the appropriate amount of materials are available.
URL:https://mainlineparent.com/event/stem-steam-story-time-at-springfield-library/2025-10-13/
LOCATION:Springfield Township Library\, 70 Powell Road\, Springfield\, PA\, 19064
CATEGORIES:At the Library,Delaware County Events,Family Event,Free
ATTACH;FMTTYPE=image/png:https://mainlineparent.com/wp-content/uploads/2025/09/Stem-storytime.png
END:VEVENT
BEGIN:VEVENT
DTSTART;TZID=America/New_York:20251006T160000
DTEND;TZID=America/New_York:20251006T164500
DTSTAMP:20260424T071737
CREATED:20250926T202729Z
LAST-MODIFIED:20250926T202729Z
UID:10067128-1759766400-1759769100@mainlineparent.com
SUMMARY:STEM/STEAM Story Time at Springfield Library
DESCRIPTION:Children ages 5 to 11 are invited to come listen to a story or two and use their creativity and critical thinking skills to complete a story time design challenge at the Springfield Township Library. \nThese challenges will reflect a different science or art theme each week. It is important to register so that the appropriate amount of materials are available.
URL:https://mainlineparent.com/event/stem-steam-story-time-at-springfield-library/2025-10-06/
LOCATION:Springfield Township Library\, 70 Powell Road\, Springfield\, PA\, 19064
CATEGORIES:At the Library,Delaware County Events,Family Event,Free
ATTACH;FMTTYPE=image/png:https://mainlineparent.com/wp-content/uploads/2025/09/Stem-storytime.png
END:VEVENT
BEGIN:VEVENT
DTSTART;TZID=America/New_York:20251003T173000
DTEND;TZID=America/New_York:20251003T203000
DTSTAMP:20260424T071737
CREATED:20250728T125001Z
LAST-MODIFIED:20250728T125001Z
UID:10060917-1759512600-1759523400@mainlineparent.com
SUMMARY:Parents Night Out at My Gym Springfield
DESCRIPTION:My Gym Springfield offers a fun and active Parents Night Out on the first Friday of every month. These 3-hour drop off events are for kids ages 4 to 10 years old and include a pizza dinner. \nFrom 5:30-8:30 pm\, children will play organized games and engage in skills-based activities like obstacle courses\, gymnastics circuits\, balancing and climbing activities\, and games like floor is lava\, the museum game\, & king of the hot dog with experienced My Gym teachers to guide them. \nEach month brings a new theme. \n\nAug 1st: End of Summer Luau\nSept 5th: Superheroes\nOct 3rd: Glow in the Dark\nNov 7th: Philly Sports\nDec 5th: Polar Express\n\nPrice: $60 per child / 20% off for siblings
URL:https://mainlineparent.com/event/parents-night-out-at-my-gym-springfield/2025-10-03/
LOCATION:My Gym Children’s Fitness Center\, 1001 Baltimore Pike\, lower level\, Springfield\, PA\, 19064\, United States
CATEGORIES:Delaware County Events,Kid Event,Parent Event
ATTACH;FMTTYPE=image/png:https://mainlineparent.com/wp-content/uploads/2025/07/Social-Post-PNO-3-1080x1080-1024x1024-1.png
END:VEVENT
BEGIN:VEVENT
DTSTART;TZID=America/New_York:20250929T160000
DTEND;TZID=America/New_York:20250929T164500
DTSTAMP:20260424T071737
CREATED:20250926T202729Z
LAST-MODIFIED:20250926T202729Z
UID:10067127-1759161600-1759164300@mainlineparent.com
SUMMARY:STEM/STEAM Story Time at Springfield Library
DESCRIPTION:Children ages 5 to 11 are invited to come listen to a story or two and use their creativity and critical thinking skills to complete a story time design challenge at the Springfield Township Library. \nThese challenges will reflect a different science or art theme each week. It is important to register so that the appropriate amount of materials are available.
URL:https://mainlineparent.com/event/stem-steam-story-time-at-springfield-library/2025-09-29/
LOCATION:Springfield Township Library\, 70 Powell Road\, Springfield\, PA\, 19064
CATEGORIES:At the Library,Delaware County Events,Family Event,Free
ATTACH;FMTTYPE=image/png:https://mainlineparent.com/wp-content/uploads/2025/09/Stem-storytime.png
END:VEVENT
BEGIN:VEVENT
DTSTART;TZID=America/New_York:20250905T173000
DTEND;TZID=America/New_York:20250905T203000
DTSTAMP:20260424T071737
CREATED:20250728T125001Z
LAST-MODIFIED:20250728T125001Z
UID:10060916-1757093400-1757104200@mainlineparent.com
SUMMARY:Parents Night Out at My Gym Springfield
DESCRIPTION:My Gym Springfield offers a fun and active Parents Night Out on the first Friday of every month. These 3-hour drop off events are for kids ages 4 to 10 years old and include a pizza dinner. \nFrom 5:30-8:30 pm\, children will play organized games and engage in skills-based activities like obstacle courses\, gymnastics circuits\, balancing and climbing activities\, and games like floor is lava\, the museum game\, & king of the hot dog with experienced My Gym teachers to guide them. \nEach month brings a new theme. \n\nAug 1st: End of Summer Luau\nSept 5th: Superheroes\nOct 3rd: Glow in the Dark\nNov 7th: Philly Sports\nDec 5th: Polar Express\n\nPrice: $60 per child / 20% off for siblings
URL:https://mainlineparent.com/event/parents-night-out-at-my-gym-springfield/2025-09-05/
LOCATION:My Gym Children’s Fitness Center\, 1001 Baltimore Pike\, lower level\, Springfield\, PA\, 19064\, United States
CATEGORIES:Delaware County Events,Kid Event,Parent Event
ATTACH;FMTTYPE=image/png:https://mainlineparent.com/wp-content/uploads/2025/07/Social-Post-PNO-3-1080x1080-1024x1024-1.png
END:VEVENT
END:VCALENDAR