BEGIN:VCALENDAR
VERSION:2.0
PRODID:-//Main Line Parent - ECPv6.15.20//NONSGML v1.0//EN
CALSCALE:GREGORIAN
METHOD:PUBLISH
X-ORIGINAL-URL:https://mainlineparent.com
X-WR-CALDESC:Events for Main Line Parent
REFRESH-INTERVAL;VALUE=DURATION:PT1H
X-Robots-Tag:noindex
X-PUBLISHED-TTL:PT1H
BEGIN:VTIMEZONE
TZID:America/New_York
BEGIN:DAYLIGHT
TZOFFSETFROM:-0500
TZOFFSETTO:-0400
TZNAME:EDT
DTSTART:20250309T070000
END:DAYLIGHT
BEGIN:STANDARD
TZOFFSETFROM:-0400
TZOFFSETTO:-0500
TZNAME:EST
DTSTART:20251102T060000
END:STANDARD
BEGIN:DAYLIGHT
TZOFFSETFROM:-0500
TZOFFSETTO:-0400
TZNAME:EDT
DTSTART:20260308T070000
END:DAYLIGHT
BEGIN:STANDARD
TZOFFSETFROM:-0400
TZOFFSETTO:-0500
TZNAME:EST
DTSTART:20261101T060000
END:STANDARD
BEGIN:DAYLIGHT
TZOFFSETFROM:-0500
TZOFFSETTO:-0400
TZNAME:EDT
DTSTART:20270314T070000
END:DAYLIGHT
BEGIN:STANDARD
TZOFFSETFROM:-0400
TZOFFSETTO:-0500
TZNAME:EST
DTSTART:20271107T060000
END:STANDARD
END:VTIMEZONE
BEGIN:VEVENT
DTSTART;TZID=America/New_York:20260124T110000
DTEND;TZID=America/New_York:20260124T150000
DTSTAMP:20260425T154931
CREATED:20251217T145805Z
LAST-MODIFIED:20251217T145805Z
UID:10074333-1769252400-1769266800@mainlineparent.com
SUMMARY:The Philly Goat Project 2026 Tree-Cycle Festival
DESCRIPTION:Join a Festival of community and sustainability this January. For a $20 (requested) donation\, recycle your holiday tree the green way. Please check that all decorations are removed before donating your tree.​ These donations support Philly Goat Project’s free year-round programming. \nTree Drop-Off Options for Awbury Arboretum include:​ \n\nExpress Curbside Drop-Off: Quick tree drop at 6336 Ardleigh Street entrance.\n”G.O.A.T. Safari”: Drive through the farm to drop off your tree. Enter at 6336 Ardleigh Street entrance.\nPark and Drag: Park along Washington Lane and bring your tree in yourself!\n\nAttendees do not need to bring a tree to enter the festival. It is free to enter and guests can enjoy an afternoon packed with activities including: \n\n\n\n\n\n\n\nExploring the farm\nWarming up with free s’mores and hot cocoa\nEnjoying farm Olympics (Awbury only): Kids can participate in fun games\nVisiting the goat Petting Zone\nPhilly Goat Project Swag Table\n\n\n\n\n\n\n\nThere will also be a Quiet Visiting Area\, a calm space for guests with special needs.
URL:https://mainlineparent.com/event/the-philly-goat-project-2026-tree-cycle-festival/2026-01-24/
LOCATION:The Farm at Awbury Arboretum\, 6336 Ardleigh Street\, Philadelphia\, PA\, 19138
CATEGORIES:Community Event,Family Event,Philadelphia Events
ATTACH;FMTTYPE=image/avif:https://mainlineparent.com/wp-content/uploads/2025/12/Christmas-tree-goats-e1765983265207.avif
END:VEVENT
END:VCALENDAR