BEGIN:VCALENDAR
VERSION:2.0
PRODID:-//Main Line Parent - ECPv6.15.20//NONSGML v1.0//EN
CALSCALE:GREGORIAN
METHOD:PUBLISH
X-WR-CALNAME:Main Line Parent
X-ORIGINAL-URL:https://mainlineparent.com
X-WR-CALDESC:Events for Main Line Parent
REFRESH-INTERVAL;VALUE=DURATION:PT1H
X-Robots-Tag:noindex
X-PUBLISHED-TTL:PT1H
BEGIN:VTIMEZONE
TZID:America/New_York
BEGIN:DAYLIGHT
TZOFFSETFROM:-0500
TZOFFSETTO:-0400
TZNAME:EDT
DTSTART:20240310T070000
END:DAYLIGHT
BEGIN:STANDARD
TZOFFSETFROM:-0400
TZOFFSETTO:-0500
TZNAME:EST
DTSTART:20241103T060000
END:STANDARD
BEGIN:DAYLIGHT
TZOFFSETFROM:-0500
TZOFFSETTO:-0400
TZNAME:EDT
DTSTART:20250309T070000
END:DAYLIGHT
BEGIN:STANDARD
TZOFFSETFROM:-0400
TZOFFSETTO:-0500
TZNAME:EST
DTSTART:20251102T060000
END:STANDARD
BEGIN:DAYLIGHT
TZOFFSETFROM:-0500
TZOFFSETTO:-0400
TZNAME:EDT
DTSTART:20260308T070000
END:DAYLIGHT
BEGIN:STANDARD
TZOFFSETFROM:-0400
TZOFFSETTO:-0500
TZNAME:EST
DTSTART:20261101T060000
END:STANDARD
END:VTIMEZONE
BEGIN:VEVENT
DTSTART;TZID=America/New_York:20251230T100000
DTEND;TZID=America/New_York:20251230T160000
DTSTAMP:20260425T154808
CREATED:20241107T180126Z
LAST-MODIFIED:20251117T145158Z
UID:10070437-1767088800-1767110400@mainlineparent.com
SUMMARY:Morris Arboretum & Gardens: Holiday Garden Railway and Nighttime Express Experience
DESCRIPTION:Make your holiday even more magical with a visit to the Holiday Garden Railway\, as it is transformed for the seasons with thousands of twinkling lights! \nSee the enchanting model train rail cars in a festive wonderland of lights and sounds\, a marvelous experience for visitors of all ages! Open daily November 22 to December 30 (closed Dec. 24 and 25)\, and it’s free with general admission. \nNEW THIS YEAR: A 60-foot Holiday Tunnel illuminated with thousands of twinkling lights! The inaugural lighting of the Holiday Tunnel of Lights will be on Saturday\, November 29\, marking the first night of HGR: Nighttime Express. \nHGR Nighttime Express: See the Holiday Garden Railway at night for an even more spectacular experience! With laser lights in the trees and sparkling lights along the railway\, HGR: Nighttime Express is a must-see. Available only with advance tickets. \nHGR: Nighttime Express Dates\nNovember 29\, 30\nDecember 6\, 7\, 11\, 12\, 13\, 14\, 18\, 19\, 20\, 21\n4:30 – 8 pm \nHGR: Nighttime Express Pricing\nMember Adult: $17\nNon-member Adult: $22\nMember Youth: $10\nNon-member Youth: $12\nAges 3 and Under: FREE
URL:https://mainlineparent.com/event/morris-arboretum-gardens-holiday-garden-railway/2025-12-30/
LOCATION:Morris Arboretum & Gardens\, 100 E. Northwestern Avenue\, Philadelphia\, 19118\, United States
CATEGORIES:Christmas Events,Family Event,Holiday Lights,Kid Event,Philadelphia Events
ATTACH;FMTTYPE=image/jpeg:https://mainlineparent.com/wp-content/uploads/2024/11/Best-RCP_201219_4361_resized.jpg
END:VEVENT
BEGIN:VEVENT
DTSTART;TZID=America/New_York:20251230T120000
DTEND;TZID=America/New_York:20251230T140000
DTSTAMP:20260425T154808
CREATED:20250921T192340Z
LAST-MODIFIED:20250921T192340Z
UID:10063295-1767096000-1767103200@mainlineparent.com
SUMMARY:The Philadelphia Ballet presents The Nutcracker
DESCRIPTION:Treat your family to the memorable experience of George Balanchine’s The Nutcracker®\, a must-see holiday classic! The holiday season comes to the stage in the Philadelphia Ballet’s annual performance\, a tradition unlike any other. Cross swords with the Mouse King and dine with the Sugarplum Fairy in this quintessential celebration of the holidays\, all set to the beautiful\, eternal Tchaikovsky score.
URL:https://mainlineparent.com/event/the-philadelphia-ballet-presents-the-nutcracker/2025-12-30/
LOCATION:Academy of Music\, 240 S Broad St\, Philadelphia\, PA\, 19102\, United States
CATEGORIES:Christmas Events,Family Event,Nutcracker Performances,Philadelphia Events,Theatre Performances
ATTACH;FMTTYPE=image/jpeg:https://mainlineparent.com/wp-content/uploads/2025/09/nutcracker-philly-ballet-e1758482607504.jpg
END:VEVENT
BEGIN:VEVENT
DTSTART;TZID=America/New_York:20251230T120000
DTEND;TZID=America/New_York:20251230T200000
DTSTAMP:20260425T154808
CREATED:20251103T213608Z
LAST-MODIFIED:20251103T224530Z
UID:10069827-1767096000-1767124800@mainlineparent.com
SUMMARY:Made in Philadelphia Holiday Market
DESCRIPTION:It’s the most wonderful time of the year – celebrate the holiday season with local vendors from Philadelphia and the tri-state area! \nThe Made in Philadelphia Holiday Market will return to Dilworth Park in 2025 from November 14\, 2025 through January 1\, 2026\, and will once again transform the West side of historic City Hall into an extravagant winter wonderland! Following past tradition\, this year’s Holiday Market will again feature a large variety of local artisans\, designers\, crafters and jewelers offering their unique\, holiday-inspired handmade goods and gifts. There truly is no better place to experience Philadelphia’s pride for locally made arts and crafts than the Made in Philadelphia Holiday Market! \nAdmission to the Made in Philadelphia Holiday Market is FREE! \nPlease note: weekday visits during the 2025 season are strongly encouraged! Beat the weekend crowds and shop\, eat and be merry in a relaxed chrisstmassy atmosphere
URL:https://mainlineparent.com/event/made-in-philadelphia-holiday-market/2025-12-30/
LOCATION:Dilworth Park\, 1 South 15th Streeet\, Philadelphia\, PA\, 19102
CATEGORIES:Christmas Events,Holiday Craft Markets,Philadelphia Events
ATTACH;FMTTYPE=image/jpeg:https://mainlineparent.com/wp-content/uploads/2025/11/Made-in_PHL-holiday.jpg
END:VEVENT
END:VCALENDAR