BEGIN:VCALENDAR
VERSION:2.0
PRODID:-//Main Line Parent - ECPv6.15.20//NONSGML v1.0//EN
CALSCALE:GREGORIAN
METHOD:PUBLISH
X-ORIGINAL-URL:https://mainlineparent.com
X-WR-CALDESC:Events for Main Line Parent
REFRESH-INTERVAL;VALUE=DURATION:PT1H
X-Robots-Tag:noindex
X-PUBLISHED-TTL:PT1H
BEGIN:VTIMEZONE
TZID:America/New_York
BEGIN:DAYLIGHT
TZOFFSETFROM:-0500
TZOFFSETTO:-0400
TZNAME:EDT
DTSTART:20250309T070000
END:DAYLIGHT
BEGIN:STANDARD
TZOFFSETFROM:-0400
TZOFFSETTO:-0500
TZNAME:EST
DTSTART:20251102T060000
END:STANDARD
BEGIN:DAYLIGHT
TZOFFSETFROM:-0500
TZOFFSETTO:-0400
TZNAME:EDT
DTSTART:20260308T070000
END:DAYLIGHT
BEGIN:STANDARD
TZOFFSETFROM:-0400
TZOFFSETTO:-0500
TZNAME:EST
DTSTART:20261101T060000
END:STANDARD
BEGIN:DAYLIGHT
TZOFFSETFROM:-0500
TZOFFSETTO:-0400
TZNAME:EDT
DTSTART:20270314T070000
END:DAYLIGHT
BEGIN:STANDARD
TZOFFSETFROM:-0400
TZOFFSETTO:-0500
TZNAME:EST
DTSTART:20271107T060000
END:STANDARD
END:VTIMEZONE
BEGIN:VEVENT
DTSTART;TZID=America/New_York:20260101T090000
DTEND;TZID=America/New_York:20260101T180000
DTSTAMP:20260425T154818
CREATED:20251206T180458Z
LAST-MODIFIED:20251207T212844Z
UID:10053164-1767258000-1767290400@mainlineparent.com
SUMMARY:Philadelphia Mummers Day Parade
DESCRIPTION:It wouldn’t be New Years in Philly without the Mummers Day Parade\, one of city’s favorite traditions. The iconic show of music\, colors\, and elaborate costumes is always a fun time for the entire family. \n\n\n\nBeginning at 9 am\, the Mummers will strut from City Hall\, south down Broad Street all day long\, so you are sure to see a great show no matter what time you arrive. The parade is free to attend\, but if you prefer bleacher seating\, you can purchase tickets and pick them up at the Independence Visitor Center before the show. \n\n\n\nIn addition to the outdoor parade\, the Fancy Brigades will put on two Broadway-style performances at the Philadelphia Convention Center for ticket holders. The indoor shows are at 11:30 am and 5:00 pm\, so you can choose which works best for your family!
URL:https://mainlineparent.com/event/philadelphia-mummers-day-parade/
LOCATION:City Hall Philadelphia\, 1400 John F Kennedy Blvd. (and Broad)\, Philadelphia\, PA\, 19107
CATEGORIES:New Year's Eve
ATTACH;FMTTYPE=image/jpeg:https://mainlineparent.com/wp-content/uploads/2024/12/mummersparade2017_Jfusco.jpg
END:VEVENT
BEGIN:VEVENT
DTSTART;TZID=America/New_York:20260101T120000
DTEND;TZID=America/New_York:20260101T200000
DTSTAMP:20260425T154818
CREATED:20251103T213608Z
LAST-MODIFIED:20251103T224530Z
UID:10069829-1767268800-1767297600@mainlineparent.com
SUMMARY:Made in Philadelphia Holiday Market
DESCRIPTION:It’s the most wonderful time of the year – celebrate the holiday season with local vendors from Philadelphia and the tri-state area! \nThe Made in Philadelphia Holiday Market will return to Dilworth Park in 2025 from November 14\, 2025 through January 1\, 2026\, and will once again transform the West side of historic City Hall into an extravagant winter wonderland! Following past tradition\, this year’s Holiday Market will again feature a large variety of local artisans\, designers\, crafters and jewelers offering their unique\, holiday-inspired handmade goods and gifts. There truly is no better place to experience Philadelphia’s pride for locally made arts and crafts than the Made in Philadelphia Holiday Market! \nAdmission to the Made in Philadelphia Holiday Market is FREE! \nPlease note: weekday visits during the 2025 season are strongly encouraged! Beat the weekend crowds and shop\, eat and be merry in a relaxed chrisstmassy atmosphere
URL:https://mainlineparent.com/event/made-in-philadelphia-holiday-market/2026-01-01/
LOCATION:Dilworth Park\, 1 South 15th Streeet\, Philadelphia\, PA\, 19102
CATEGORIES:Christmas Events,Holiday Craft Markets,Philadelphia Events
ATTACH;FMTTYPE=image/jpeg:https://mainlineparent.com/wp-content/uploads/2025/11/Made-in_PHL-holiday.jpg
END:VEVENT
BEGIN:VEVENT
DTSTART;TZID=America/New_York:20260110T120000
DTEND;TZID=America/New_York:20260110T150000
DTSTAMP:20260425T154818
CREATED:20251217T145805Z
LAST-MODIFIED:20251217T145805Z
UID:10074332-1768046400-1768057200@mainlineparent.com
SUMMARY:The Philly Goat Project 2026 Tree-Cycle Festival
DESCRIPTION:Join a Festival of community and sustainability this January. For a $20 (requested) donation\, recycle your holiday tree the green way. Please check that all decorations are removed before donating your tree.​ These donations support Philly Goat Project’s free year-round programming. \nTree Drop-Off Options for Awbury Arboretum include:​ \n\nExpress Curbside Drop-Off: Quick tree drop at 6336 Ardleigh Street entrance.\n”G.O.A.T. Safari”: Drive through the farm to drop off your tree. Enter at 6336 Ardleigh Street entrance.\nPark and Drag: Park along Washington Lane and bring your tree in yourself!\n\nAttendees do not need to bring a tree to enter the festival. It is free to enter and guests can enjoy an afternoon packed with activities including: \n\n\n\n\n\n\n\nExploring the farm\nWarming up with free s’mores and hot cocoa\nEnjoying farm Olympics (Awbury only): Kids can participate in fun games\nVisiting the goat Petting Zone\nPhilly Goat Project Swag Table\n\n\n\n\n\n\n\nThere will also be a Quiet Visiting Area\, a calm space for guests with special needs.
URL:https://mainlineparent.com/event/the-philly-goat-project-2026-tree-cycle-festival/2026-01-10/
LOCATION:The Farm at Awbury Arboretum\, 6336 Ardleigh Street\, Philadelphia\, PA\, 19138
CATEGORIES:Community Event,Family Event,Philadelphia Events
ATTACH;FMTTYPE=image/avif:https://mainlineparent.com/wp-content/uploads/2025/12/Christmas-tree-goats-e1765983265207.avif
END:VEVENT
BEGIN:VEVENT
DTSTART;VALUE=DATE:20260117
DTEND;VALUE=DATE:20260118
DTSTAMP:20260425T154818
CREATED:20250102T194237Z
LAST-MODIFIED:20260112T173826Z
UID:10074654-1768608000-1768694399@mainlineparent.com
SUMMARY:Cradles to Crayons MLK Day Donation Drive
DESCRIPTION:Cradles to Crayons is proud to celebrate Dr. Martin Luther King Jr. by offering special engagement opportunities in support of their mission to help children living in poverty throughout the Greater Philadelphia region. Volunteer in their Giving Factory with family\, friends\, or your corporate team! \nInterested in volunteering with a corporate group on Monday\, January 19? Please email Laura at lcasasbuenas@cradlestocrayons.org. \nAdditionally\, their MLK Donation Drive is extremely important in helping to fill their shelves with clothing\, coats\, and shoes for distribution to thousands of children in the coming months. To honor Dr. King’s legacy\, please bring your donations to a collection site\, with local opportunities listed here.
URL:https://mainlineparent.com/event/cradles-to-crayons-mlk-day-donation-drive/2026-01-17/
LOCATION:Multiple Locations
CATEGORIES:Chester County Events,Delaware County Events,MLK Day,Montgomery County Events,Philadelphia Events
ATTACH;FMTTYPE=image/png:https://mainlineparent.com/wp-content/uploads/2025/01/CradlesCrayons-MLKDay.png
END:VEVENT
BEGIN:VEVENT
DTSTART;TZID=America/New_York:20260117T100000
DTEND;TZID=America/New_York:20260117T170000
DTSTAMP:20260425T154818
CREATED:20260113T041350Z
LAST-MODIFIED:20260113T041350Z
UID:10054039-1768644000-1768669200@mainlineparent.com
SUMMARY:Martin Luther King Jr. Weekend at the Museum of the American Revolution
DESCRIPTION:Honor the life\, service\, and legacy of Rev. Dr. Martin Luther King Jr. at the Museum\, Saturday\, Jan. 17 – Monday\, Jan. 19\, 2026\, and discover the ongoing promise of the American Revolution and what it takes to change the world. \nVisit the museum website for details on the weekend’s special events\, including historical interpretations\, talks\, performances\, gallery tours and more.
URL:https://mainlineparent.com/event/martin-luther-king-jr-weekend-at-the-museum-of-the-american-revolution-2/
LOCATION:Museum of the American Revolution\, 101 S 3rd St\, Philadelphia\, PA\, 19106\, United States
CATEGORIES:MLK Day,Philadelphia Events
ATTACH;FMTTYPE=image/jpeg:https://mainlineparent.com/wp-content/uploads/2022/11/Phila-Museum-of-American-Revolution-Father-Son.jpeg
END:VEVENT
BEGIN:VEVENT
DTSTART;VALUE=DATE:20260118
DTEND;VALUE=DATE:20260119
DTSTAMP:20260425T154818
CREATED:20250102T194237Z
LAST-MODIFIED:20260112T173826Z
UID:10074655-1768723200-1768755600@mainlineparent.com
SUMMARY:Cradles to Crayons MLK Day Donation Drive
DESCRIPTION:Cradles to Crayons is proud to celebrate Dr. Martin Luther King Jr. by offering special engagement opportunities in support of their mission to help children living in poverty throughout the Greater Philadelphia region. Volunteer in their Giving Factory with family\, friends\, or your corporate team! \nInterested in volunteering with a corporate group on Monday\, January 19? Please email Laura at lcasasbuenas@cradlestocrayons.org. \nAdditionally\, their MLK Donation Drive is extremely important in helping to fill their shelves with clothing\, coats\, and shoes for distribution to thousands of children in the coming months. To honor Dr. King’s legacy\, please bring your donations to a collection site\, with local opportunities listed here.
URL:https://mainlineparent.com/event/cradles-to-crayons-mlk-day-donation-drive/2026-01-18/
LOCATION:Multiple Locations
CATEGORIES:Chester County Events,Delaware County Events,MLK Day,Montgomery County Events,Philadelphia Events
ATTACH;FMTTYPE=image/png:https://mainlineparent.com/wp-content/uploads/2025/01/CradlesCrayons-MLKDay.png
END:VEVENT
BEGIN:VEVENT
DTSTART;VALUE=DATE:20260119
DTEND;VALUE=DATE:20260120
DTSTAMP:20260425T154818
CREATED:20250102T194237Z
LAST-MODIFIED:20260112T173826Z
UID:10074656-1768809600-1768842000@mainlineparent.com
SUMMARY:Cradles to Crayons MLK Day Donation Drive
DESCRIPTION:Cradles to Crayons is proud to celebrate Dr. Martin Luther King Jr. by offering special engagement opportunities in support of their mission to help children living in poverty throughout the Greater Philadelphia region. Volunteer in their Giving Factory with family\, friends\, or your corporate team! \nInterested in volunteering with a corporate group on Monday\, January 19? Please email Laura at lcasasbuenas@cradlestocrayons.org. \nAdditionally\, their MLK Donation Drive is extremely important in helping to fill their shelves with clothing\, coats\, and shoes for distribution to thousands of children in the coming months. To honor Dr. King’s legacy\, please bring your donations to a collection site\, with local opportunities listed here.
URL:https://mainlineparent.com/event/cradles-to-crayons-mlk-day-donation-drive/2026-01-19/
LOCATION:Multiple Locations
CATEGORIES:Chester County Events,Delaware County Events,MLK Day,Montgomery County Events,Philadelphia Events
ATTACH;FMTTYPE=image/png:https://mainlineparent.com/wp-content/uploads/2025/01/CradlesCrayons-MLKDay.png
END:VEVENT
BEGIN:VEVENT
DTSTART;TZID=America/New_York:20260119T090000
DTEND;TZID=America/New_York:20260119T163000
DTSTAMP:20260425T154818
CREATED:20250102T200245Z
LAST-MODIFIED:20260113T032735Z
UID:10054035-1768813200-1768840200@mainlineparent.com
SUMMARY:Martin Luther King Jr. Day at Please Touch Museum
DESCRIPTION:Join PTM for a meaningful celebration in honor of Dr. Martin Luther King Jr.\, where families can engage in activities that reflect his legacy of equality\, justice\, and peace. Included with regular museum admission. \nJoin a special story time in the Book Nook featuring a reading “It Starts with ME\,” by Dr. Bernice E. King. The story time follows Amora\, the Beloved Community\, and their contribution to making the world better and encouraging others to take a stand and finding our voice. \nBuild confidence through improv and performing arts in a workshop with Music Theatre Philly at 11:30 am\, 12:30 pm\, and 1:30 pm. \nLittle Yoga Squad will be on hand sharing movement and affirmations while building community during a yoga session at 12 and 1 pm. \nExplore art and textiles in a frame weaving workshop led by teaching artists from Allens Lane Art Center at 1 pm\, 2 pm\, and 3 pm. \nCelebrate innovation and science in a workshop led by local scientist Nafees Norris. at 1:30 pm\, 2:30 pm\, and 3:30 pm. \nFinally\, bring the beat to the grand finale with PME Drumline as they lead the End of Day Parade from 4-4:30 pm.
URL:https://mainlineparent.com/event/martin-luther-king-jr-day-2/
LOCATION:Please Touch Museum\, Memorial Hall\, 4231 Avenue of the Republic\, Philadelphia\, PA\, 19131
CATEGORIES:Family Event,MLK Day,Philadelphia Events
END:VEVENT
BEGIN:VEVENT
DTSTART;TZID=America/New_York:20260119T100000
DTEND;TZID=America/New_York:20260119T180000
DTSTAMP:20260425T154818
CREATED:20260113T034538Z
LAST-MODIFIED:20260113T034539Z
UID:10054194-1768816800-1768845600@mainlineparent.com
SUMMARY:Radical Peace and Public Memory: Youth Leadership\, Gallery Talks\, and Family Activities at the African American Museum
DESCRIPTION:The day begins with an oratorical contest for high school juniors and seniors\, hosted by the Thomas & Woods Foundation in AAMP’s Auditorium. Students will present original speeches reflecting on Dr. King’s legacy and the meaning of Radical Peace today. \nThroughout the afternoon\, AAMP’s Curatorial team will offer gallery talks connected to current exhibitions at 12:00 PM\, 2:00 PM\, and 4:00 PM\, providing historical context and interpretive insight for visitors. \nIn parallel\, family-friendly\, hands-on activities will take place in public spaces throughout the Museum\, offering creative and educational entry points for visitors of all ages. (10-2pm in Timeline\, 2-6pm in the Auditorium). \nRepresentatives from Citizens Bank including the Phillie Phanatic (in a designated area in the Founders Gallery)  and a former Phillies player will be present throughout the afternoon. \nAdmission is free\, but registration for timed entry is suggested.
URL:https://mainlineparent.com/event/mlk-2025-celebration-2/
LOCATION:​The African American Museum in Philadelphia\, 701 Arch St\, Philadelphia\, PA\, 19106\, United States
CATEGORIES:MLK Day,Philadelphia Events
ATTACH;FMTTYPE=image/jpeg:https://mainlineparent.com/wp-content/uploads/2025/01/African-American-Museum-Phila-MLK-scaled-e1736526888681.jpg
END:VEVENT
BEGIN:VEVENT
DTSTART;TZID=America/New_York:20260119T110000
DTEND;TZID=America/New_York:20260119T133000
DTSTAMP:20260425T154818
CREATED:20250102T195741Z
LAST-MODIFIED:20260113T035203Z
UID:10074667-1768820400-1768829400@mainlineparent.com
SUMMARY:MLK Day of Service at the Schuylkill Center
DESCRIPTION:Come together to honor Dr. Martin Luther King Jr’s legacy at the Schuylkill Center during this day of service on Monday\, January 19th from 11 am-1:30 pm. \nAll members of the community are invited to join in work on several service projects aimed at protecting the health of the forest and supporting nature at the Schuylkill Center. There will be a wide range of service projects available so everyone can participate! \nRegistration is required for this popular volunteer opportunity. Light refreshments will be provided. Volunteers will be contacted with details about volunteer projects and weather updates.
URL:https://mainlineparent.com/event/mlk-day-of-service-2/
LOCATION:Schuylkill Center for Environmental Education\, 8480 Hagy's Mill Road\, Philadelphia\, PA\, 19128\, United States
CATEGORIES:MLK Day,Philadelphia Events
ATTACH;FMTTYPE=image/jpeg:https://mainlineparent.com/wp-content/uploads/2025/01/volunteering-on-MLK21-scaled-1.jpg
END:VEVENT
BEGIN:VEVENT
DTSTART;TZID=America/New_York:20260119T123000
DTEND;TZID=America/New_York:20260119T150000
DTSTAMP:20260425T154818
CREATED:20250106T203149Z
LAST-MODIFIED:20260107T010630Z
UID:10054165-1768825800-1768834800@mainlineparent.com
SUMMARY:Family Festival | Martin Luther King\, Jr. Day
DESCRIPTION:Celebrate Martin Luther King Jr. Day with a family program that invites children and adults to learn\, reflect\, and create together. Families will learn how Dr. King and others took action for freedom and justice to ensure that all people are treated fairly and equally. \nThe program begins with storytelling and art-making\, focusing on legendary figures who bravely stood up for civil rights such as Harriet Tubman\, Frederick Douglass\, Rosa Parks\, Ruby Bridges\, John Lewis and more.  Through shared activities\, families will connect these stories to ideas of courage\, kindness\, fairness\, and working together to build a stronger community. \nAt 2 pm\, the award-winning team Hip Hop Fundamentals will present an interactive program of breakdancing and storytelling where children will experience American Civil Rights history in a new way\, centered around Dr. King ‘s message of LOVE. \nEnjoy an afternoon that honors Dr. King’s legacy and inspires families to think about how they can help make positive change in their own communities every day. \nThis program is free\, but registration is requested here.
URL:https://mainlineparent.com/event/family-festival-martin-luther-king-jr-day/
LOCATION:Woodmere Art Museum\, 9201 Germantown Avenue\, Philadelphia\, PA\, 19118\, United States
CATEGORIES:Family Event,MLK Day,Philadelphia Events
ATTACH;FMTTYPE=image/jpeg:https://mainlineparent.com/wp-content/uploads/2025/01/MLK-Woodmere.jpg
END:VEVENT
BEGIN:VEVENT
DTSTART;TZID=America/New_York:20260124T110000
DTEND;TZID=America/New_York:20260124T150000
DTSTAMP:20260425T154818
CREATED:20251217T145805Z
LAST-MODIFIED:20251217T145805Z
UID:10074333-1769252400-1769266800@mainlineparent.com
SUMMARY:The Philly Goat Project 2026 Tree-Cycle Festival
DESCRIPTION:Join a Festival of community and sustainability this January. For a $20 (requested) donation\, recycle your holiday tree the green way. Please check that all decorations are removed before donating your tree.​ These donations support Philly Goat Project’s free year-round programming. \nTree Drop-Off Options for Awbury Arboretum include:​ \n\nExpress Curbside Drop-Off: Quick tree drop at 6336 Ardleigh Street entrance.\n”G.O.A.T. Safari”: Drive through the farm to drop off your tree. Enter at 6336 Ardleigh Street entrance.\nPark and Drag: Park along Washington Lane and bring your tree in yourself!\n\nAttendees do not need to bring a tree to enter the festival. It is free to enter and guests can enjoy an afternoon packed with activities including: \n\n\n\n\n\n\n\nExploring the farm\nWarming up with free s’mores and hot cocoa\nEnjoying farm Olympics (Awbury only): Kids can participate in fun games\nVisiting the goat Petting Zone\nPhilly Goat Project Swag Table\n\n\n\n\n\n\n\nThere will also be a Quiet Visiting Area\, a calm space for guests with special needs.
URL:https://mainlineparent.com/event/the-philly-goat-project-2026-tree-cycle-festival/2026-01-24/
LOCATION:The Farm at Awbury Arboretum\, 6336 Ardleigh Street\, Philadelphia\, PA\, 19138
CATEGORIES:Community Event,Family Event,Philadelphia Events
ATTACH;FMTTYPE=image/avif:https://mainlineparent.com/wp-content/uploads/2025/12/Christmas-tree-goats-e1765983265207.avif
END:VEVENT
BEGIN:VEVENT
DTSTART;TZID=America/New_York:20260131T100000
DTEND;TZID=America/New_York:20260131T160000
DTSTAMP:20260425T154818
CREATED:20250108T183257Z
LAST-MODIFIED:20260121T130218Z
UID:10054177-1769853600-1769875200@mainlineparent.com
SUMMARY:CultureFest! Lunar New Year
DESCRIPTION:Ring in the Year of the Horse at the Penn Museum’s 45th annual Lunar New Year celebration. Bring the whole family to experience vibrant Asian traditions during a full day of festivities\, including storytelling\, art-making\, live music and dance performances\, and a traditional Lion Dance finale. \nLunar New Year is observed by various Asian communities\, including those of Chinese\, Vietnamese\, Korean\, and Tibetan descent. The festivities traditionally commence with the first new moon of the lunar calendar and conclude 15 days later on the first full moon. Originating as a time for respite from agricultural work and togetherness with loved ones\, Lunar New Year incorporates customs such as feasts\, gift exchanges\, lantern lighting\, and offerings to deities and ancestors. \nGet tickets here.
URL:https://mainlineparent.com/event/culturefest-lunar-new-year-3/
LOCATION:Penn Museum\, 3260 South St\, Philadelphia\, PA\, 19104\, United States
CATEGORIES:Lunar New Year,Philadelphia Events
ATTACH;FMTTYPE=image/jpeg:https://mainlineparent.com/wp-content/uploads/2025/01/PennMuseum-LunarNewYear.jpg
END:VEVENT
END:VCALENDAR