BEGIN:VCALENDAR
VERSION:2.0
PRODID:-//Main Line Parent - ECPv6.15.20//NONSGML v1.0//EN
CALSCALE:GREGORIAN
METHOD:PUBLISH
X-WR-CALNAME:Main Line Parent
X-ORIGINAL-URL:https://mainlineparent.com
X-WR-CALDESC:Events for Main Line Parent
REFRESH-INTERVAL;VALUE=DURATION:PT1H
X-Robots-Tag:noindex
X-PUBLISHED-TTL:PT1H
BEGIN:VTIMEZONE
TZID:America/New_York
BEGIN:DAYLIGHT
TZOFFSETFROM:-0500
TZOFFSETTO:-0400
TZNAME:EDT
DTSTART:20250309T070000
END:DAYLIGHT
BEGIN:STANDARD
TZOFFSETFROM:-0400
TZOFFSETTO:-0500
TZNAME:EST
DTSTART:20251102T060000
END:STANDARD
BEGIN:DAYLIGHT
TZOFFSETFROM:-0500
TZOFFSETTO:-0400
TZNAME:EDT
DTSTART:20260308T070000
END:DAYLIGHT
BEGIN:STANDARD
TZOFFSETFROM:-0400
TZOFFSETTO:-0500
TZNAME:EST
DTSTART:20261101T060000
END:STANDARD
BEGIN:DAYLIGHT
TZOFFSETFROM:-0500
TZOFFSETTO:-0400
TZNAME:EDT
DTSTART:20270314T070000
END:DAYLIGHT
BEGIN:STANDARD
TZOFFSETFROM:-0400
TZOFFSETTO:-0500
TZNAME:EST
DTSTART:20271107T060000
END:STANDARD
END:VTIMEZONE
BEGIN:VEVENT
DTSTART;TZID=America/New_York:20260713T090000
DTEND;TZID=America/New_York:20260713T120000
DTSTAMP:20260419T153037
CREATED:20260411T012410Z
LAST-MODIFIED:20260411T012436Z
UID:10077770-1783933200-1783944000@mainlineparent.com
SUMMARY:InspiritAI Summer Intensive x DVFriends
DESCRIPTION:Inspirit AI is partnering with Delaware Valley Friends School to offer an in-person project-based artificial intelligence program. Inspirit AI is an AI education program developed and taught by Stanford and MIT alumni and graduate students. The program will consist of ten 3-hour sessions taking place from July 13-24\, 2026 (9:00 am – 12:00 pm) at DV Friends. \nStudents from rising 6th – graduating 12th grades will learn the fundamental concepts of AI and gain a deeper understanding of how AI is used to build ChatGPT and generative AI\, fight the COVID-19 pandemic\, power self-driving cars\, and more. Students will learn to program AI using Python\, discuss ethics and bias within AI\, and complete a group project applying AI to disciplines like healthcare\, astronomy\, finance\, and more! No prior computer science experience is required to participate\, and advanced cohorts are available. Separate middle and high school sections will be offered. \nThe program is offered at a cost of $1\,600 for 30 hours of hands-on learning with AI practitioners and graduate students from Stanford and MIT who will travel to Paoli to teach this pre-college program. \nThe program will consist of ten 3-hour sessions taking place from July 13-24\, 2026 (9:00 am – 12:00 pm).
URL:https://mainlineparent.com/event/inspiritai-summer-intensive-x-dvfriends/
LOCATION:Delaware Valley Friends School\, 19 E. Central Ave\, Paoli\, PA\, 19301\, United States
CATEGORIES:Chester County Events,For Kids Ages 11 – 14,For Kids Ages 15+
ATTACH;FMTTYPE=image/jpeg:https://mainlineparent.com/wp-content/uploads/2026/04/inspirit-AI-Paoli-e1775870249139.jpg
END:VEVENT
END:VCALENDAR