BEGIN:VCALENDAR
VERSION:2.0
PRODID:-//Main Line Parent - ECPv6.15.20//NONSGML v1.0//EN
CALSCALE:GREGORIAN
METHOD:PUBLISH
X-ORIGINAL-URL:https://mainlineparent.com
X-WR-CALDESC:Events for Main Line Parent
REFRESH-INTERVAL;VALUE=DURATION:PT1H
X-Robots-Tag:noindex
X-PUBLISHED-TTL:PT1H
BEGIN:VTIMEZONE
TZID:America/New_York
BEGIN:DAYLIGHT
TZOFFSETFROM:-0500
TZOFFSETTO:-0400
TZNAME:EDT
DTSTART:20250309T070000
END:DAYLIGHT
BEGIN:STANDARD
TZOFFSETFROM:-0400
TZOFFSETTO:-0500
TZNAME:EST
DTSTART:20251102T060000
END:STANDARD
BEGIN:DAYLIGHT
TZOFFSETFROM:-0500
TZOFFSETTO:-0400
TZNAME:EDT
DTSTART:20260308T070000
END:DAYLIGHT
BEGIN:STANDARD
TZOFFSETFROM:-0400
TZOFFSETTO:-0500
TZNAME:EST
DTSTART:20261101T060000
END:STANDARD
BEGIN:DAYLIGHT
TZOFFSETFROM:-0500
TZOFFSETTO:-0400
TZNAME:EDT
DTSTART:20270314T070000
END:DAYLIGHT
BEGIN:STANDARD
TZOFFSETFROM:-0400
TZOFFSETTO:-0500
TZNAME:EST
DTSTART:20271107T060000
END:STANDARD
END:VTIMEZONE
BEGIN:VEVENT
DTSTART;TZID=America/New_York:20260416T090000
DTEND;TZID=America/New_York:20260416T110000
DTSTAMP:20260425T145813
CREATED:20251006T172315Z
LAST-MODIFIED:20251006T172315Z
UID:10069159-1776330000-1776337200@mainlineparent.com
SUMMARY:Mornings at La Salle College High School
DESCRIPTION:Parents of prospective students are invited to attend a “Morning at La Salle.” The program provides parents with an academic presentation\, classroom visits\, and a question and answer session with current students. Each session runs from 9-11 am. Space is limited\, so please pre-register early to reserve your spot. \nMornings at La Salle will be held on: \nThursday\, October 16\, 2025\nThursday\, November 13\, 2025\nThursday\, March 12\, 2026\nThursday\, April 16\, 2026 \nPlease contact the admissions office at (215) 402-4800 or admissions@lschs.org with any questions.
URL:https://mainlineparent.com/event/mornings-at-la-salle-college-high-school/2026-04-16/
LOCATION:La Salle College High School\, 8605 Cheltenham Avenue\, Wyndmoor\, PA\, 19038\, United States
CATEGORIES:Open Houses and Admissions Events
ATTACH;FMTTYPE=image/webp:https://mainlineparent.com/wp-content/uploads/2025/10/La-Salle-open-house.webp
END:VEVENT
BEGIN:VEVENT
DTSTART;TZID=America/New_York:20260418T090000
DTEND;TZID=America/New_York:20260418T120000
DTSTAMP:20260425T145813
CREATED:20260410T183421Z
LAST-MODIFIED:20260413T124204Z
UID:10077766-1776502800-1776513600@mainlineparent.com
SUMMARY:Introduction to Birding at Lower Perkiomen Valley Park
DESCRIPTION:Join us for a special all ages introduction to birding at Lower Perkiomen Valley Park! the days activities will feature helpful tips with environmental educators and a park ranger\, kid-friendly games and activities designed to spark a lifelong passion for birding and time spent in nature. Binoculars will be provided! \nWeather dependent\, no registration required.
URL:https://mainlineparent.com/event/introduction-to-birding-at-lower-perkiomen-valley-park/
LOCATION:PA
CATEGORIES:Community Event,For Kids Ages 11 – 14,For Kids Ages 4 – 6,For Kids Ages 7 – 10,For The Whole Family,Free,Montgomery County Events
ATTACH;FMTTYPE=image/jpeg:https://mainlineparent.com/wp-content/uploads/2026/04/birding_PV_Montco-e1776084110793.jpg
END:VEVENT
BEGIN:VEVENT
DTSTART;TZID=America/New_York:20260418T130000
DTEND;TZID=America/New_York:20260418T140000
DTSTAMP:20260425T145813
CREATED:20260411T011313Z
LAST-MODIFIED:20260411T011313Z
UID:10077769-1776517200-1776520800@mainlineparent.com
SUMMARY:A Murmur in the Trees
DESCRIPTION:Back by popular demand\, the event returns to the beautiful Haverford College Arboretum to celebrate Earth Day with a remounting of an immersive\, community-based production of Eve Beglarian’s A Murmur in the Trees for 24 double basses.
URL:https://mainlineparent.com/event/a-murmur-in-the-trees/
LOCATION:Haverford College Arboretum\, 370 Lancaster Avenue\, Haverford\, PA\, 19041
CATEGORIES:Community Event,For Parents,For The Whole Family
ATTACH;FMTTYPE=image/jpeg:https://mainlineparent.com/wp-content/uploads/2026/04/a-murmur-in-the-trees-e1775869974501.jpg
END:VEVENT
BEGIN:VEVENT
DTSTART;TZID=America/New_York:20260419T140000
DTEND;TZID=America/New_York:20260419T160000
DTSTAMP:20260425T145813
CREATED:20260330T162956Z
LAST-MODIFIED:20260330T162956Z
UID:10077731-1776607200-1776614400@mainlineparent.com
SUMMARY:Camp Kef Open House
DESCRIPTION:Join Camp Director Katie and learn all about Camp Kef! Take a tour of our campus and see just how special Camp Kef is. This is a free event.
URL:https://mainlineparent.com/event/camp-kef-open-house/
LOCATION:Kaiserman Jewish Community Center\, 45 Haverford Road\, Wynnewood\, PA\, 19096
CATEGORIES:Community Event,For Kids Ages 1 – 3,For Kids Ages 11 – 14,For Kids Ages 4 – 6,For Kids Ages 7 – 10,For Kids Ages 8 – 10,For Parents,For The Whole Family,Free,Montgomery County Events
ATTACH;FMTTYPE=image/jpeg:https://mainlineparent.com/wp-content/uploads/2026/03/camp-open-house-jcc.jpg
END:VEVENT
BEGIN:VEVENT
DTSTART;TZID=America/New_York:20260419T150000
DTEND;TZID=America/New_York:20260419T170000
DTSTAMP:20260425T145813
CREATED:20260413T125709Z
LAST-MODIFIED:20260413T131323Z
UID:10077772-1776610800-1776618000@mainlineparent.com
SUMMARY:Make Your Own Lip Balm
DESCRIPTION:Ready to craft your own natural lip balm? Join Carolyn from Plant 4 Good for a fun\, hands-on workshop where you’ll learn to make lip balm using simple\, natural ingredients. \n Perfect for self-care or gifting to friends! You’ll leave with 8-10 tubes (or tins) of your creation to take home. Ages 12 and up are welcome (this is a great mom & me date!) \n When: Sunday\, April 19\, 2025\, 3-5 PM\n Where: Plant 4 Good\, 100 Cricket Ave\, Ardmore\n Cost: $40 per person
URL:https://mainlineparent.com/event/make-your-own-lip-balm/
LOCATION:Plant4Good\, 100 Cricket Ave.\, Ardmore\, PA
CATEGORIES:For Kids Ages 11 – 14,For Kids Ages 15+,For Parents
ATTACH;FMTTYPE=image/jpeg:https://mainlineparent.com/wp-content/uploads/2026/04/plant4good_lip_gloss-e1776084998667.jpg
END:VEVENT
END:VCALENDAR