BEGIN:VCALENDAR
VERSION:2.0
PRODID:-//Main Line Parent - ECPv6.15.20//NONSGML v1.0//EN
CALSCALE:GREGORIAN
METHOD:PUBLISH
X-ORIGINAL-URL:https://mainlineparent.com
X-WR-CALDESC:Events for Main Line Parent
REFRESH-INTERVAL;VALUE=DURATION:PT1H
X-Robots-Tag:noindex
X-PUBLISHED-TTL:PT1H
BEGIN:VTIMEZONE
TZID:America/New_York
BEGIN:DAYLIGHT
TZOFFSETFROM:-0500
TZOFFSETTO:-0400
TZNAME:EDT
DTSTART:20240310T070000
END:DAYLIGHT
BEGIN:STANDARD
TZOFFSETFROM:-0400
TZOFFSETTO:-0500
TZNAME:EST
DTSTART:20241103T060000
END:STANDARD
BEGIN:DAYLIGHT
TZOFFSETFROM:-0500
TZOFFSETTO:-0400
TZNAME:EDT
DTSTART:20250309T070000
END:DAYLIGHT
BEGIN:STANDARD
TZOFFSETFROM:-0400
TZOFFSETTO:-0500
TZNAME:EST
DTSTART:20251102T060000
END:STANDARD
BEGIN:DAYLIGHT
TZOFFSETFROM:-0500
TZOFFSETTO:-0400
TZNAME:EDT
DTSTART:20260308T070000
END:DAYLIGHT
BEGIN:STANDARD
TZOFFSETFROM:-0400
TZOFFSETTO:-0500
TZNAME:EST
DTSTART:20261101T060000
END:STANDARD
END:VTIMEZONE
BEGIN:VEVENT
DTSTART;TZID=America/New_York:20250927T080000
DTEND;TZID=America/New_York:20250927T180000
DTSTAMP:20260423T203908
CREATED:20250822T220144Z
LAST-MODIFIED:20250822T220144Z
UID:10061629-1758960000-1758996000@mainlineparent.com
SUMMARY:Apple Festival at Linvilla Orchards
DESCRIPTION:Linvilla Orchards’ highly anticipated Annual Apple Festival\, a celebration dedicated to the delicious and versatile apple\, is back for 2025! Guests will have the chance to explore their flourishing orchards\, participate in apple picking\, and savor a variety of delectable apple goodies. \nLinvilla has a variety of delicious apples that are sure to satisfy every taste bud\, whether you prefer sweet or tart. Their apple selection includes many of the 25 varieties of apples grown at Linvilla. Bring friends and family for an extraordinary day as you experience music\, hayrides\, and other family fun activities. Silly Joe\, the enthusiastic host for the festival\, will entertain the kids with his infectious songs\, comedic antics\, and lively performances while he introduces an array of captivating experiences\, including local bands from 11:00 am to 4:00 pm. Engage in exciting games\, a pony ride\, face painting\, and experience a petting zoo. \nCelebrate the arrival of autumn at Linvilla! Rain Date for this event is September 28th.
URL:https://mainlineparent.com/event/apple-festival-at-linvilla-orchards/
LOCATION:Linvilla Orchards\, 137 W Knowlton Road\, Media\, PA\, 19063\, United States
CATEGORIES:Community Event,Delaware County Events,Fall Event,Family Event,Festivals Fairs Carnivals
ATTACH;FMTTYPE=image/jpeg:https://mainlineparent.com/wp-content/uploads/2025/08/Linvilla-apple-festival.jpg
GEO:39.8835932;-75.4139643
X-APPLE-STRUCTURED-LOCATION;VALUE=URI;X-ADDRESS=Linvilla Orchards 137 W Knowlton Road Media PA 19063 United States;X-APPLE-RADIUS=500;X-TITLE=137 W Knowlton Road:geo:-75.4139643,39.8835932
END:VEVENT
BEGIN:VEVENT
DTSTART;TZID=America/New_York:20250927T100000
DTEND;TZID=America/New_York:20250927T113000
DTSTAMP:20260423T203908
CREATED:20250828T133043Z
LAST-MODIFIED:20250828T133043Z
UID:10062065-1758967200-1758972600@mainlineparent.com
SUMMARY:Family Explorers: What Lives at the Arboretum at Tyler Arboretum
DESCRIPTION:Looking to spark your child’s curiosity about the outdoors? Join Tyler Arboretum for Family Explorers: What Lives at the Arboretum? \nThis program invites families to explore nature using their senses to uncover its secrets. Each month\, head outdoors to discover a different seasonal theme\, searching for plants\, animals\, and other natural wonders that bring the Arboretum to life. Using simple tools like magnifying glasses or binoculars\, participants can take a closer look at their discoveries. \nEach child will receive a Tyler journal to document discoveries\, with time at the end to reflect\, draw\, or write about what they’ve found. Bring your journal to future Family Explorers tours to capture all the amazing moments of the season. \nPre-registration is required for this all-ages event (although this program is best suited for elementary school children accompanied by adults; families and siblings of all ages are welcome). \nCheck in at the Visitor Center\, where you’ll meet your guide. As with any walk on the Tyler trails\, sturdy shoes are suggested.  \nPLEASE NOTE: Strollers may not be ideal on some of the trails. If you plan to bring an infant or young child\, consider a carrier. Weather or other factors may adjust the day’s topic\, but nature will always shine through! In the event of inclement weather\, the tour will be held indoors.
URL:https://mainlineparent.com/event/family-explorers-what-lives-at-the-arboretum-at-tyler-arboretum-2/
LOCATION:Tyler Arboretum\, 515 Painter Road\, Media\, PA\, 19063
CATEGORIES:Class or Workshop,Delaware County Events,Family Event
ATTACH;FMTTYPE=image/jpeg:https://mainlineparent.com/wp-content/uploads/2025/08/What-Lives-at-the-Arb.jpg
END:VEVENT
BEGIN:VEVENT
DTSTART;TZID=America/New_York:20250927T100000
DTEND;TZID=America/New_York:20250927T140000
DTSTAMP:20260423T203908
CREATED:20250923T223756Z
LAST-MODIFIED:20250923T223756Z
UID:10065247-1758967200-1758981600@mainlineparent.com
SUMMARY:Media EcoFest
DESCRIPTION:Enjoy food\, music\, activities for kids & adults\, and great resources from more than 30 local environmental and community groups. \nHave lots of fun and even learn something cool! Go on a scavenger hunt\, watch what a bee hive looks like inside\, get a packet of native plant seeds to create your own pollinator garden\, paint your own mosquito dunk bucket\, try riding an e-bike! They will also have tasty & refreshing food available. Ride your bike to EcoFest—their famous bike valet will be there! \nRain location: Media Providence Friends School Gym\, 4th & Broomall St\, Media. \nNote: this year\, there won’t be a rain date—if the weather looks bad\, they will just move the party indoors! It’s just one block south of Heritage Park\, in the MPFS gym. Stay tuned for details if the weather looks threatening.
URL:https://mainlineparent.com/event/media-ecofest/
LOCATION:Heritage Park\, 5th & Broomall St.\, Media\, PA\, 19063
CATEGORIES:Community Event,Delaware County Events,Fall Event,Festivals Fairs Carnivals,Free
ATTACH;FMTTYPE=image/png:https://mainlineparent.com/wp-content/uploads/2025/09/EcoFest—header_web_900_m-1.png
END:VEVENT
BEGIN:VEVENT
DTSTART;TZID=America/New_York:20250927T170000
DTEND;TZID=America/New_York:20250927T203000
DTSTAMP:20260423T203908
CREATED:20250825T202335Z
LAST-MODIFIED:20250917T000908Z
UID:10061647-1758992400-1759005000@mainlineparent.com
SUMMARY:Hayrides to the Witch’s House at Linvilla Orchards
DESCRIPTION:Visitors can travel through the woods on a hayride to the house of Linvilla Orchards’ Friendly Witch. Children who stop by the witch’s house will be entertained with stories\, jokes\, and receive a treat. After the hayride\, guests are invited to gather around a campfire to roast marshmallows and enjoy Linvilla’s flavorful apple cider. \nIn addition to the witch’s hayride\, families can enjoy a variety of fall activities throughout the farm\, including pick-your-own apples\, straw bale and cornfield mazes\, pony rides\, and pumpkin ring toss. Pumpkinland will also be open\, offering pumpkins of all shapes and sizes for visitors to choose from. \nHayrides to the Witch’s House Dates & Times:\nSeptember 19 – 21 & September 26 – 28\, 2025\n• Friday & Saturday: 5:00 pm – 8:30 pm\n• Sunday: 5:00 pm – 8:00 pm \nOctober 1 – 30\, 2025\n• Sunday–Thursday: 5:00 pm – 8:00 pm\n• Friday & Saturday: 5:00 pm – 8:30 pm \nPrice:\n• Ages 5 & older: $13 per person\n• Ages 1 – 4: $10 per person\n• Ages 11 months & under: Complimentary\n• In-person tickets are available for purchase at $2–3 more per person. \nFor additional details\, visitors are encouraged to check Linvilla.com.
URL:https://mainlineparent.com/event/hayrides-to-the-witchs-house-at-linvilla-orchards/2025-09-27/
LOCATION:Linvilla Orchards\, 137 W Knowlton Road\, Media\, PA\, 19063\, United States
CATEGORIES:Delaware County Events,Fall Event,Family Event,Halloween,Kid Event,Toddler Event
ATTACH;FMTTYPE=image/jpeg:https://mainlineparent.com/wp-content/uploads/2025/08/hayrides-witches.jpg
GEO:39.8835932;-75.4139643
X-APPLE-STRUCTURED-LOCATION;VALUE=URI;X-ADDRESS=Linvilla Orchards 137 W Knowlton Road Media PA 19063 United States;X-APPLE-RADIUS=500;X-TITLE=137 W Knowlton Road:geo:-75.4139643,39.8835932
END:VEVENT
END:VCALENDAR