BEGIN:VCALENDAR
VERSION:2.0
PRODID:-//Main Line Parent - ECPv6.15.20//NONSGML v1.0//EN
CALSCALE:GREGORIAN
METHOD:PUBLISH
X-WR-CALNAME:Main Line Parent
X-ORIGINAL-URL:https://mainlineparent.com
X-WR-CALDESC:Events for Main Line Parent
REFRESH-INTERVAL;VALUE=DURATION:PT1H
X-Robots-Tag:noindex
X-PUBLISHED-TTL:PT1H
BEGIN:VTIMEZONE
TZID:America/New_York
BEGIN:DAYLIGHT
TZOFFSETFROM:-0500
TZOFFSETTO:-0400
TZNAME:EDT
DTSTART:20250309T070000
END:DAYLIGHT
BEGIN:STANDARD
TZOFFSETFROM:-0400
TZOFFSETTO:-0500
TZNAME:EST
DTSTART:20251102T060000
END:STANDARD
BEGIN:DAYLIGHT
TZOFFSETFROM:-0500
TZOFFSETTO:-0400
TZNAME:EDT
DTSTART:20260308T070000
END:DAYLIGHT
BEGIN:STANDARD
TZOFFSETFROM:-0400
TZOFFSETTO:-0500
TZNAME:EST
DTSTART:20261101T060000
END:STANDARD
BEGIN:DAYLIGHT
TZOFFSETFROM:-0500
TZOFFSETTO:-0400
TZNAME:EDT
DTSTART:20270314T070000
END:DAYLIGHT
BEGIN:STANDARD
TZOFFSETFROM:-0400
TZOFFSETTO:-0500
TZNAME:EST
DTSTART:20271107T060000
END:STANDARD
END:VTIMEZONE
BEGIN:VEVENT
DTSTART;TZID=America/New_York:20260424T100000
DTEND;TZID=America/New_York:20260424T180000
DTSTAMP:20260422T223342
CREATED:20260422T133653Z
LAST-MODIFIED:20260422T133720Z
UID:10077804-1777024800-1777053600@mainlineparent.com
SUMMARY:Wildflower Weekend
DESCRIPTION:Mt. Cuba’s Wildflower Weekend takes place for three full days\, April 24-26\, 2026. Experience a magnificent display of native spring blooms at the peak of their glory\, enjoy three days of live music\, gardening activities\, outdoor family programming\, and more. A variety of food selections and native plants will be available for purchase\, while supplies last. The event is free with general admission to the gardens and for members.
URL:https://mainlineparent.com/event/wildflower-weekend/2026-04-24/
LOCATION:Mt. Cuba Center\, 3120 Barley Mill Rd.\, Hockessin\, DE\, 19707\, United States
CATEGORIES:Community Event,For Kids Ages 1 – 3,For Kids Ages 11 – 14,For Kids Ages 15+,For Kids Ages 4 – 6,For Kids Ages 5-7,For Kids Ages 7 – 10,For Kids Ages 8 – 10,For Parents,For The Whole Family
ATTACH;FMTTYPE=image/jpeg:https://mainlineparent.com/wp-content/uploads/2026/04/wildflower-cuba-center-e1776864992647.jpg
END:VEVENT
BEGIN:VEVENT
DTSTART;TZID=America/New_York:20260425T100000
DTEND;TZID=America/New_York:20260425T180000
DTSTAMP:20260422T223342
CREATED:20260422T133653Z
LAST-MODIFIED:20260422T133720Z
UID:10077805-1777111200-1777140000@mainlineparent.com
SUMMARY:Wildflower Weekend
DESCRIPTION:Mt. Cuba’s Wildflower Weekend takes place for three full days\, April 24-26\, 2026. Experience a magnificent display of native spring blooms at the peak of their glory\, enjoy three days of live music\, gardening activities\, outdoor family programming\, and more. A variety of food selections and native plants will be available for purchase\, while supplies last. The event is free with general admission to the gardens and for members.
URL:https://mainlineparent.com/event/wildflower-weekend/2026-04-25/
LOCATION:Mt. Cuba Center\, 3120 Barley Mill Rd.\, Hockessin\, DE\, 19707\, United States
CATEGORIES:Community Event,For Kids Ages 1 – 3,For Kids Ages 11 – 14,For Kids Ages 15+,For Kids Ages 4 – 6,For Kids Ages 5-7,For Kids Ages 7 – 10,For Kids Ages 8 – 10,For Parents,For The Whole Family
ATTACH;FMTTYPE=image/jpeg:https://mainlineparent.com/wp-content/uploads/2026/04/wildflower-cuba-center-e1776864992647.jpg
END:VEVENT
BEGIN:VEVENT
DTSTART;TZID=America/New_York:20260426T100000
DTEND;TZID=America/New_York:20260426T180000
DTSTAMP:20260422T223342
CREATED:20260422T133653Z
LAST-MODIFIED:20260422T133720Z
UID:10077806-1777197600-1777226400@mainlineparent.com
SUMMARY:Wildflower Weekend
DESCRIPTION:Mt. Cuba’s Wildflower Weekend takes place for three full days\, April 24-26\, 2026. Experience a magnificent display of native spring blooms at the peak of their glory\, enjoy three days of live music\, gardening activities\, outdoor family programming\, and more. A variety of food selections and native plants will be available for purchase\, while supplies last. The event is free with general admission to the gardens and for members.
URL:https://mainlineparent.com/event/wildflower-weekend/2026-04-26/
LOCATION:Mt. Cuba Center\, 3120 Barley Mill Rd.\, Hockessin\, DE\, 19707\, United States
CATEGORIES:Community Event,For Kids Ages 1 – 3,For Kids Ages 11 – 14,For Kids Ages 15+,For Kids Ages 4 – 6,For Kids Ages 5-7,For Kids Ages 7 – 10,For Kids Ages 8 – 10,For Parents,For The Whole Family
ATTACH;FMTTYPE=image/jpeg:https://mainlineparent.com/wp-content/uploads/2026/04/wildflower-cuba-center-e1776864992647.jpg
END:VEVENT
END:VCALENDAR