BEGIN:VCALENDAR
VERSION:2.0
PRODID:-//Main Line Parent - ECPv6.15.20//NONSGML v1.0//EN
CALSCALE:GREGORIAN
METHOD:PUBLISH
X-ORIGINAL-URL:https://mainlineparent.com
X-WR-CALDESC:Events for Main Line Parent
REFRESH-INTERVAL;VALUE=DURATION:PT1H
X-Robots-Tag:noindex
X-PUBLISHED-TTL:PT1H
BEGIN:VTIMEZONE
TZID:America/New_York
BEGIN:DAYLIGHT
TZOFFSETFROM:-0500
TZOFFSETTO:-0400
TZNAME:EDT
DTSTART:20250309T070000
END:DAYLIGHT
BEGIN:STANDARD
TZOFFSETFROM:-0400
TZOFFSETTO:-0500
TZNAME:EST
DTSTART:20251102T060000
END:STANDARD
BEGIN:DAYLIGHT
TZOFFSETFROM:-0500
TZOFFSETTO:-0400
TZNAME:EDT
DTSTART:20260308T070000
END:DAYLIGHT
BEGIN:STANDARD
TZOFFSETFROM:-0400
TZOFFSETTO:-0500
TZNAME:EST
DTSTART:20261101T060000
END:STANDARD
BEGIN:DAYLIGHT
TZOFFSETFROM:-0500
TZOFFSETTO:-0400
TZNAME:EDT
DTSTART:20270314T070000
END:DAYLIGHT
BEGIN:STANDARD
TZOFFSETFROM:-0400
TZOFFSETTO:-0500
TZNAME:EST
DTSTART:20271107T060000
END:STANDARD
END:VTIMEZONE
BEGIN:VEVENT
DTSTART;TZID=America/New_York:20260421T083000
DTEND;TZID=America/New_York:20260421T100000
DTSTAMP:20260421T060441
CREATED:20260326T011016Z
LAST-MODIFIED:20260326T011040Z
UID:10077701-1776760200-1776765600@mainlineparent.com
SUMMARY:SunGate Educational Community Open House
DESCRIPTION:Experience a morning at SunGate. Join their morning activities and singing followed by a tour and conversation. \nSunGate Educational Community is a microschool offering a unique social learning experience that blends movement\, nature\, and the arts. A living curriculum\, led by expert teachers provides hands-on opportunities to grow physically\, emotionally\, and spiritually. Parent-child classes for children under 6 and full academic program for ages 7–13. \nAdults only please.
URL:https://mainlineparent.com/event/sungate-educational-community-open-house/
LOCATION:SunGate Educational Community\, 1193 Clover Mill Road\, Chester Springs\, PA\, 19425\, United States
CATEGORIES:Chester County Events,Community Event,For Parents,Free,Open Houses and Admissions Events
ATTACH;FMTTYPE=image/jpeg:https://mainlineparent.com/wp-content/uploads/2026/03/SunGate-scaled-e1774487373753.jpg
END:VEVENT
BEGIN:VEVENT
DTSTART;TZID=America/New_York:20260516T173000
DTEND;TZID=America/New_York:20260516T200000
DTSTAMP:20260421T060441
CREATED:20260410T155811Z
LAST-MODIFIED:20260410T155811Z
UID:10077764-1778952600-1778961600@mainlineparent.com
SUMMARY:Spring Wizard One-Nighter
DESCRIPTION:The Brandywine School of Wizardry (BSW) is hosting a Wizardry One-Nighter\, a special evening of magic\, imagination\, and hands-on wizard adventure for ages 6-15! \nBSW offers a unique one-nighter each season (with summer reserved for their popular Wizard Camp)\, and both new and returning fans will love this Spring edition. \nStudents will dive into wizardry activities and magical lessons—spells\, Quadball (weather permitting)\, potions\, and more—while the night’s enchantment unfolds. Everyone will head home with sweets and treats as a final\, magical send-off. \nAttire: Robes and wizard costumes are encouraged but not required!
URL:https://mainlineparent.com/event/spring-wizard-one-nighter/
LOCATION:Brandywine School of Wizardry\, 849 Newcomen Road\, Chester Springs\, PA\, 19426\, United States
CATEGORIES:Chester County Events,For Kids Ages 11 – 14,For Kids Ages 7 – 10
ATTACH;FMTTYPE=image/jpeg:https://mainlineparent.com/wp-content/uploads/2026/04/Brandywine-School-of-wizardry-e1775836683280.jpg
END:VEVENT
END:VCALENDAR