BEGIN:VCALENDAR
VERSION:2.0
PRODID:-//Main Line Parent - ECPv6.15.20//NONSGML v1.0//EN
CALSCALE:GREGORIAN
METHOD:PUBLISH
X-ORIGINAL-URL:https://mainlineparent.com
X-WR-CALDESC:Events for Main Line Parent
REFRESH-INTERVAL;VALUE=DURATION:PT1H
X-Robots-Tag:noindex
X-PUBLISHED-TTL:PT1H
BEGIN:VTIMEZONE
TZID:America/New_York
BEGIN:DAYLIGHT
TZOFFSETFROM:-0500
TZOFFSETTO:-0400
TZNAME:EDT
DTSTART:20250309T070000
END:DAYLIGHT
BEGIN:STANDARD
TZOFFSETFROM:-0400
TZOFFSETTO:-0500
TZNAME:EST
DTSTART:20251102T060000
END:STANDARD
BEGIN:DAYLIGHT
TZOFFSETFROM:-0500
TZOFFSETTO:-0400
TZNAME:EDT
DTSTART:20260308T070000
END:DAYLIGHT
BEGIN:STANDARD
TZOFFSETFROM:-0400
TZOFFSETTO:-0500
TZNAME:EST
DTSTART:20261101T060000
END:STANDARD
BEGIN:DAYLIGHT
TZOFFSETFROM:-0500
TZOFFSETTO:-0400
TZNAME:EDT
DTSTART:20270314T070000
END:DAYLIGHT
BEGIN:STANDARD
TZOFFSETFROM:-0400
TZOFFSETTO:-0500
TZNAME:EST
DTSTART:20271107T060000
END:STANDARD
END:VTIMEZONE
BEGIN:VEVENT
DTSTART;TZID=America/New_York:20260606T090000
DTEND;TZID=America/New_York:20260606T130000
DTSTAMP:20260423T235317
CREATED:20260420T163750Z
LAST-MODIFIED:20260420T163750Z
UID:10077789-1780736400-1780750800@mainlineparent.com
SUMMARY:2026 Walk to Cure Arthritis Philadelphia
DESCRIPTION:Join us on Saturday\, June 6\, 2026\, for the 2026 Walk to Cure Arthritis Philadelphia as we celebrate 25 years of impact\, progress\, and hope. \nThis year\, experience our newly reimagined event\, designed to inspire and engage all ages. Enjoy:\n– A Family Fun Zone packed with activities\n– Our brand-new Pawspitality Place for your furry friends\n– Joint-friendly fare and mobility exercise sessions\n– Arthritis resources and connect with local vendors\n– Exciting surprises throughout the day \nWhether you walk with a team\, bring your friends & family\, or join on your own\, every step you take fuels life-changing research\, supports patient programs\, and strengthens advocacy efforts at every level. \nRegistration is free and your fundraising makes the difference. Raise $100 or more and receive an exclusive\, limited-edition 25th Anniversary t-shirt. \nTake the first step today. Register now: www.walktocurearthritis.org/philadelphia
URL:https://mainlineparent.com/event/2026-walk-to-cure-arthritis-philadelphia/
LOCATION:Montgomery County Community College\, 340 DeKalb Pike\, Blue Bell\, PA\, 19422\, United States
CATEGORIES:Community Event,For The Whole Family,Montgomery County Events
ATTACH;FMTTYPE=image/jpeg:https://mainlineparent.com/wp-content/uploads/2026/04/walk-for-arthritis-e1776703049173.jpg
END:VEVENT
END:VCALENDAR