BEGIN:VCALENDAR
VERSION:2.0
PRODID:-//Main Line Parent - ECPv6.15.20//NONSGML v1.0//EN
CALSCALE:GREGORIAN
METHOD:PUBLISH
X-WR-CALNAME:Main Line Parent
X-ORIGINAL-URL:https://mainlineparent.com
X-WR-CALDESC:Events for Main Line Parent
REFRESH-INTERVAL;VALUE=DURATION:PT1H
X-Robots-Tag:noindex
X-PUBLISHED-TTL:PT1H
BEGIN:VTIMEZONE
TZID:America/New_York
BEGIN:DAYLIGHT
TZOFFSETFROM:-0500
TZOFFSETTO:-0400
TZNAME:EDT
DTSTART:20250309T070000
END:DAYLIGHT
BEGIN:STANDARD
TZOFFSETFROM:-0400
TZOFFSETTO:-0500
TZNAME:EST
DTSTART:20251102T060000
END:STANDARD
BEGIN:DAYLIGHT
TZOFFSETFROM:-0500
TZOFFSETTO:-0400
TZNAME:EDT
DTSTART:20260308T070000
END:DAYLIGHT
BEGIN:STANDARD
TZOFFSETFROM:-0400
TZOFFSETTO:-0500
TZNAME:EST
DTSTART:20261101T060000
END:STANDARD
BEGIN:DAYLIGHT
TZOFFSETFROM:-0500
TZOFFSETTO:-0400
TZNAME:EDT
DTSTART:20270314T070000
END:DAYLIGHT
BEGIN:STANDARD
TZOFFSETFROM:-0400
TZOFFSETTO:-0500
TZNAME:EST
DTSTART:20271107T060000
END:STANDARD
END:VTIMEZONE
BEGIN:VEVENT
DTSTART;TZID=America/New_York:20260217T190000
DTEND;TZID=America/New_York:20260217T200000
DTSTAMP:20260425T172232
CREATED:20260203T015711Z
LAST-MODIFIED:20260203T015711Z
UID:10075845-1771354800-1771358400@mainlineparent.com
SUMMARY:A Visit With...Martha Washington
DESCRIPTION:George Washington is rightfully known as “the indispensable man.” However\, few people really know the “worthy partner” who supported him through the long War of Independence. Lady Washington followed her husband to every winter encampment during the war\, and then into the most powerful residence in the new nation\, the President’s House in Philadelphia. As the “first” of our founding mothers\, Martha Washington’s influence still resounds with us today. \nCarol Spacht performs extensively in the Philadelphia region\, presenting interactive programs to schools\, libraries\, and civic organizations. Her portrayal of Martha Washington has taken her from Valley Forge Park to the National Portrait Gallery. Carol also appears regularly as our nation’s premier flag maker at the Betsy Ross House in Philadelphia. She is an experienced maker of hand-sewn historic bed furnishings and led “The Naked Bed Project” at Historic Trappe. \nLocation: St. Luke’s Fellowship Church\, 200 W. Main St.\, Trappe. \nCost: FREE
URL:https://mainlineparent.com/event/a-visit-with-martha-washington/
LOCATION:Historic Trappe\, 301 W Main St.\, Trappe\, PA\, 19426\, United States
CATEGORIES:Community Event,Free,Montgomery County Events,Theatre Performances
ATTACH;FMTTYPE=image/jpeg:https://mainlineparent.com/wp-content/uploads/2026/01/MW-FULL-SIZE-CROP-Copy-e1770083803660.jpg
END:VEVENT
BEGIN:VEVENT
DTSTART;TZID=America/New_York:20260218T140000
DTEND;TZID=America/New_York:20260218T160000
DTSTAMP:20260425T172232
CREATED:20251222T165123Z
LAST-MODIFIED:20251222T165656Z
UID:10074422-1771423200-1771430400@mainlineparent.com
SUMMARY:Dear Jack\, Dear Louise at Hedgerow Theatre
DESCRIPTION:Just in time for Valentine’s Day\, join audiences in Media for the Regional Premiere of Dear Jack\, Dear Louise. Tony Award-winning playwright Ken Ludwig wrote this heartwarming story of a World War II courtship about his own parents. \nWhen U.S. Army Captain Jack Ludwig\, a military doctor in Oregon\, starts writing letters to Louise Rabiner\, an aspiring actress in New York City\, neither could predict where their wartime correspondence would lead. \nThere are both evening and matinee performances offered as well as several special events including a relaxed performance\, an ASL interpreted performance\, and a show with a Happy Hour PRIDE reception. See the theatre’s website for details. \nThis show is suited to audience members ages 10 and older and contains references to war and violence.
URL:https://mainlineparent.com/event/dear-jack-dear-louise-at-hedgerow-theatre/2026-02-18/
LOCATION:Hedgerow Theatre\, 64 Rose Valley Road\, Media\, PA\, 19063
CATEGORIES:Delaware County Events,Theatre Performances
ATTACH;FMTTYPE=image/jpeg:https://mainlineparent.com/wp-content/uploads/2025/12/Hedgerow_DearJackDearLouise_1080SqWebsite-e1766422277952.jpg
END:VEVENT
BEGIN:VEVENT
DTSTART;TZID=America/New_York:20260219T193000
DTEND;TZID=America/New_York:20260219T213000
DTSTAMP:20260425T172232
CREATED:20251222T165123Z
LAST-MODIFIED:20251222T165656Z
UID:10074423-1771529400-1771536600@mainlineparent.com
SUMMARY:Dear Jack\, Dear Louise at Hedgerow Theatre
DESCRIPTION:Just in time for Valentine’s Day\, join audiences in Media for the Regional Premiere of Dear Jack\, Dear Louise. Tony Award-winning playwright Ken Ludwig wrote this heartwarming story of a World War II courtship about his own parents. \nWhen U.S. Army Captain Jack Ludwig\, a military doctor in Oregon\, starts writing letters to Louise Rabiner\, an aspiring actress in New York City\, neither could predict where their wartime correspondence would lead. \nThere are both evening and matinee performances offered as well as several special events including a relaxed performance\, an ASL interpreted performance\, and a show with a Happy Hour PRIDE reception. See the theatre’s website for details. \nThis show is suited to audience members ages 10 and older and contains references to war and violence.
URL:https://mainlineparent.com/event/dear-jack-dear-louise-at-hedgerow-theatre/2026-02-19/
LOCATION:Hedgerow Theatre\, 64 Rose Valley Road\, Media\, PA\, 19063
CATEGORIES:Delaware County Events,Theatre Performances
ATTACH;FMTTYPE=image/jpeg:https://mainlineparent.com/wp-content/uploads/2025/12/Hedgerow_DearJackDearLouise_1080SqWebsite-e1766422277952.jpg
END:VEVENT
BEGIN:VEVENT
DTSTART;TZID=America/New_York:20260220T190000
DTEND;TZID=America/New_York:20260220T210000
DTSTAMP:20260425T172232
CREATED:20260219T154334Z
LAST-MODIFIED:20260220T184757Z
UID:10076993-1771614000-1771621200@mainlineparent.com
SUMMARY:Finding Nemo Jr. Musical
DESCRIPTION:The Academy of Notre Dame de Namur will be hosting its Middle School Musical\, Finding Nemo Jr.\, on February 20 and 21 at 7:00 pm. \nDive under the sea with Marlin\, Dory\, and friends as Notre Dame’s talented middle school students bring this heartwarming Disney adventure to life. It’s a fun-filled show the whole family will love!
URL:https://mainlineparent.com/event/finding-nemo-jr-musical/2026-02-20/
LOCATION:Academy of Notre Dame de Namur\, 560 Sproul Road\, Villanova\, PA\, 19085\, United States
CATEGORIES:Theatre Performances
ATTACH;FMTTYPE=image/png:https://mainlineparent.com/wp-content/uploads/2026/02/social-media-1-e1771613265902.png
ORGANIZER;CN="Academy of Notre Dame de Namur":MAILTO:admissions@ndapa.org
END:VEVENT
BEGIN:VEVENT
DTSTART;TZID=America/New_York:20260220T193000
DTEND;TZID=America/New_York:20260220T213000
DTSTAMP:20260425T172232
CREATED:20251222T165123Z
LAST-MODIFIED:20251222T165656Z
UID:10074424-1771615800-1771623000@mainlineparent.com
SUMMARY:Dear Jack\, Dear Louise at Hedgerow Theatre
DESCRIPTION:Just in time for Valentine’s Day\, join audiences in Media for the Regional Premiere of Dear Jack\, Dear Louise. Tony Award-winning playwright Ken Ludwig wrote this heartwarming story of a World War II courtship about his own parents. \nWhen U.S. Army Captain Jack Ludwig\, a military doctor in Oregon\, starts writing letters to Louise Rabiner\, an aspiring actress in New York City\, neither could predict where their wartime correspondence would lead. \nThere are both evening and matinee performances offered as well as several special events including a relaxed performance\, an ASL interpreted performance\, and a show with a Happy Hour PRIDE reception. See the theatre’s website for details. \nThis show is suited to audience members ages 10 and older and contains references to war and violence.
URL:https://mainlineparent.com/event/dear-jack-dear-louise-at-hedgerow-theatre/2026-02-20/
LOCATION:Hedgerow Theatre\, 64 Rose Valley Road\, Media\, PA\, 19063
CATEGORIES:Delaware County Events,Theatre Performances
ATTACH;FMTTYPE=image/jpeg:https://mainlineparent.com/wp-content/uploads/2025/12/Hedgerow_DearJackDearLouise_1080SqWebsite-e1766422277952.jpg
END:VEVENT
BEGIN:VEVENT
DTSTART;TZID=America/New_York:20260221T190000
DTEND;TZID=America/New_York:20260221T210000
DTSTAMP:20260425T172232
CREATED:20251004T120735Z
LAST-MODIFIED:20251004T120735Z
UID:10059893-1771700400-1771707600@mainlineparent.com
SUMMARY:Dreams in Motion with First State Ballet Theatre
DESCRIPTION:Dreams in Motion by First State Ballet Theatre is contemporary ballet that is sure to move you. \nThis program explores the whimsical and surreal side of the dreamscape with two ballets from FSBT’s repertoire by choreographer Viktor Plotnikov: Fantasy to Dvořák and Nonsense (In the Sense of Innocence). Audiences will enjoy striking costumes and electrifying movement brought back onstage for the first time since their premieres.
URL:https://mainlineparent.com/event/dreams-in-motion-with-first-state-ballet-theatre/2026-02-21/
LOCATION:The Grand Opera House\, 818 N Market Street\, Wilmington\, DE\, 19818\, United States
CATEGORIES:Presidents' Day,Theatre Performances
ATTACH;FMTTYPE=image/jpeg:https://mainlineparent.com/wp-content/uploads/2025/06/Dreams_1200x630-timeline-post-1.jpg
END:VEVENT
BEGIN:VEVENT
DTSTART;TZID=America/New_York:20260221T190000
DTEND;TZID=America/New_York:20260221T210000
DTSTAMP:20260425T172232
CREATED:20260219T154334Z
LAST-MODIFIED:20260220T184757Z
UID:10076994-1771700400-1771707600@mainlineparent.com
SUMMARY:Finding Nemo Jr. Musical
DESCRIPTION:The Academy of Notre Dame de Namur will be hosting its Middle School Musical\, Finding Nemo Jr.\, on February 20 and 21 at 7:00 pm. \nDive under the sea with Marlin\, Dory\, and friends as Notre Dame’s talented middle school students bring this heartwarming Disney adventure to life. It’s a fun-filled show the whole family will love!
URL:https://mainlineparent.com/event/finding-nemo-jr-musical/2026-02-21/
LOCATION:Academy of Notre Dame de Namur\, 560 Sproul Road\, Villanova\, PA\, 19085\, United States
CATEGORIES:Theatre Performances
ATTACH;FMTTYPE=image/png:https://mainlineparent.com/wp-content/uploads/2026/02/social-media-1-e1771613265902.png
ORGANIZER;CN="Academy of Notre Dame de Namur":MAILTO:admissions@ndapa.org
END:VEVENT
BEGIN:VEVENT
DTSTART;TZID=America/New_York:20260221T193000
DTEND;TZID=America/New_York:20260221T213000
DTSTAMP:20260425T172232
CREATED:20251222T165123Z
LAST-MODIFIED:20251222T165656Z
UID:10074425-1771702200-1771709400@mainlineparent.com
SUMMARY:Dear Jack\, Dear Louise at Hedgerow Theatre
DESCRIPTION:Just in time for Valentine’s Day\, join audiences in Media for the Regional Premiere of Dear Jack\, Dear Louise. Tony Award-winning playwright Ken Ludwig wrote this heartwarming story of a World War II courtship about his own parents. \nWhen U.S. Army Captain Jack Ludwig\, a military doctor in Oregon\, starts writing letters to Louise Rabiner\, an aspiring actress in New York City\, neither could predict where their wartime correspondence would lead. \nThere are both evening and matinee performances offered as well as several special events including a relaxed performance\, an ASL interpreted performance\, and a show with a Happy Hour PRIDE reception. See the theatre’s website for details. \nThis show is suited to audience members ages 10 and older and contains references to war and violence.
URL:https://mainlineparent.com/event/dear-jack-dear-louise-at-hedgerow-theatre/2026-02-21/
LOCATION:Hedgerow Theatre\, 64 Rose Valley Road\, Media\, PA\, 19063
CATEGORIES:Delaware County Events,Theatre Performances
ATTACH;FMTTYPE=image/jpeg:https://mainlineparent.com/wp-content/uploads/2025/12/Hedgerow_DearJackDearLouise_1080SqWebsite-e1766422277952.jpg
END:VEVENT
BEGIN:VEVENT
DTSTART;TZID=America/New_York:20260222T110000
DTEND;TZID=America/New_York:20260222T130000
DTSTAMP:20260425T172232
CREATED:20260202T214254Z
LAST-MODIFIED:20260202T214254Z
UID:10075304-1771758000-1771765200@mainlineparent.com
SUMMARY:Shrek the Musical!
DESCRIPTION:Enjoy this cast of multigenerational members of the community as they perform Shrek the Musical! See your favorite characters such as Shrek\, Fiona\, Lord Farquaad\, the Gingerbread man\, and of course the hilarious Donkey! \nBuy your tickets soon as they tend to sell out!
URL:https://mainlineparent.com/event/shrek-the-musical/2026-02-22/1/
LOCATION:Adath Israel of the Main Line\, 250 N. Highland Ave\, Merion\, PA\, 19066\, United States
CATEGORIES:Theatre Performances
ATTACH;FMTTYPE=image/jpeg:https://mainlineparent.com/wp-content/uploads/2026/01/Shrek-Lawn-Sign-1-1-e1770068555519.jpg
END:VEVENT
BEGIN:VEVENT
DTSTART;TZID=America/New_York:20260222T140000
DTEND;TZID=America/New_York:20260222T160000
DTSTAMP:20260425T172232
CREATED:20251004T120735Z
LAST-MODIFIED:20251004T120735Z
UID:10059894-1771768800-1771776000@mainlineparent.com
SUMMARY:Dreams in Motion with First State Ballet Theatre
DESCRIPTION:Dreams in Motion by First State Ballet Theatre is contemporary ballet that is sure to move you. \nThis program explores the whimsical and surreal side of the dreamscape with two ballets from FSBT’s repertoire by choreographer Viktor Plotnikov: Fantasy to Dvořák and Nonsense (In the Sense of Innocence). Audiences will enjoy striking costumes and electrifying movement brought back onstage for the first time since their premieres.
URL:https://mainlineparent.com/event/dreams-in-motion-with-first-state-ballet-theatre/2026-02-22/
LOCATION:The Grand Opera House\, 818 N Market Street\, Wilmington\, DE\, 19818\, United States
CATEGORIES:Presidents' Day,Theatre Performances
ATTACH;FMTTYPE=image/jpeg:https://mainlineparent.com/wp-content/uploads/2025/06/Dreams_1200x630-timeline-post-1.jpg
END:VEVENT
BEGIN:VEVENT
DTSTART;TZID=America/New_York:20260222T140000
DTEND;TZID=America/New_York:20260222T160000
DTSTAMP:20260425T172232
CREATED:20251222T165123Z
LAST-MODIFIED:20251222T165656Z
UID:10074426-1771768800-1771776000@mainlineparent.com
SUMMARY:Dear Jack\, Dear Louise at Hedgerow Theatre
DESCRIPTION:Just in time for Valentine’s Day\, join audiences in Media for the Regional Premiere of Dear Jack\, Dear Louise. Tony Award-winning playwright Ken Ludwig wrote this heartwarming story of a World War II courtship about his own parents. \nWhen U.S. Army Captain Jack Ludwig\, a military doctor in Oregon\, starts writing letters to Louise Rabiner\, an aspiring actress in New York City\, neither could predict where their wartime correspondence would lead. \nThere are both evening and matinee performances offered as well as several special events including a relaxed performance\, an ASL interpreted performance\, and a show with a Happy Hour PRIDE reception. See the theatre’s website for details. \nThis show is suited to audience members ages 10 and older and contains references to war and violence.
URL:https://mainlineparent.com/event/dear-jack-dear-louise-at-hedgerow-theatre/2026-02-22/
LOCATION:Hedgerow Theatre\, 64 Rose Valley Road\, Media\, PA\, 19063
CATEGORIES:Delaware County Events,Theatre Performances
ATTACH;FMTTYPE=image/jpeg:https://mainlineparent.com/wp-content/uploads/2025/12/Hedgerow_DearJackDearLouise_1080SqWebsite-e1766422277952.jpg
END:VEVENT
BEGIN:VEVENT
DTSTART;TZID=America/New_York:20260222T153000
DTEND;TZID=America/New_York:20260222T173000
DTSTAMP:20260425T172232
CREATED:20260202T214254Z
LAST-MODIFIED:20260202T214254Z
UID:10075305-1771774200-1771781400@mainlineparent.com
SUMMARY:Shrek the Musical!
DESCRIPTION:Enjoy this cast of multigenerational members of the community as they perform Shrek the Musical! See your favorite characters such as Shrek\, Fiona\, Lord Farquaad\, the Gingerbread man\, and of course the hilarious Donkey! \nBuy your tickets soon as they tend to sell out!
URL:https://mainlineparent.com/event/shrek-the-musical/2026-02-22/2/
LOCATION:Adath Israel of the Main Line\, 250 N. Highland Ave\, Merion\, PA\, 19066\, United States
CATEGORIES:Theatre Performances
ATTACH;FMTTYPE=image/jpeg:https://mainlineparent.com/wp-content/uploads/2026/01/Shrek-Lawn-Sign-1-1-e1770068555519.jpg
END:VEVENT
END:VCALENDAR