BEGIN:VCALENDAR
VERSION:2.0
PRODID:-//Main Line Parent - ECPv6.15.20//NONSGML v1.0//EN
CALSCALE:GREGORIAN
METHOD:PUBLISH
X-ORIGINAL-URL:https://mainlineparent.com
X-WR-CALDESC:Events for Main Line Parent
REFRESH-INTERVAL;VALUE=DURATION:PT1H
X-Robots-Tag:noindex
X-PUBLISHED-TTL:PT1H
BEGIN:VTIMEZONE
TZID:America/New_York
BEGIN:DAYLIGHT
TZOFFSETFROM:-0500
TZOFFSETTO:-0400
TZNAME:EDT
DTSTART:20250309T070000
END:DAYLIGHT
BEGIN:STANDARD
TZOFFSETFROM:-0400
TZOFFSETTO:-0500
TZNAME:EST
DTSTART:20251102T060000
END:STANDARD
BEGIN:DAYLIGHT
TZOFFSETFROM:-0500
TZOFFSETTO:-0400
TZNAME:EDT
DTSTART:20260308T070000
END:DAYLIGHT
BEGIN:STANDARD
TZOFFSETFROM:-0400
TZOFFSETTO:-0500
TZNAME:EST
DTSTART:20261101T060000
END:STANDARD
BEGIN:DAYLIGHT
TZOFFSETFROM:-0500
TZOFFSETTO:-0400
TZNAME:EDT
DTSTART:20270314T070000
END:DAYLIGHT
BEGIN:STANDARD
TZOFFSETFROM:-0400
TZOFFSETTO:-0500
TZNAME:EST
DTSTART:20271107T060000
END:STANDARD
END:VTIMEZONE
BEGIN:VEVENT
DTSTART;TZID=America/New_York:20260308T113000
DTEND;TZID=America/New_York:20260308T133000
DTSTAMP:20260423T114650
CREATED:20260216T214219Z
LAST-MODIFIED:20260216T214219Z
UID:10076980-1772969400-1772976600@mainlineparent.com
SUMMARY:15th Annual Philadelphia Youth Ballet Spring Concert
DESCRIPTION:The 15th Annual Youth Ballet Spring Concert will be performed on Sunday\, March 8th. This show features classical and original works performed by young dancers from the Philadelphia Youth Ballet. It’s an audition-based ensemble focused on developing technical skill\, artistry\, and confidence. \nVisit the website to see the show schedule and to purchase tickets.
URL:https://mainlineparent.com/event/15th-annual-philadelphia-youth-ballet-spring-concert/2026-03-08/1/
LOCATION:FRINGEARTS\, 140 N. Colombus Blvd.\, Philadelphia\, PA\, 19106\, United States
CATEGORIES:Family Event,Theatre Performances
ATTACH;FMTTYPE=image/jpeg:https://mainlineparent.com/wp-content/uploads/2024/08/Philadelphia-Dance-Academy-young-dancers-holding-hands-e1771278073205.jpg
END:VEVENT
BEGIN:VEVENT
DTSTART;TZID=America/New_York:20260308T143000
DTEND;TZID=America/New_York:20260308T153000
DTSTAMP:20260423T114651
CREATED:20260216T214219Z
LAST-MODIFIED:20260216T214219Z
UID:10076981-1772980200-1772983800@mainlineparent.com
SUMMARY:15th Annual Philadelphia Youth Ballet Spring Concert
DESCRIPTION:The 15th Annual Youth Ballet Spring Concert will be performed on Sunday\, March 8th. This show features classical and original works performed by young dancers from the Philadelphia Youth Ballet. It’s an audition-based ensemble focused on developing technical skill\, artistry\, and confidence. \nVisit the website to see the show schedule and to purchase tickets.
URL:https://mainlineparent.com/event/15th-annual-philadelphia-youth-ballet-spring-concert/2026-03-08/2/
LOCATION:FRINGEARTS\, 140 N. Colombus Blvd.\, Philadelphia\, PA\, 19106\, United States
CATEGORIES:Family Event,Theatre Performances
ATTACH;FMTTYPE=image/jpeg:https://mainlineparent.com/wp-content/uploads/2024/08/Philadelphia-Dance-Academy-young-dancers-holding-hands-e1771278073205.jpg
END:VEVENT
BEGIN:VEVENT
DTSTART;TZID=America/New_York:20260320T190000
DTEND;TZID=America/New_York:20260320T210000
DTSTAMP:20260423T114651
CREATED:20260313T135808Z
LAST-MODIFIED:20260313T135808Z
UID:10077647-1774033200-1774040400@mainlineparent.com
SUMMARY:Shrek The Musical
DESCRIPTION:The Springer Studio Youth Theatre presents Shrek The Musical! \nThis show is full of moments that will make you laugh\, cry\, and everything in between. Full of fun for the whole family! Tickets are limited and selling quickly\, so get yours today! \nShow times:\nMarch 20th @ 7pm\nMarch 21st @ 1pm and 7pm\nMarch 22nd at 1pm
URL:https://mainlineparent.com/event/shrek-the-musical-2/2026-03-20/
LOCATION:The Springer Studio Youth Theater\, 751 Pike Springs Road\, Phoenixville\, PA\, 19460
CATEGORIES:Chester County Events,Community Event,Family Event,For Kids Ages 4 – 6,For Kids Ages 5-7,For Kids Ages 8 – 10,For Parents,For The Whole Family,Musical Performance,Theatre Performances
ATTACH;FMTTYPE=image/jpeg:https://mainlineparent.com/wp-content/uploads/2026/03/Shrek-at-Springer-Studio-e1773410276140.jpg
END:VEVENT
BEGIN:VEVENT
DTSTART;TZID=America/New_York:20260321T130000
DTEND;TZID=America/New_York:20260321T150000
DTSTAMP:20260423T114651
CREATED:20260313T135808Z
LAST-MODIFIED:20260313T135808Z
UID:10077648-1774098000-1774105200@mainlineparent.com
SUMMARY:Shrek The Musical
DESCRIPTION:The Springer Studio Youth Theatre presents Shrek The Musical! \nThis show is full of moments that will make you laugh\, cry\, and everything in between. Full of fun for the whole family! Tickets are limited and selling quickly\, so get yours today! \nShow times:\nMarch 20th @ 7pm\nMarch 21st @ 1pm and 7pm\nMarch 22nd at 1pm
URL:https://mainlineparent.com/event/shrek-the-musical-2/2026-03-21/1/
LOCATION:The Springer Studio Youth Theater\, 751 Pike Springs Road\, Phoenixville\, PA\, 19460
CATEGORIES:Chester County Events,Community Event,Family Event,For Kids Ages 4 – 6,For Kids Ages 5-7,For Kids Ages 8 – 10,For Parents,For The Whole Family,Musical Performance,Theatre Performances
ATTACH;FMTTYPE=image/jpeg:https://mainlineparent.com/wp-content/uploads/2026/03/Shrek-at-Springer-Studio-e1773410276140.jpg
END:VEVENT
BEGIN:VEVENT
DTSTART;TZID=America/New_York:20260321T190000
DTEND;TZID=America/New_York:20260321T210000
DTSTAMP:20260423T114651
CREATED:20260313T135808Z
LAST-MODIFIED:20260313T135808Z
UID:10077649-1774119600-1774126800@mainlineparent.com
SUMMARY:Shrek The Musical
DESCRIPTION:The Springer Studio Youth Theatre presents Shrek The Musical! \nThis show is full of moments that will make you laugh\, cry\, and everything in between. Full of fun for the whole family! Tickets are limited and selling quickly\, so get yours today! \nShow times:\nMarch 20th @ 7pm\nMarch 21st @ 1pm and 7pm\nMarch 22nd at 1pm
URL:https://mainlineparent.com/event/shrek-the-musical-2/2026-03-21/2/
LOCATION:The Springer Studio Youth Theater\, 751 Pike Springs Road\, Phoenixville\, PA\, 19460
CATEGORIES:Chester County Events,Community Event,Family Event,For Kids Ages 4 – 6,For Kids Ages 5-7,For Kids Ages 8 – 10,For Parents,For The Whole Family,Musical Performance,Theatre Performances
ATTACH;FMTTYPE=image/jpeg:https://mainlineparent.com/wp-content/uploads/2026/03/Shrek-at-Springer-Studio-e1773410276140.jpg
END:VEVENT
BEGIN:VEVENT
DTSTART;TZID=America/New_York:20260322T130000
DTEND;TZID=America/New_York:20260322T150000
DTSTAMP:20260423T114651
CREATED:20260313T135808Z
LAST-MODIFIED:20260313T135808Z
UID:10077650-1774184400-1774191600@mainlineparent.com
SUMMARY:Shrek The Musical
DESCRIPTION:The Springer Studio Youth Theatre presents Shrek The Musical! \nThis show is full of moments that will make you laugh\, cry\, and everything in between. Full of fun for the whole family! Tickets are limited and selling quickly\, so get yours today! \nShow times:\nMarch 20th @ 7pm\nMarch 21st @ 1pm and 7pm\nMarch 22nd at 1pm
URL:https://mainlineparent.com/event/shrek-the-musical-2/2026-03-22/
LOCATION:The Springer Studio Youth Theater\, 751 Pike Springs Road\, Phoenixville\, PA\, 19460
CATEGORIES:Chester County Events,Community Event,Family Event,For Kids Ages 4 – 6,For Kids Ages 5-7,For Kids Ages 8 – 10,For Parents,For The Whole Family,Musical Performance,Theatre Performances
ATTACH;FMTTYPE=image/jpeg:https://mainlineparent.com/wp-content/uploads/2026/03/Shrek-at-Springer-Studio-e1773410276140.jpg
END:VEVENT
BEGIN:VEVENT
DTSTART;TZID=America/New_York:20260328T140000
DTEND;TZID=America/New_York:20260328T160000
DTSTAMP:20260423T114651
CREATED:20260328T160325Z
LAST-MODIFIED:20260328T160325Z
UID:10077705-1774706400-1774713600@mainlineparent.com
SUMMARY:Shrek Jr. by CCC Shines
DESCRIPTION:Over 200+ students have come together for this production of Shrek Jr.\, learning teamwork\, building confidence\, and forming friendships that extend far beyond the stage. \nJoin CCC Shines for this hilarious production at Cardinal O’Hara High School. Purchase tickets here.
URL:https://mainlineparent.com/event/shrek-jr-by-ccc-shines/2026-03-28/
LOCATION:Cardinal O’Hara High School\, 1701 S. Sproul Road\, Springfield\, PA\, 19064
CATEGORIES:Community Event,For The Whole Family,Theatre Performances
ATTACH;FMTTYPE=image/jpeg:https://mainlineparent.com/wp-content/uploads/2026/03/CCC-Shrek-Jr.jpg
END:VEVENT
BEGIN:VEVENT
DTSTART;TZID=America/New_York:20260329T140000
DTEND;TZID=America/New_York:20260329T160000
DTSTAMP:20260423T114651
CREATED:20260328T160325Z
LAST-MODIFIED:20260328T160325Z
UID:10077706-1774792800-1774800000@mainlineparent.com
SUMMARY:Shrek Jr. by CCC Shines
DESCRIPTION:Over 200+ students have come together for this production of Shrek Jr.\, learning teamwork\, building confidence\, and forming friendships that extend far beyond the stage. \nJoin CCC Shines for this hilarious production at Cardinal O’Hara High School. Purchase tickets here.
URL:https://mainlineparent.com/event/shrek-jr-by-ccc-shines/2026-03-29/
LOCATION:Cardinal O’Hara High School\, 1701 S. Sproul Road\, Springfield\, PA\, 19064
CATEGORIES:Community Event,For The Whole Family,Theatre Performances
ATTACH;FMTTYPE=image/jpeg:https://mainlineparent.com/wp-content/uploads/2026/03/CCC-Shrek-Jr.jpg
END:VEVENT
BEGIN:VEVENT
DTSTART;TZID=America/New_York:20260410T190000
DTEND;TZID=America/New_York:20260410T210000
DTSTAMP:20260423T114651
CREATED:20260319T135344Z
LAST-MODIFIED:20260319T140135Z
UID:10077688-1775847600-1775854800@mainlineparent.com
SUMMARY:PAHS Musical: CATCH ME IF YOU CAN
DESCRIPTION:Did you know one of the most famous con-artists in history once posed as a pilot for the most iconic airline in aviation history- Pan Am? \nNow you can see the incredible true story live on stage as Phoenixville Area High School presents Catch Me If You Can!  \nBased on the real-life adventures of Frank Abagnale Jr.—who famously impersonated a Pan American World Airways pilot as well as a doctor and lawyer while staying one step ahead of the FBI—this high-energy musical brings the glamour of the 1960s jet age to life. \nThe story was inspired by the autobiography Catch Me If You Can\, the hit film Catch Me If You Can directed by legendary filmmaker Steven Spielberg and starring Leonardo DiCaprio and Tom Hanks—and later became a hit Broadway musical. \n Expect big dance numbers\, glamorous stewardesses\, comedy\, adventure\, and a thrilling FBI cat and mouse chase! \n Performances: April 10th and 11th @ 7pm and April 12th @ 2pm \n Phoenixville Area Middle School Auditorium:1000 Purple Pride Pkwy Phoenixville\, PA \n Tickets:https://cur8.com/39876/project/138273 \nDon’t miss this stylish jet-age Broadway adventure performed by the talented PAHS students! 
URL:https://mainlineparent.com/event/pahs-musical-catch-me-if-you-can/2026-04-10/
LOCATION:Phoenixville Area Middle School\, 1000 Purple Pride Parkway\, Phoenixville\, PA\, 19460\, United States
CATEGORIES:Community Event,For Kids Ages 11 – 14,For Kids Ages 15+,For The Whole Family,Musical Performance,Theatre Performances
ATTACH;FMTTYPE=image/jpeg:https://mainlineparent.com/wp-content/uploads/2026/03/catch-me-if-you-can.jpg
END:VEVENT
BEGIN:VEVENT
DTSTART;TZID=America/New_York:20260411T190000
DTEND;TZID=America/New_York:20260411T210000
DTSTAMP:20260423T114651
CREATED:20260319T135344Z
LAST-MODIFIED:20260319T140135Z
UID:10077689-1775934000-1775941200@mainlineparent.com
SUMMARY:PAHS Musical: CATCH ME IF YOU CAN
DESCRIPTION:Did you know one of the most famous con-artists in history once posed as a pilot for the most iconic airline in aviation history- Pan Am? \nNow you can see the incredible true story live on stage as Phoenixville Area High School presents Catch Me If You Can!  \nBased on the real-life adventures of Frank Abagnale Jr.—who famously impersonated a Pan American World Airways pilot as well as a doctor and lawyer while staying one step ahead of the FBI—this high-energy musical brings the glamour of the 1960s jet age to life. \nThe story was inspired by the autobiography Catch Me If You Can\, the hit film Catch Me If You Can directed by legendary filmmaker Steven Spielberg and starring Leonardo DiCaprio and Tom Hanks—and later became a hit Broadway musical. \n Expect big dance numbers\, glamorous stewardesses\, comedy\, adventure\, and a thrilling FBI cat and mouse chase! \n Performances: April 10th and 11th @ 7pm and April 12th @ 2pm \n Phoenixville Area Middle School Auditorium:1000 Purple Pride Pkwy Phoenixville\, PA \n Tickets:https://cur8.com/39876/project/138273 \nDon’t miss this stylish jet-age Broadway adventure performed by the talented PAHS students! 
URL:https://mainlineparent.com/event/pahs-musical-catch-me-if-you-can/2026-04-11/
LOCATION:Phoenixville Area Middle School\, 1000 Purple Pride Parkway\, Phoenixville\, PA\, 19460\, United States
CATEGORIES:Community Event,For Kids Ages 11 – 14,For Kids Ages 15+,For The Whole Family,Musical Performance,Theatre Performances
ATTACH;FMTTYPE=image/jpeg:https://mainlineparent.com/wp-content/uploads/2026/03/catch-me-if-you-can.jpg
END:VEVENT
BEGIN:VEVENT
DTSTART;TZID=America/New_York:20260412T140000
DTEND;TZID=America/New_York:20260412T160000
DTSTAMP:20260423T114651
CREATED:20260319T135344Z
LAST-MODIFIED:20260319T140135Z
UID:10077690-1776002400-1776009600@mainlineparent.com
SUMMARY:PAHS Musical: CATCH ME IF YOU CAN
DESCRIPTION:Did you know one of the most famous con-artists in history once posed as a pilot for the most iconic airline in aviation history- Pan Am? \nNow you can see the incredible true story live on stage as Phoenixville Area High School presents Catch Me If You Can!  \nBased on the real-life adventures of Frank Abagnale Jr.—who famously impersonated a Pan American World Airways pilot as well as a doctor and lawyer while staying one step ahead of the FBI—this high-energy musical brings the glamour of the 1960s jet age to life. \nThe story was inspired by the autobiography Catch Me If You Can\, the hit film Catch Me If You Can directed by legendary filmmaker Steven Spielberg and starring Leonardo DiCaprio and Tom Hanks—and later became a hit Broadway musical. \n Expect big dance numbers\, glamorous stewardesses\, comedy\, adventure\, and a thrilling FBI cat and mouse chase! \n Performances: April 10th and 11th @ 7pm and April 12th @ 2pm \n Phoenixville Area Middle School Auditorium:1000 Purple Pride Pkwy Phoenixville\, PA \n Tickets:https://cur8.com/39876/project/138273 \nDon’t miss this stylish jet-age Broadway adventure performed by the talented PAHS students! 
URL:https://mainlineparent.com/event/pahs-musical-catch-me-if-you-can/2026-04-12/
LOCATION:Phoenixville Area Middle School\, 1000 Purple Pride Parkway\, Phoenixville\, PA\, 19460\, United States
CATEGORIES:Community Event,For Kids Ages 11 – 14,For Kids Ages 15+,For The Whole Family,Musical Performance,Theatre Performances
ATTACH;FMTTYPE=image/jpeg:https://mainlineparent.com/wp-content/uploads/2026/03/catch-me-if-you-can.jpg
END:VEVENT
BEGIN:VEVENT
DTSTART;TZID=America/New_York:20260424T193000
DTEND;TZID=America/New_York:20260424T220000
DTSTAMP:20260423T114651
CREATED:20260420T165950Z
LAST-MODIFIED:20260420T165950Z
UID:10077794-1777059000-1777068000@mainlineparent.com
SUMMARY:Broadway Shabbat
DESCRIPTION:The service is Broadway. The after party is legendary.  \nWhat if Shabbat sounded like Broadway? On Friday\, April 24\, it does. Imagine Hamilton\, Les Misérables\, Fiddler on the Roof\, Dear Evan Hansen\, and Beauty and the Beast woven into every prayer\, every blessing\, and every sacred moment of Kabbalat Shabbat. \nAnd when the curtain comes down?\nStay for the after-party — featuring Broadway trivia\, a dessert bar\, and great people. \nTBA Broadway Shabbat\nFriday\, April 24 | 7:30 PM\nTemple Brith Achim | King of Prussia \nYou do not have to be a member. You just have to love a great song. \n For more information: https://www.brithachim.org/email-us.html
URL:https://mainlineparent.com/event/broadway-shabbat/
LOCATION:Temple Brith Achim\, 481 S Gulph Road\, King of Prussia\, PA
CATEGORIES:Community Event,For Kids Ages 11 – 14,For Kids Ages 15+,For Kids Ages 4 – 6,For Kids Ages 7 – 10,For The Whole Family,Montgomery County Events,Theatre Performances
ATTACH;FMTTYPE=image/jpeg:https://mainlineparent.com/wp-content/uploads/2026/04/broadway-shabbat-e1776704366284.jpg
END:VEVENT
BEGIN:VEVENT
DTSTART;TZID=America/New_York:20260501T190000
DTEND;TZID=America/New_York:20260501T200000
DTSTAMP:20260423T114651
CREATED:20260220T184020Z
LAST-MODIFIED:20260220T184050Z
UID:10077038-1777662000-1777665600@mainlineparent.com
SUMMARY:Willy Wonka JR. at the Uptown
DESCRIPTION:Step inside the world of pure imagination in this golden-ticket musical adventure! \nRoald Dahl’s Willy Wonka JR. brings the delicious adventures of Willy Wonka’s chocolate factory to life in a whimsical\, family-friendly musical packed with magic\, mischief\, and music. Featuring beloved songs from the classic 1971 film—alongside delightful new tunes—this scrumdidilyumptious production promises a treat for audiences of all ages. \nFollow the mysterious candy maker Willy Wonka as he launches a worldwide contest: five lucky golden ticket winners will earn a once-in-a-lifetime tour of his legendary chocolate factory. Among the winners is kind-hearted Charlie Bucket\, who embarks on an unforgettable adventure with his Grandpa Joe. Inside the factory\, the children encounter unforgettable rooms\, surprising lessons\, and the always-watchful Oompa-Loompas—reminding everyone that following the rules just might save the day. \nFull of heart\, humor\, and fantastical fun\, Willy Wonka JR. is a sweet celebration of imagination and the belief that goodness always wins. Approximately 1 hour. No intermission. Secure tickets here.
URL:https://mainlineparent.com/event/willy-wonka-jr-at-the-uptown/2026-05-01/
LOCATION:Uptown Knauer Performing Arts Center\, 226 N. High Street\, West Chester\, PA\, 19380\, United States
CATEGORIES:Chester County Events,Family Event,Theatre Performances
ATTACH;FMTTYPE=image/jpeg:https://mainlineparent.com/wp-content/uploads/2026/02/Uptown-willy-wonka-jr-tile-e1771612749952.jpg
END:VEVENT
BEGIN:VEVENT
DTSTART;TZID=America/New_York:20260502T140000
DTEND;TZID=America/New_York:20260502T150000
DTSTAMP:20260423T114651
CREATED:20260220T184020Z
LAST-MODIFIED:20260220T184050Z
UID:10077039-1777730400-1777734000@mainlineparent.com
SUMMARY:Willy Wonka JR. at the Uptown
DESCRIPTION:Step inside the world of pure imagination in this golden-ticket musical adventure! \nRoald Dahl’s Willy Wonka JR. brings the delicious adventures of Willy Wonka’s chocolate factory to life in a whimsical\, family-friendly musical packed with magic\, mischief\, and music. Featuring beloved songs from the classic 1971 film—alongside delightful new tunes—this scrumdidilyumptious production promises a treat for audiences of all ages. \nFollow the mysterious candy maker Willy Wonka as he launches a worldwide contest: five lucky golden ticket winners will earn a once-in-a-lifetime tour of his legendary chocolate factory. Among the winners is kind-hearted Charlie Bucket\, who embarks on an unforgettable adventure with his Grandpa Joe. Inside the factory\, the children encounter unforgettable rooms\, surprising lessons\, and the always-watchful Oompa-Loompas—reminding everyone that following the rules just might save the day. \nFull of heart\, humor\, and fantastical fun\, Willy Wonka JR. is a sweet celebration of imagination and the belief that goodness always wins. Approximately 1 hour. No intermission. Secure tickets here.
URL:https://mainlineparent.com/event/willy-wonka-jr-at-the-uptown/2026-05-02/
LOCATION:Uptown Knauer Performing Arts Center\, 226 N. High Street\, West Chester\, PA\, 19380\, United States
CATEGORIES:Chester County Events,Family Event,Theatre Performances
ATTACH;FMTTYPE=image/jpeg:https://mainlineparent.com/wp-content/uploads/2026/02/Uptown-willy-wonka-jr-tile-e1771612749952.jpg
END:VEVENT
BEGIN:VEVENT
DTSTART;TZID=America/New_York:20260503T140000
DTEND;TZID=America/New_York:20260503T150000
DTSTAMP:20260423T114651
CREATED:20260220T184020Z
LAST-MODIFIED:20260220T184050Z
UID:10077040-1777816800-1777820400@mainlineparent.com
SUMMARY:Willy Wonka JR. at the Uptown
DESCRIPTION:Step inside the world of pure imagination in this golden-ticket musical adventure! \nRoald Dahl’s Willy Wonka JR. brings the delicious adventures of Willy Wonka’s chocolate factory to life in a whimsical\, family-friendly musical packed with magic\, mischief\, and music. Featuring beloved songs from the classic 1971 film—alongside delightful new tunes—this scrumdidilyumptious production promises a treat for audiences of all ages. \nFollow the mysterious candy maker Willy Wonka as he launches a worldwide contest: five lucky golden ticket winners will earn a once-in-a-lifetime tour of his legendary chocolate factory. Among the winners is kind-hearted Charlie Bucket\, who embarks on an unforgettable adventure with his Grandpa Joe. Inside the factory\, the children encounter unforgettable rooms\, surprising lessons\, and the always-watchful Oompa-Loompas—reminding everyone that following the rules just might save the day. \nFull of heart\, humor\, and fantastical fun\, Willy Wonka JR. is a sweet celebration of imagination and the belief that goodness always wins. Approximately 1 hour. No intermission. Secure tickets here.
URL:https://mainlineparent.com/event/willy-wonka-jr-at-the-uptown/2026-05-03/
LOCATION:Uptown Knauer Performing Arts Center\, 226 N. High Street\, West Chester\, PA\, 19380\, United States
CATEGORIES:Chester County Events,Family Event,Theatre Performances
ATTACH;FMTTYPE=image/jpeg:https://mainlineparent.com/wp-content/uploads/2026/02/Uptown-willy-wonka-jr-tile-e1771612749952.jpg
END:VEVENT
BEGIN:VEVENT
DTSTART;TZID=America/New_York:20260507T190000
DTEND;TZID=America/New_York:20260507T210000
DTSTAMP:20260423T114651
CREATED:20260416T144338Z
LAST-MODIFIED:20260416T144338Z
UID:10077788-1778180400-1778187600@mainlineparent.com
SUMMARY:CCC Shines Presents: Jungle Book Kids
DESCRIPTION:CCC Shines is excited to introduce a special 4-week Micro on stage Production of Disney’s The Jungle Book KIDS for students in 2nd-6th Grade. \nDesigned for students who are eager for a quick\, high-energy performance experience\, this condensed rehearsal process allows young performers to strengthen their acting skills\, build stage confidence\, and collaborate in a joyful\, focused environment before summer begins. Join us for our performance on May 7th at 7pm.
URL:https://mainlineparent.com/event/ccc-shines-presents-jungle-book-kids/
LOCATION:CCC Shines\, 1701 S. Sproul Road\, Springfield\, PA\, 19064\, United States
CATEGORIES:Community Event,Delaware County Events,Family Event,For The Whole Family,Musical Performance,Theatre Performances
ATTACH;FMTTYPE=image/jpeg:https://mainlineparent.com/wp-content/uploads/2026/04/CCC-SHINES-Jungle-Book.jpg
END:VEVENT
END:VCALENDAR