BEGIN:VCALENDAR
VERSION:2.0
PRODID:-//Main Line Parent - ECPv6.15.20//NONSGML v1.0//EN
CALSCALE:GREGORIAN
METHOD:PUBLISH
X-WR-CALNAME:Main Line Parent
X-ORIGINAL-URL:https://mainlineparent.com
X-WR-CALDESC:Events for Main Line Parent
REFRESH-INTERVAL;VALUE=DURATION:PT1H
X-Robots-Tag:noindex
X-PUBLISHED-TTL:PT1H
BEGIN:VTIMEZONE
TZID:America/New_York
BEGIN:DAYLIGHT
TZOFFSETFROM:-0500
TZOFFSETTO:-0400
TZNAME:EDT
DTSTART:20250309T070000
END:DAYLIGHT
BEGIN:STANDARD
TZOFFSETFROM:-0400
TZOFFSETTO:-0500
TZNAME:EST
DTSTART:20251102T060000
END:STANDARD
BEGIN:DAYLIGHT
TZOFFSETFROM:-0500
TZOFFSETTO:-0400
TZNAME:EDT
DTSTART:20260308T070000
END:DAYLIGHT
BEGIN:STANDARD
TZOFFSETFROM:-0400
TZOFFSETTO:-0500
TZNAME:EST
DTSTART:20261101T060000
END:STANDARD
BEGIN:DAYLIGHT
TZOFFSETFROM:-0500
TZOFFSETTO:-0400
TZNAME:EDT
DTSTART:20270314T070000
END:DAYLIGHT
BEGIN:STANDARD
TZOFFSETFROM:-0400
TZOFFSETTO:-0500
TZNAME:EST
DTSTART:20271107T060000
END:STANDARD
END:VTIMEZONE
BEGIN:VEVENT
DTSTART;TZID=America/New_York:20260222T110000
DTEND;TZID=America/New_York:20260222T130000
DTSTAMP:20260423T193405
CREATED:20260202T214254Z
LAST-MODIFIED:20260202T214254Z
UID:10075304-1771758000-1771765200@mainlineparent.com
SUMMARY:Shrek the Musical!
DESCRIPTION:Enjoy this cast of multigenerational members of the community as they perform Shrek the Musical! See your favorite characters such as Shrek\, Fiona\, Lord Farquaad\, the Gingerbread man\, and of course the hilarious Donkey! \nBuy your tickets soon as they tend to sell out!
URL:https://mainlineparent.com/event/shrek-the-musical/2026-02-22/1/
LOCATION:Adath Israel of the Main Line\, 250 N. Highland Ave\, Merion\, PA\, 19066\, United States
CATEGORIES:Theatre Performances
ATTACH;FMTTYPE=image/jpeg:https://mainlineparent.com/wp-content/uploads/2026/01/Shrek-Lawn-Sign-1-1-e1770068555519.jpg
END:VEVENT
BEGIN:VEVENT
DTSTART;TZID=America/New_York:20260222T140000
DTEND;TZID=America/New_York:20260222T160000
DTSTAMP:20260423T193405
CREATED:20251004T120735Z
LAST-MODIFIED:20251004T120735Z
UID:10059894-1771768800-1771776000@mainlineparent.com
SUMMARY:Dreams in Motion with First State Ballet Theatre
DESCRIPTION:Dreams in Motion by First State Ballet Theatre is contemporary ballet that is sure to move you. \nThis program explores the whimsical and surreal side of the dreamscape with two ballets from FSBT’s repertoire by choreographer Viktor Plotnikov: Fantasy to Dvořák and Nonsense (In the Sense of Innocence). Audiences will enjoy striking costumes and electrifying movement brought back onstage for the first time since their premieres.
URL:https://mainlineparent.com/event/dreams-in-motion-with-first-state-ballet-theatre/2026-02-22/
LOCATION:The Grand Opera House\, 818 N Market Street\, Wilmington\, DE\, 19818\, United States
CATEGORIES:Presidents' Day,Theatre Performances
ATTACH;FMTTYPE=image/jpeg:https://mainlineparent.com/wp-content/uploads/2025/06/Dreams_1200x630-timeline-post-1.jpg
END:VEVENT
BEGIN:VEVENT
DTSTART;TZID=America/New_York:20260222T140000
DTEND;TZID=America/New_York:20260222T160000
DTSTAMP:20260423T193405
CREATED:20251222T165123Z
LAST-MODIFIED:20251222T165656Z
UID:10074426-1771768800-1771776000@mainlineparent.com
SUMMARY:Dear Jack\, Dear Louise at Hedgerow Theatre
DESCRIPTION:Just in time for Valentine’s Day\, join audiences in Media for the Regional Premiere of Dear Jack\, Dear Louise. Tony Award-winning playwright Ken Ludwig wrote this heartwarming story of a World War II courtship about his own parents. \nWhen U.S. Army Captain Jack Ludwig\, a military doctor in Oregon\, starts writing letters to Louise Rabiner\, an aspiring actress in New York City\, neither could predict where their wartime correspondence would lead. \nThere are both evening and matinee performances offered as well as several special events including a relaxed performance\, an ASL interpreted performance\, and a show with a Happy Hour PRIDE reception. See the theatre’s website for details. \nThis show is suited to audience members ages 10 and older and contains references to war and violence.
URL:https://mainlineparent.com/event/dear-jack-dear-louise-at-hedgerow-theatre/2026-02-22/
LOCATION:Hedgerow Theatre\, 64 Rose Valley Road\, Media\, PA\, 19063
CATEGORIES:Delaware County Events,Theatre Performances
ATTACH;FMTTYPE=image/jpeg:https://mainlineparent.com/wp-content/uploads/2025/12/Hedgerow_DearJackDearLouise_1080SqWebsite-e1766422277952.jpg
END:VEVENT
BEGIN:VEVENT
DTSTART;TZID=America/New_York:20260222T153000
DTEND;TZID=America/New_York:20260222T173000
DTSTAMP:20260423T193405
CREATED:20260202T214254Z
LAST-MODIFIED:20260202T214254Z
UID:10075305-1771774200-1771781400@mainlineparent.com
SUMMARY:Shrek the Musical!
DESCRIPTION:Enjoy this cast of multigenerational members of the community as they perform Shrek the Musical! See your favorite characters such as Shrek\, Fiona\, Lord Farquaad\, the Gingerbread man\, and of course the hilarious Donkey! \nBuy your tickets soon as they tend to sell out!
URL:https://mainlineparent.com/event/shrek-the-musical/2026-02-22/2/
LOCATION:Adath Israel of the Main Line\, 250 N. Highland Ave\, Merion\, PA\, 19066\, United States
CATEGORIES:Theatre Performances
ATTACH;FMTTYPE=image/jpeg:https://mainlineparent.com/wp-content/uploads/2026/01/Shrek-Lawn-Sign-1-1-e1770068555519.jpg
END:VEVENT
END:VCALENDAR