BEGIN:VCALENDAR
VERSION:2.0
PRODID:-//Main Line Parent - ECPv6.15.20//NONSGML v1.0//EN
CALSCALE:GREGORIAN
METHOD:PUBLISH
X-WR-CALNAME:Main Line Parent
X-ORIGINAL-URL:https://mainlineparent.com
X-WR-CALDESC:Events for Main Line Parent
REFRESH-INTERVAL;VALUE=DURATION:PT1H
X-Robots-Tag:noindex
X-PUBLISHED-TTL:PT1H
BEGIN:VTIMEZONE
TZID:America/New_York
BEGIN:DAYLIGHT
TZOFFSETFROM:-0500
TZOFFSETTO:-0400
TZNAME:EDT
DTSTART:20250309T070000
END:DAYLIGHT
BEGIN:STANDARD
TZOFFSETFROM:-0400
TZOFFSETTO:-0500
TZNAME:EST
DTSTART:20251102T060000
END:STANDARD
BEGIN:DAYLIGHT
TZOFFSETFROM:-0500
TZOFFSETTO:-0400
TZNAME:EDT
DTSTART:20260308T070000
END:DAYLIGHT
BEGIN:STANDARD
TZOFFSETFROM:-0400
TZOFFSETTO:-0500
TZNAME:EST
DTSTART:20261101T060000
END:STANDARD
BEGIN:DAYLIGHT
TZOFFSETFROM:-0500
TZOFFSETTO:-0400
TZNAME:EDT
DTSTART:20270314T070000
END:DAYLIGHT
BEGIN:STANDARD
TZOFFSETFROM:-0400
TZOFFSETTO:-0500
TZNAME:EST
DTSTART:20271107T060000
END:STANDARD
END:VTIMEZONE
BEGIN:VEVENT
DTSTART;TZID=America/New_York:20260318T090000
DTEND;TZID=America/New_York:20260318T150000
DTSTAMP:20260423T181124
CREATED:20260108T234548Z
LAST-MODIFIED:20260108T234548Z
UID:10074465-1773824400-1773846000@mainlineparent.com
SUMMARY:Foundry Fundays - Day Off Camps in Glenside
DESCRIPTION:Brooklyn Robot Foundry Philly’s Foundry Funday programs turn holidays\, half-days\, spring break\, and school days off into exciting\, screen-free robotics adventures your child will love—and you’ll feel great about. \nDesigned for busy Philly-area parents who want meaningful educational experiences\, their camps blend STEM learning\, creativity\, movement\, and fun in a safe\, nurturing environment. \nWhat Kids Experience: \n\nBuild & take home a robot every camp day\nHands-on STEAM enrichment (robotics\, engineering\, design thinking)\nCollaborative games\, creativity\, and active play\nSocial skill-building with kids across the Greater Philadelphia region\n\nNo prior experience needed—just curiosity!
URL:https://mainlineparent.com/event/foundry-fundays-day-off-camps-in-glenside/2026-03-18/
LOCATION:12 West Glenside Avenue\, Glenside\, PA 19038\, 12 West Glenside Avenue\, Glenside\, PA\, 19038\, United States
CATEGORIES:Day Off Camp,Montgomery County Events,Spring Break Camp
ATTACH;FMTTYPE=image/jpeg:https://mainlineparent.com/wp-content/uploads/2026/01/Foundry-Funday-Winter-Glenside-20261-e1767915938589.jpg
ORGANIZER;CN="Brooklyn Robot Foundry Philly":MAILTO:philly@brooklynrobotfoundry.com
END:VEVENT
BEGIN:VEVENT
DTSTART;TZID=America/New_York:20260319T090000
DTEND;TZID=America/New_York:20260319T150000
DTSTAMP:20260423T181124
CREATED:20260108T234548Z
LAST-MODIFIED:20260108T234548Z
UID:10074466-1773910800-1773932400@mainlineparent.com
SUMMARY:Foundry Fundays - Day Off Camps in Glenside
DESCRIPTION:Brooklyn Robot Foundry Philly’s Foundry Funday programs turn holidays\, half-days\, spring break\, and school days off into exciting\, screen-free robotics adventures your child will love—and you’ll feel great about. \nDesigned for busy Philly-area parents who want meaningful educational experiences\, their camps blend STEM learning\, creativity\, movement\, and fun in a safe\, nurturing environment. \nWhat Kids Experience: \n\nBuild & take home a robot every camp day\nHands-on STEAM enrichment (robotics\, engineering\, design thinking)\nCollaborative games\, creativity\, and active play\nSocial skill-building with kids across the Greater Philadelphia region\n\nNo prior experience needed—just curiosity!
URL:https://mainlineparent.com/event/foundry-fundays-day-off-camps-in-glenside/2026-03-19/
LOCATION:12 West Glenside Avenue\, Glenside\, PA 19038\, 12 West Glenside Avenue\, Glenside\, PA\, 19038\, United States
CATEGORIES:Day Off Camp,Montgomery County Events,Spring Break Camp
ATTACH;FMTTYPE=image/jpeg:https://mainlineparent.com/wp-content/uploads/2026/01/Foundry-Funday-Winter-Glenside-20261-e1767915938589.jpg
ORGANIZER;CN="Brooklyn Robot Foundry Philly":MAILTO:philly@brooklynrobotfoundry.com
END:VEVENT
BEGIN:VEVENT
DTSTART;TZID=America/New_York:20260320T090000
DTEND;TZID=America/New_York:20260320T150000
DTSTAMP:20260423T181124
CREATED:20260108T234548Z
LAST-MODIFIED:20260108T234548Z
UID:10074467-1773997200-1774018800@mainlineparent.com
SUMMARY:Foundry Fundays - Day Off Camps in Glenside
DESCRIPTION:Brooklyn Robot Foundry Philly’s Foundry Funday programs turn holidays\, half-days\, spring break\, and school days off into exciting\, screen-free robotics adventures your child will love—and you’ll feel great about. \nDesigned for busy Philly-area parents who want meaningful educational experiences\, their camps blend STEM learning\, creativity\, movement\, and fun in a safe\, nurturing environment. \nWhat Kids Experience: \n\nBuild & take home a robot every camp day\nHands-on STEAM enrichment (robotics\, engineering\, design thinking)\nCollaborative games\, creativity\, and active play\nSocial skill-building with kids across the Greater Philadelphia region\n\nNo prior experience needed—just curiosity!
URL:https://mainlineparent.com/event/foundry-fundays-day-off-camps-in-glenside/2026-03-20/
LOCATION:12 West Glenside Avenue\, Glenside\, PA 19038\, 12 West Glenside Avenue\, Glenside\, PA\, 19038\, United States
CATEGORIES:Day Off Camp,Montgomery County Events,Spring Break Camp
ATTACH;FMTTYPE=image/jpeg:https://mainlineparent.com/wp-content/uploads/2026/01/Foundry-Funday-Winter-Glenside-20261-e1767915938589.jpg
ORGANIZER;CN="Brooklyn Robot Foundry Philly":MAILTO:philly@brooklynrobotfoundry.com
END:VEVENT
BEGIN:VEVENT
DTSTART;TZID=America/New_York:20260323T120000
DTEND;TZID=America/New_York:20260323T150000
DTSTAMP:20260423T181124
CREATED:20260313T143811Z
LAST-MODIFIED:20260313T143811Z
UID:10077656-1774267200-1774278000@mainlineparent.com
SUMMARY:Spring Break Camp!
DESCRIPTION:Keep the fun rolling during school break! Designed for kids aged 3 to 8\, afternoon camps at The Little Gym combine exciting activities\, gymnastics\, and interactive games to ensure a break full of laughter\, learning\, and lasting memories. Camps include a craft and snack! \nCamps will be held Monday\, Thursday & Friday from March 23 through April 4.
URL:https://mainlineparent.com/event/spring-break-camp/2026-03-23/
LOCATION:The Little Gym Ardmore\, 24 Cricket Avenue\, Ardmore\, PA\, 19003\, United States
CATEGORIES:Day Off Camp,For Kids Ages 4 – 6,For Kids Ages 5-7,Montgomery County Events,Spring Break Camp
ATTACH;FMTTYPE=image/jpeg:https://mainlineparent.com/wp-content/uploads/2026/03/TLG-Spring-Break-Camp-e1773412501463.jpg
END:VEVENT
BEGIN:VEVENT
DTSTART;TZID=America/New_York:20260326T120000
DTEND;TZID=America/New_York:20260326T150000
DTSTAMP:20260423T181124
CREATED:20260313T143811Z
LAST-MODIFIED:20260313T143811Z
UID:10077657-1774526400-1774537200@mainlineparent.com
SUMMARY:Spring Break Camp!
DESCRIPTION:Keep the fun rolling during school break! Designed for kids aged 3 to 8\, afternoon camps at The Little Gym combine exciting activities\, gymnastics\, and interactive games to ensure a break full of laughter\, learning\, and lasting memories. Camps include a craft and snack! \nCamps will be held Monday\, Thursday & Friday from March 23 through April 4.
URL:https://mainlineparent.com/event/spring-break-camp/2026-03-26/
LOCATION:The Little Gym Ardmore\, 24 Cricket Avenue\, Ardmore\, PA\, 19003\, United States
CATEGORIES:Day Off Camp,For Kids Ages 4 – 6,For Kids Ages 5-7,Montgomery County Events,Spring Break Camp
ATTACH;FMTTYPE=image/jpeg:https://mainlineparent.com/wp-content/uploads/2026/03/TLG-Spring-Break-Camp-e1773412501463.jpg
END:VEVENT
BEGIN:VEVENT
DTSTART;TZID=America/New_York:20260327T120000
DTEND;TZID=America/New_York:20260327T150000
DTSTAMP:20260423T181124
CREATED:20260313T143811Z
LAST-MODIFIED:20260313T143811Z
UID:10077658-1774612800-1774623600@mainlineparent.com
SUMMARY:Spring Break Camp!
DESCRIPTION:Keep the fun rolling during school break! Designed for kids aged 3 to 8\, afternoon camps at The Little Gym combine exciting activities\, gymnastics\, and interactive games to ensure a break full of laughter\, learning\, and lasting memories. Camps include a craft and snack! \nCamps will be held Monday\, Thursday & Friday from March 23 through April 4.
URL:https://mainlineparent.com/event/spring-break-camp/2026-03-27/
LOCATION:The Little Gym Ardmore\, 24 Cricket Avenue\, Ardmore\, PA\, 19003\, United States
CATEGORIES:Day Off Camp,For Kids Ages 4 – 6,For Kids Ages 5-7,Montgomery County Events,Spring Break Camp
ATTACH;FMTTYPE=image/jpeg:https://mainlineparent.com/wp-content/uploads/2026/03/TLG-Spring-Break-Camp-e1773412501463.jpg
END:VEVENT
BEGIN:VEVENT
DTSTART;TZID=America/New_York:20260330T090000
DTEND;TZID=America/New_York:20260330T150000
DTSTAMP:20260423T181124
CREATED:20260108T234548Z
LAST-MODIFIED:20260108T234548Z
UID:10074468-1774861200-1774882800@mainlineparent.com
SUMMARY:Foundry Fundays - Day Off Camps in Glenside
DESCRIPTION:Brooklyn Robot Foundry Philly’s Foundry Funday programs turn holidays\, half-days\, spring break\, and school days off into exciting\, screen-free robotics adventures your child will love—and you’ll feel great about. \nDesigned for busy Philly-area parents who want meaningful educational experiences\, their camps blend STEM learning\, creativity\, movement\, and fun in a safe\, nurturing environment. \nWhat Kids Experience: \n\nBuild & take home a robot every camp day\nHands-on STEAM enrichment (robotics\, engineering\, design thinking)\nCollaborative games\, creativity\, and active play\nSocial skill-building with kids across the Greater Philadelphia region\n\nNo prior experience needed—just curiosity!
URL:https://mainlineparent.com/event/foundry-fundays-day-off-camps-in-glenside/2026-03-30/
LOCATION:12 West Glenside Avenue\, Glenside\, PA 19038\, 12 West Glenside Avenue\, Glenside\, PA\, 19038\, United States
CATEGORIES:Day Off Camp,Montgomery County Events,Spring Break Camp
ATTACH;FMTTYPE=image/jpeg:https://mainlineparent.com/wp-content/uploads/2026/01/Foundry-Funday-Winter-Glenside-20261-e1767915938589.jpg
ORGANIZER;CN="Brooklyn Robot Foundry Philly":MAILTO:philly@brooklynrobotfoundry.com
END:VEVENT
BEGIN:VEVENT
DTSTART;TZID=America/New_York:20260330T120000
DTEND;TZID=America/New_York:20260330T150000
DTSTAMP:20260423T181124
CREATED:20260313T143811Z
LAST-MODIFIED:20260313T143811Z
UID:10077659-1774872000-1774882800@mainlineparent.com
SUMMARY:Spring Break Camp!
DESCRIPTION:Keep the fun rolling during school break! Designed for kids aged 3 to 8\, afternoon camps at The Little Gym combine exciting activities\, gymnastics\, and interactive games to ensure a break full of laughter\, learning\, and lasting memories. Camps include a craft and snack! \nCamps will be held Monday\, Thursday & Friday from March 23 through April 4.
URL:https://mainlineparent.com/event/spring-break-camp/2026-03-30/
LOCATION:The Little Gym Ardmore\, 24 Cricket Avenue\, Ardmore\, PA\, 19003\, United States
CATEGORIES:Day Off Camp,For Kids Ages 4 – 6,For Kids Ages 5-7,Montgomery County Events,Spring Break Camp
ATTACH;FMTTYPE=image/jpeg:https://mainlineparent.com/wp-content/uploads/2026/03/TLG-Spring-Break-Camp-e1773412501463.jpg
END:VEVENT
BEGIN:VEVENT
DTSTART;TZID=America/New_York:20260331T090000
DTEND;TZID=America/New_York:20260331T150000
DTSTAMP:20260423T181124
CREATED:20260108T234548Z
LAST-MODIFIED:20260108T234548Z
UID:10074469-1774947600-1774969200@mainlineparent.com
SUMMARY:Foundry Fundays - Day Off Camps in Glenside
DESCRIPTION:Brooklyn Robot Foundry Philly’s Foundry Funday programs turn holidays\, half-days\, spring break\, and school days off into exciting\, screen-free robotics adventures your child will love—and you’ll feel great about. \nDesigned for busy Philly-area parents who want meaningful educational experiences\, their camps blend STEM learning\, creativity\, movement\, and fun in a safe\, nurturing environment. \nWhat Kids Experience: \n\nBuild & take home a robot every camp day\nHands-on STEAM enrichment (robotics\, engineering\, design thinking)\nCollaborative games\, creativity\, and active play\nSocial skill-building with kids across the Greater Philadelphia region\n\nNo prior experience needed—just curiosity!
URL:https://mainlineparent.com/event/foundry-fundays-day-off-camps-in-glenside/2026-03-31/
LOCATION:12 West Glenside Avenue\, Glenside\, PA 19038\, 12 West Glenside Avenue\, Glenside\, PA\, 19038\, United States
CATEGORIES:Day Off Camp,Montgomery County Events,Spring Break Camp
ATTACH;FMTTYPE=image/jpeg:https://mainlineparent.com/wp-content/uploads/2026/01/Foundry-Funday-Winter-Glenside-20261-e1767915938589.jpg
ORGANIZER;CN="Brooklyn Robot Foundry Philly":MAILTO:philly@brooklynrobotfoundry.com
END:VEVENT
BEGIN:VEVENT
DTSTART;TZID=America/New_York:20260401T090000
DTEND;TZID=America/New_York:20260401T150000
DTSTAMP:20260423T181124
CREATED:20260108T234548Z
LAST-MODIFIED:20260108T234548Z
UID:10074470-1775034000-1775055600@mainlineparent.com
SUMMARY:Foundry Fundays - Day Off Camps in Glenside
DESCRIPTION:Brooklyn Robot Foundry Philly’s Foundry Funday programs turn holidays\, half-days\, spring break\, and school days off into exciting\, screen-free robotics adventures your child will love—and you’ll feel great about. \nDesigned for busy Philly-area parents who want meaningful educational experiences\, their camps blend STEM learning\, creativity\, movement\, and fun in a safe\, nurturing environment. \nWhat Kids Experience: \n\nBuild & take home a robot every camp day\nHands-on STEAM enrichment (robotics\, engineering\, design thinking)\nCollaborative games\, creativity\, and active play\nSocial skill-building with kids across the Greater Philadelphia region\n\nNo prior experience needed—just curiosity!
URL:https://mainlineparent.com/event/foundry-fundays-day-off-camps-in-glenside/2026-04-01/
LOCATION:12 West Glenside Avenue\, Glenside\, PA 19038\, 12 West Glenside Avenue\, Glenside\, PA\, 19038\, United States
CATEGORIES:Day Off Camp,Montgomery County Events,Spring Break Camp
ATTACH;FMTTYPE=image/jpeg:https://mainlineparent.com/wp-content/uploads/2026/01/Foundry-Funday-Winter-Glenside-20261-e1767915938589.jpg
ORGANIZER;CN="Brooklyn Robot Foundry Philly":MAILTO:philly@brooklynrobotfoundry.com
END:VEVENT
BEGIN:VEVENT
DTSTART;TZID=America/New_York:20260402T090000
DTEND;TZID=America/New_York:20260402T150000
DTSTAMP:20260423T181124
CREATED:20260108T234548Z
LAST-MODIFIED:20260108T234548Z
UID:10074471-1775120400-1775142000@mainlineparent.com
SUMMARY:Foundry Fundays - Day Off Camps in Glenside
DESCRIPTION:Brooklyn Robot Foundry Philly’s Foundry Funday programs turn holidays\, half-days\, spring break\, and school days off into exciting\, screen-free robotics adventures your child will love—and you’ll feel great about. \nDesigned for busy Philly-area parents who want meaningful educational experiences\, their camps blend STEM learning\, creativity\, movement\, and fun in a safe\, nurturing environment. \nWhat Kids Experience: \n\nBuild & take home a robot every camp day\nHands-on STEAM enrichment (robotics\, engineering\, design thinking)\nCollaborative games\, creativity\, and active play\nSocial skill-building with kids across the Greater Philadelphia region\n\nNo prior experience needed—just curiosity!
URL:https://mainlineparent.com/event/foundry-fundays-day-off-camps-in-glenside/2026-04-02/
LOCATION:12 West Glenside Avenue\, Glenside\, PA 19038\, 12 West Glenside Avenue\, Glenside\, PA\, 19038\, United States
CATEGORIES:Day Off Camp,Montgomery County Events,Spring Break Camp
ATTACH;FMTTYPE=image/jpeg:https://mainlineparent.com/wp-content/uploads/2026/01/Foundry-Funday-Winter-Glenside-20261-e1767915938589.jpg
ORGANIZER;CN="Brooklyn Robot Foundry Philly":MAILTO:philly@brooklynrobotfoundry.com
END:VEVENT
BEGIN:VEVENT
DTSTART;TZID=America/New_York:20260402T120000
DTEND;TZID=America/New_York:20260402T150000
DTSTAMP:20260423T181124
CREATED:20260313T143811Z
LAST-MODIFIED:20260313T143811Z
UID:10077660-1775131200-1775142000@mainlineparent.com
SUMMARY:Spring Break Camp!
DESCRIPTION:Keep the fun rolling during school break! Designed for kids aged 3 to 8\, afternoon camps at The Little Gym combine exciting activities\, gymnastics\, and interactive games to ensure a break full of laughter\, learning\, and lasting memories. Camps include a craft and snack! \nCamps will be held Monday\, Thursday & Friday from March 23 through April 4.
URL:https://mainlineparent.com/event/spring-break-camp/2026-04-02/
LOCATION:The Little Gym Ardmore\, 24 Cricket Avenue\, Ardmore\, PA\, 19003\, United States
CATEGORIES:Day Off Camp,For Kids Ages 4 – 6,For Kids Ages 5-7,Montgomery County Events,Spring Break Camp
ATTACH;FMTTYPE=image/jpeg:https://mainlineparent.com/wp-content/uploads/2026/03/TLG-Spring-Break-Camp-e1773412501463.jpg
END:VEVENT
BEGIN:VEVENT
DTSTART;TZID=America/New_York:20260403T080000
DTEND;TZID=America/New_York:20260403T170000
DTSTAMP:20260423T181124
CREATED:20260108T234548Z
LAST-MODIFIED:20260108T234548Z
UID:10074472-1775203200-1775235600@mainlineparent.com
SUMMARY:Foundry Fundays - Day Off Camps in Glenside
DESCRIPTION:Brooklyn Robot Foundry Philly’s Foundry Funday programs turn holidays\, half-days\, spring break\, and school days off into exciting\, screen-free robotics adventures your child will love—and you’ll feel great about. \nDesigned for busy Philly-area parents who want meaningful educational experiences\, their camps blend STEM learning\, creativity\, movement\, and fun in a safe\, nurturing environment. \nWhat Kids Experience: \n\nBuild & take home a robot every camp day\nHands-on STEAM enrichment (robotics\, engineering\, design thinking)\nCollaborative games\, creativity\, and active play\nSocial skill-building with kids across the Greater Philadelphia region\n\nNo prior experience needed—just curiosity!
URL:https://mainlineparent.com/event/foundry-fundays-day-off-camps-in-glenside/2026-04-03/
LOCATION:12 West Glenside Avenue\, Glenside\, PA 19038\, 12 West Glenside Avenue\, Glenside\, PA\, 19038\, United States
CATEGORIES:Day Off Camp,Montgomery County Events,Spring Break Camp
ATTACH;FMTTYPE=image/jpeg:https://mainlineparent.com/wp-content/uploads/2026/01/Foundry-Funday-Winter-Glenside-20261-e1767915938589.jpg
ORGANIZER;CN="Brooklyn Robot Foundry Philly":MAILTO:philly@brooklynrobotfoundry.com
END:VEVENT
BEGIN:VEVENT
DTSTART;TZID=America/New_York:20260403T120000
DTEND;TZID=America/New_York:20260403T150000
DTSTAMP:20260423T181124
CREATED:20260313T143811Z
LAST-MODIFIED:20260313T143811Z
UID:10077661-1775217600-1775228400@mainlineparent.com
SUMMARY:Spring Break Camp!
DESCRIPTION:Keep the fun rolling during school break! Designed for kids aged 3 to 8\, afternoon camps at The Little Gym combine exciting activities\, gymnastics\, and interactive games to ensure a break full of laughter\, learning\, and lasting memories. Camps include a craft and snack! \nCamps will be held Monday\, Thursday & Friday from March 23 through April 4.
URL:https://mainlineparent.com/event/spring-break-camp/2026-04-03/
LOCATION:The Little Gym Ardmore\, 24 Cricket Avenue\, Ardmore\, PA\, 19003\, United States
CATEGORIES:Day Off Camp,For Kids Ages 4 – 6,For Kids Ages 5-7,Montgomery County Events,Spring Break Camp
ATTACH;FMTTYPE=image/jpeg:https://mainlineparent.com/wp-content/uploads/2026/03/TLG-Spring-Break-Camp-e1773412501463.jpg
END:VEVENT
BEGIN:VEVENT
DTSTART;TZID=America/New_York:20260406T090000
DTEND;TZID=America/New_York:20260406T150000
DTSTAMP:20260423T181124
CREATED:20260108T234548Z
LAST-MODIFIED:20260108T234548Z
UID:10074473-1775466000-1775487600@mainlineparent.com
SUMMARY:Foundry Fundays - Day Off Camps in Glenside
DESCRIPTION:Brooklyn Robot Foundry Philly’s Foundry Funday programs turn holidays\, half-days\, spring break\, and school days off into exciting\, screen-free robotics adventures your child will love—and you’ll feel great about. \nDesigned for busy Philly-area parents who want meaningful educational experiences\, their camps blend STEM learning\, creativity\, movement\, and fun in a safe\, nurturing environment. \nWhat Kids Experience: \n\nBuild & take home a robot every camp day\nHands-on STEAM enrichment (robotics\, engineering\, design thinking)\nCollaborative games\, creativity\, and active play\nSocial skill-building with kids across the Greater Philadelphia region\n\nNo prior experience needed—just curiosity!
URL:https://mainlineparent.com/event/foundry-fundays-day-off-camps-in-glenside/2026-04-06/
LOCATION:12 West Glenside Avenue\, Glenside\, PA 19038\, 12 West Glenside Avenue\, Glenside\, PA\, 19038\, United States
CATEGORIES:Day Off Camp,Montgomery County Events,Spring Break Camp
ATTACH;FMTTYPE=image/jpeg:https://mainlineparent.com/wp-content/uploads/2026/01/Foundry-Funday-Winter-Glenside-20261-e1767915938589.jpg
ORGANIZER;CN="Brooklyn Robot Foundry Philly":MAILTO:philly@brooklynrobotfoundry.com
END:VEVENT
BEGIN:VEVENT
DTSTART;TZID=America/New_York:20260519T090000
DTEND;TZID=America/New_York:20260519T150000
DTSTAMP:20260423T181124
CREATED:20260108T234548Z
LAST-MODIFIED:20260108T234548Z
UID:10074474-1779181200-1779202800@mainlineparent.com
SUMMARY:Foundry Fundays - Day Off Camps in Glenside
DESCRIPTION:Brooklyn Robot Foundry Philly’s Foundry Funday programs turn holidays\, half-days\, spring break\, and school days off into exciting\, screen-free robotics adventures your child will love—and you’ll feel great about. \nDesigned for busy Philly-area parents who want meaningful educational experiences\, their camps blend STEM learning\, creativity\, movement\, and fun in a safe\, nurturing environment. \nWhat Kids Experience: \n\nBuild & take home a robot every camp day\nHands-on STEAM enrichment (robotics\, engineering\, design thinking)\nCollaborative games\, creativity\, and active play\nSocial skill-building with kids across the Greater Philadelphia region\n\nNo prior experience needed—just curiosity!
URL:https://mainlineparent.com/event/foundry-fundays-day-off-camps-in-glenside/2026-05-19/
LOCATION:12 West Glenside Avenue\, Glenside\, PA 19038\, 12 West Glenside Avenue\, Glenside\, PA\, 19038\, United States
CATEGORIES:Day Off Camp,Montgomery County Events,Spring Break Camp
ATTACH;FMTTYPE=image/jpeg:https://mainlineparent.com/wp-content/uploads/2026/01/Foundry-Funday-Winter-Glenside-20261-e1767915938589.jpg
ORGANIZER;CN="Brooklyn Robot Foundry Philly":MAILTO:philly@brooklynrobotfoundry.com
END:VEVENT
END:VCALENDAR