BEGIN:VCALENDAR
VERSION:2.0
PRODID:-//Main Line Parent - ECPv6.15.20//NONSGML v1.0//EN
CALSCALE:GREGORIAN
METHOD:PUBLISH
X-ORIGINAL-URL:https://mainlineparent.com
X-WR-CALDESC:Events for Main Line Parent
REFRESH-INTERVAL;VALUE=DURATION:PT1H
X-Robots-Tag:noindex
X-PUBLISHED-TTL:PT1H
BEGIN:VTIMEZONE
TZID:America/New_York
BEGIN:DAYLIGHT
TZOFFSETFROM:-0500
TZOFFSETTO:-0400
TZNAME:EDT
DTSTART:20250309T070000
END:DAYLIGHT
BEGIN:STANDARD
TZOFFSETFROM:-0400
TZOFFSETTO:-0500
TZNAME:EST
DTSTART:20251102T060000
END:STANDARD
BEGIN:DAYLIGHT
TZOFFSETFROM:-0500
TZOFFSETTO:-0400
TZNAME:EDT
DTSTART:20260308T070000
END:DAYLIGHT
BEGIN:STANDARD
TZOFFSETFROM:-0400
TZOFFSETTO:-0500
TZNAME:EST
DTSTART:20261101T060000
END:STANDARD
BEGIN:DAYLIGHT
TZOFFSETFROM:-0500
TZOFFSETTO:-0400
TZNAME:EDT
DTSTART:20270314T070000
END:DAYLIGHT
BEGIN:STANDARD
TZOFFSETFROM:-0400
TZOFFSETTO:-0500
TZNAME:EST
DTSTART:20271107T060000
END:STANDARD
END:VTIMEZONE
BEGIN:VEVENT
DTSTART;TZID=America/New_York:20260216T093000
DTEND;TZID=America/New_York:20260216T120000
DTSTAMP:20260424T021135
CREATED:20260211T155439Z
LAST-MODIFIED:20260211T155606Z
UID:10076949-1771234200-1771243200@mainlineparent.com
SUMMARY:School's Out: Winter Wonderland
DESCRIPTION:Drop by Scott Arboretum & Gardens on the day off from school to learn about the wonders of the winter gardens. Complete a winter-themed nature craft and go on a scavenger hunt throughout the gardens. Visit at 10:30 am for a free\, family-friendly tour of the Arboretum & Gardens. \nThis is a free\, drop-in program and no registration is required. It is designed for children ages 3 to 12 with a caregiver. \nEvent Schedule: \n9:30 am – 12:00 pm: Winter Nature Crafts and Scavenger Hunt \n10:30 – 11:00 am: Family-Friendly Tour of the Arboretum & Gardens
URL:https://mainlineparent.com/event/schools-out-winter-wonderland/
LOCATION:Scott Arboretum & Gardens\, 500 College Ave\, Swarthmore\, Pennsylvania\, 19081
CATEGORIES:Family Event,Free,Kid Event,Philadelphia Events,Presidents' Day,Sensory Friendly
ATTACH;FMTTYPE=image/jpeg:https://mainlineparent.com/wp-content/uploads/2026/02/School_s-Out-Winter-Wonderland-600-by-400-1.jpg
END:VEVENT
BEGIN:VEVENT
DTSTART;TZID=America/New_York:20260216T110000
DTEND;TZID=America/New_York:20260216T210000
DTSTAMP:20260424T021136
CREATED:20250108T182803Z
LAST-MODIFIED:20260121T131046Z
UID:10054176-1771239600-1771275600@mainlineparent.com
SUMMARY:Lunar New Year at Dilworth Park
DESCRIPTION:Celebrate the Year of the Horse with themed food and drink specials throughout the week.
URL:https://mainlineparent.com/event/lunar-new-year-at-dilworth-park/
LOCATION:Dilworth Park\, 1 South 15th Streeet\, Philadelphia\, PA\, 19102
CATEGORIES:Lunar New Year,Philadelphia Events
ATTACH;FMTTYPE=image/png:https://mainlineparent.com/wp-content/uploads/2025/01/DilworthPark-LunarNewYear-e1736360857198.png
END:VEVENT
BEGIN:VEVENT
DTSTART;TZID=America/New_York:20260221T090000
DTEND;TZID=America/New_York:20260221T163000
DTSTAMP:20260424T021136
CREATED:20260204T014533Z
LAST-MODIFIED:20260204T014533Z
UID:10076889-1771664400-1771691400@mainlineparent.com
SUMMARY:Lunar New Year at the Please Touch Museum
DESCRIPTION:Ring in the Lunar New Year at the Please Touch Museum with a festive performance by the Philadelphia Suns and themed workshops that bring the traditions of the holiday to life. Enjoy Zodiac Animal Matching in the Tot Spot\, Story times featuring readings of Ruby’s Lunar New Year\, Chinese calligraphy workshops\, and 2 performances of the Lion Dance by the Philadelphia Suns.
URL:https://mainlineparent.com/event/lunar-new-year-at-the-please-touch-museum/
LOCATION:The Please Touch Museum\, 4231 Avenue of the Republic\, Philadelphia\, PA\, 19131
CATEGORIES:Lunar New Year,Philadelphia Events
ATTACH;FMTTYPE=image/jpeg:https://mainlineparent.com/wp-content/uploads/2026/02/Chinese-Calligraphy-PTM-e1770169510973.jpg
END:VEVENT
BEGIN:VEVENT
DTSTART;TZID=America/New_York:20260221T100000
DTEND;TZID=America/New_York:20260221T110000
DTSTAMP:20260424T021136
CREATED:20251215T185228Z
LAST-MODIFIED:20260112T171941Z
UID:10074298-1771668000-1771671600@mainlineparent.com
SUMMARY:Mini Makers Robotics Class
DESCRIPTION:Looking for a meaningful winter enrichment activity for your child in 2026—something educational\, screen-free\, and genuinely fun? \nBrooklyn Robot Foundry Philly’s Mini Makers program offers weekly Saturday STEAM robotics classes designed especially for children ages 3–6. Families across Greater Philadelphia and Montgomery County choose Mini Makers because it blends early childhood development with hands-on creativity and engineering—and kids take home something they built themselves every week. \nThis is not a drop-off babysitting class. This is confidence-building\, skill-shaping enrichment that supports how young children learn best. \n$25/session.
URL:https://mainlineparent.com/event/mini-makers-robotics-class/2026-02-21/
LOCATION:Brooklyn Robot Foundry Philly\, 12 West Glenside Avenue\, Glenside\, PA\, 19038\, United States
CATEGORIES:Class or Workshop,Community Event,Family Event,Kid Event,Montgomery County Events,Philadelphia Events,Sensory Friendly,Toddler Event
ATTACH;FMTTYPE=image/jpeg:https://mainlineparent.com/wp-content/uploads/2025/12/Winter-2026-Mini-Makers-Saturday-e1765824639894.jpg
END:VEVENT
BEGIN:VEVENT
DTSTART;TZID=America/New_York:20260221T110000
DTEND;TZID=America/New_York:20260221T150000
DTSTAMP:20260424T021136
CREATED:20260118T152951Z
LAST-MODIFIED:20260118T153242Z
UID:10075225-1771671600-1771686000@mainlineparent.com
SUMMARY:Black History Month: History Maker Saturdays & Storytelling Sundays
DESCRIPTION:From 11 am–3 pm each Saturday in February\, meet Ona Judge or Margaret Woodby and learn about their fascinating lives and experiences as free and formerly-enslaved Black women in colonial Philadelphia. \nAnd on Storytelling Sunday\, hear true stories of the Black experience in Philadelphia history on Sundays in February from 11 am–3 pm. \nThese Black History Month programs at the Betsy Ross House are FREE.
URL:https://mainlineparent.com/event/black-history-month-history-maker-saturdays-storytelling-sundays-2/2026-02-21/
LOCATION:Betsy Ross House\, 239 Arch Street\, Philadelphia\, PA\, 19106\, United States
CATEGORIES:Black History Month,Philadelphia Events
ATTACH;FMTTYPE=image/jpeg:https://mainlineparent.com/wp-content/uploads/2025/01/Phila-Betsy-Ross-House-Margaret-Woodby-e1738362415481.jpeg
END:VEVENT
BEGIN:VEVENT
DTSTART;TZID=America/New_York:20260222T110000
DTEND;TZID=America/New_York:20260222T150000
DTSTAMP:20260424T021136
CREATED:20260118T152951Z
LAST-MODIFIED:20260118T153242Z
UID:10075226-1771758000-1771772400@mainlineparent.com
SUMMARY:Black History Month: History Maker Saturdays & Storytelling Sundays
DESCRIPTION:From 11 am–3 pm each Saturday in February\, meet Ona Judge or Margaret Woodby and learn about their fascinating lives and experiences as free and formerly-enslaved Black women in colonial Philadelphia. \nAnd on Storytelling Sunday\, hear true stories of the Black experience in Philadelphia history on Sundays in February from 11 am–3 pm. \nThese Black History Month programs at the Betsy Ross House are FREE.
URL:https://mainlineparent.com/event/black-history-month-history-maker-saturdays-storytelling-sundays-2/2026-02-22/
LOCATION:Betsy Ross House\, 239 Arch Street\, Philadelphia\, PA\, 19106\, United States
CATEGORIES:Black History Month,Philadelphia Events
ATTACH;FMTTYPE=image/jpeg:https://mainlineparent.com/wp-content/uploads/2025/01/Phila-Betsy-Ross-House-Margaret-Woodby-e1738362415481.jpeg
END:VEVENT
END:VCALENDAR