BEGIN:VCALENDAR
VERSION:2.0
PRODID:-//Main Line Parent - ECPv6.15.20//NONSGML v1.0//EN
CALSCALE:GREGORIAN
METHOD:PUBLISH
X-ORIGINAL-URL:https://mainlineparent.com
X-WR-CALDESC:Events for Main Line Parent
REFRESH-INTERVAL;VALUE=DURATION:PT1H
X-Robots-Tag:noindex
X-PUBLISHED-TTL:PT1H
BEGIN:VTIMEZONE
TZID:America/New_York
BEGIN:DAYLIGHT
TZOFFSETFROM:-0500
TZOFFSETTO:-0400
TZNAME:EDT
DTSTART:20250309T070000
END:DAYLIGHT
BEGIN:STANDARD
TZOFFSETFROM:-0400
TZOFFSETTO:-0500
TZNAME:EST
DTSTART:20251102T060000
END:STANDARD
BEGIN:DAYLIGHT
TZOFFSETFROM:-0500
TZOFFSETTO:-0400
TZNAME:EDT
DTSTART:20260308T070000
END:DAYLIGHT
BEGIN:STANDARD
TZOFFSETFROM:-0400
TZOFFSETTO:-0500
TZNAME:EST
DTSTART:20261101T060000
END:STANDARD
BEGIN:DAYLIGHT
TZOFFSETFROM:-0500
TZOFFSETTO:-0400
TZNAME:EDT
DTSTART:20270314T070000
END:DAYLIGHT
BEGIN:STANDARD
TZOFFSETFROM:-0400
TZOFFSETTO:-0500
TZNAME:EST
DTSTART:20271107T060000
END:STANDARD
END:VTIMEZONE
BEGIN:VEVENT
DTSTART;TZID=America/New_York:20260216T093000
DTEND;TZID=America/New_York:20260216T120000
DTSTAMP:20260424T090625
CREATED:20260211T155439Z
LAST-MODIFIED:20260211T155606Z
UID:10076949-1771234200-1771243200@mainlineparent.com
SUMMARY:School's Out: Winter Wonderland
DESCRIPTION:Drop by Scott Arboretum & Gardens on the day off from school to learn about the wonders of the winter gardens. Complete a winter-themed nature craft and go on a scavenger hunt throughout the gardens. Visit at 10:30 am for a free\, family-friendly tour of the Arboretum & Gardens. \nThis is a free\, drop-in program and no registration is required. It is designed for children ages 3 to 12 with a caregiver. \nEvent Schedule: \n9:30 am – 12:00 pm: Winter Nature Crafts and Scavenger Hunt \n10:30 – 11:00 am: Family-Friendly Tour of the Arboretum & Gardens
URL:https://mainlineparent.com/event/schools-out-winter-wonderland/
LOCATION:Scott Arboretum & Gardens\, 500 College Ave\, Swarthmore\, Pennsylvania\, 19081
CATEGORIES:Family Event,Free,Kid Event,Philadelphia Events,Presidents' Day,Sensory Friendly
ATTACH;FMTTYPE=image/jpeg:https://mainlineparent.com/wp-content/uploads/2026/02/School_s-Out-Winter-Wonderland-600-by-400-1.jpg
END:VEVENT
BEGIN:VEVENT
DTSTART;TZID=America/New_York:20260216T110000
DTEND;TZID=America/New_York:20260216T210000
DTSTAMP:20260424T090625
CREATED:20250108T182803Z
LAST-MODIFIED:20260121T131046Z
UID:10054176-1771239600-1771275600@mainlineparent.com
SUMMARY:Lunar New Year at Dilworth Park
DESCRIPTION:Celebrate the Year of the Horse with themed food and drink specials throughout the week.
URL:https://mainlineparent.com/event/lunar-new-year-at-dilworth-park/
LOCATION:Dilworth Park\, 1 South 15th Streeet\, Philadelphia\, PA\, 19102
CATEGORIES:Lunar New Year,Philadelphia Events
ATTACH;FMTTYPE=image/png:https://mainlineparent.com/wp-content/uploads/2025/01/DilworthPark-LunarNewYear-e1736360857198.png
END:VEVENT
END:VCALENDAR