BEGIN:VCALENDAR
VERSION:2.0
PRODID:-//Main Line Parent - ECPv6.15.20//NONSGML v1.0//EN
CALSCALE:GREGORIAN
METHOD:PUBLISH
X-ORIGINAL-URL:https://mainlineparent.com
X-WR-CALDESC:Events for Main Line Parent
REFRESH-INTERVAL;VALUE=DURATION:PT1H
X-Robots-Tag:noindex
X-PUBLISHED-TTL:PT1H
BEGIN:VTIMEZONE
TZID:America/New_York
BEGIN:DAYLIGHT
TZOFFSETFROM:-0500
TZOFFSETTO:-0400
TZNAME:EDT
DTSTART:20250309T070000
END:DAYLIGHT
BEGIN:STANDARD
TZOFFSETFROM:-0400
TZOFFSETTO:-0500
TZNAME:EST
DTSTART:20251102T060000
END:STANDARD
BEGIN:DAYLIGHT
TZOFFSETFROM:-0500
TZOFFSETTO:-0400
TZNAME:EDT
DTSTART:20260308T070000
END:DAYLIGHT
BEGIN:STANDARD
TZOFFSETFROM:-0400
TZOFFSETTO:-0500
TZNAME:EST
DTSTART:20261101T060000
END:STANDARD
BEGIN:DAYLIGHT
TZOFFSETFROM:-0500
TZOFFSETTO:-0400
TZNAME:EDT
DTSTART:20270314T070000
END:DAYLIGHT
BEGIN:STANDARD
TZOFFSETFROM:-0400
TZOFFSETTO:-0500
TZNAME:EST
DTSTART:20271107T060000
END:STANDARD
END:VTIMEZONE
BEGIN:VEVENT
DTSTART;TZID=America/New_York:20260423T200000
DTEND;TZID=America/New_York:20260423T220000
DTSTAMP:20260421T122243
CREATED:20260328T212557Z
LAST-MODIFIED:20260328T212649Z
UID:10077711-1776974400-1776981600@mainlineparent.com
SUMMARY:Urinetown
DESCRIPTION:The Villanova Theatre presents Urinetown! \nThis hilarious and subversive musical depicts a drought stricken dystopian society where private toilets are outlawed and there is a fee to pee. When a custodian of Public Facility #9 decides he’s had enough of the mega-corporation\, Urine Good Company\, he leads his community in a revolution to free citizens from the financial burden of paying to pee. \n  \nThis three-time Tony Award-winning musical saw success both on and off-Broadway in the early 2000s and was recently nominated for a Drama League Award for Outstanding Revival of a Musical in 2025. Urinetown remains a beloved political satire that delivers a perfect stream of irreverent humor aimed at capitalism\, social justice\, environmental collapse\, and musical theater itself.
URL:https://mainlineparent.com/event/urinetown/2026-04-23/
LOCATION:Mullen Center for the Performing Arts\, 800 E. Lancaster Avenue\, Villanova\, PA\, 19085\, United States
CATEGORIES:For Kids Ages 15+,For The Whole Family,Montgomery County Events,Musical Performance
ATTACH;FMTTYPE=image/jpeg:https://mainlineparent.com/wp-content/uploads/2026/03/Urinetown-Villanova-e1774733128443.jpg
END:VEVENT
BEGIN:VEVENT
DTSTART;TZID=America/New_York:20260424T200000
DTEND;TZID=America/New_York:20260424T220000
DTSTAMP:20260421T122243
CREATED:20260328T212557Z
LAST-MODIFIED:20260328T212649Z
UID:10077712-1777060800-1777068000@mainlineparent.com
SUMMARY:Urinetown
DESCRIPTION:The Villanova Theatre presents Urinetown! \nThis hilarious and subversive musical depicts a drought stricken dystopian society where private toilets are outlawed and there is a fee to pee. When a custodian of Public Facility #9 decides he’s had enough of the mega-corporation\, Urine Good Company\, he leads his community in a revolution to free citizens from the financial burden of paying to pee. \n  \nThis three-time Tony Award-winning musical saw success both on and off-Broadway in the early 2000s and was recently nominated for a Drama League Award for Outstanding Revival of a Musical in 2025. Urinetown remains a beloved political satire that delivers a perfect stream of irreverent humor aimed at capitalism\, social justice\, environmental collapse\, and musical theater itself.
URL:https://mainlineparent.com/event/urinetown/2026-04-24/
LOCATION:Mullen Center for the Performing Arts\, 800 E. Lancaster Avenue\, Villanova\, PA\, 19085\, United States
CATEGORIES:For Kids Ages 15+,For The Whole Family,Montgomery County Events,Musical Performance
ATTACH;FMTTYPE=image/jpeg:https://mainlineparent.com/wp-content/uploads/2026/03/Urinetown-Villanova-e1774733128443.jpg
END:VEVENT
BEGIN:VEVENT
DTSTART;TZID=America/New_York:20260425T200000
DTEND;TZID=America/New_York:20260425T220000
DTSTAMP:20260421T122243
CREATED:20260328T212557Z
LAST-MODIFIED:20260328T212649Z
UID:10077713-1777147200-1777154400@mainlineparent.com
SUMMARY:Urinetown
DESCRIPTION:The Villanova Theatre presents Urinetown! \nThis hilarious and subversive musical depicts a drought stricken dystopian society where private toilets are outlawed and there is a fee to pee. When a custodian of Public Facility #9 decides he’s had enough of the mega-corporation\, Urine Good Company\, he leads his community in a revolution to free citizens from the financial burden of paying to pee. \n  \nThis three-time Tony Award-winning musical saw success both on and off-Broadway in the early 2000s and was recently nominated for a Drama League Award for Outstanding Revival of a Musical in 2025. Urinetown remains a beloved political satire that delivers a perfect stream of irreverent humor aimed at capitalism\, social justice\, environmental collapse\, and musical theater itself.
URL:https://mainlineparent.com/event/urinetown/2026-04-25/
LOCATION:Mullen Center for the Performing Arts\, 800 E. Lancaster Avenue\, Villanova\, PA\, 19085\, United States
CATEGORIES:For Kids Ages 15+,For The Whole Family,Montgomery County Events,Musical Performance
ATTACH;FMTTYPE=image/jpeg:https://mainlineparent.com/wp-content/uploads/2026/03/Urinetown-Villanova-e1774733128443.jpg
END:VEVENT
BEGIN:VEVENT
DTSTART;TZID=America/New_York:20260426T140000
DTEND;TZID=America/New_York:20260426T160000
DTSTAMP:20260421T122243
CREATED:20260328T212557Z
LAST-MODIFIED:20260328T212649Z
UID:10077714-1777212000-1777219200@mainlineparent.com
SUMMARY:Urinetown
DESCRIPTION:The Villanova Theatre presents Urinetown! \nThis hilarious and subversive musical depicts a drought stricken dystopian society where private toilets are outlawed and there is a fee to pee. When a custodian of Public Facility #9 decides he’s had enough of the mega-corporation\, Urine Good Company\, he leads his community in a revolution to free citizens from the financial burden of paying to pee. \n  \nThis three-time Tony Award-winning musical saw success both on and off-Broadway in the early 2000s and was recently nominated for a Drama League Award for Outstanding Revival of a Musical in 2025. Urinetown remains a beloved political satire that delivers a perfect stream of irreverent humor aimed at capitalism\, social justice\, environmental collapse\, and musical theater itself.
URL:https://mainlineparent.com/event/urinetown/2026-04-26/
LOCATION:Mullen Center for the Performing Arts\, 800 E. Lancaster Avenue\, Villanova\, PA\, 19085\, United States
CATEGORIES:For Kids Ages 15+,For The Whole Family,Montgomery County Events,Musical Performance
ATTACH;FMTTYPE=image/jpeg:https://mainlineparent.com/wp-content/uploads/2026/03/Urinetown-Villanova-e1774733128443.jpg
END:VEVENT
BEGIN:VEVENT
DTSTART;TZID=America/New_York:20260507T190000
DTEND;TZID=America/New_York:20260507T210000
DTSTAMP:20260421T122243
CREATED:20260416T144338Z
LAST-MODIFIED:20260416T144338Z
UID:10077788-1778180400-1778187600@mainlineparent.com
SUMMARY:CCC Shines Presents: Jungle Book Kids
DESCRIPTION:CCC Shines is excited to introduce a special 4-week Micro on stage Production of Disney’s The Jungle Book KIDS for students in 2nd-6th Grade. \nDesigned for students who are eager for a quick\, high-energy performance experience\, this condensed rehearsal process allows young performers to strengthen their acting skills\, build stage confidence\, and collaborate in a joyful\, focused environment before summer begins. Join us for our performance on May 7th at 7pm.
URL:https://mainlineparent.com/event/ccc-shines-presents-jungle-book-kids/
LOCATION:CCC Shines\, 1701 S. Sproul Road\, Springfield\, PA\, 19064\, United States
CATEGORIES:Community Event,Delaware County Events,Family Event,For The Whole Family,Musical Performance,Theatre Performances
ATTACH;FMTTYPE=image/jpeg:https://mainlineparent.com/wp-content/uploads/2026/04/CCC-SHINES-Jungle-Book.jpg
END:VEVENT
END:VCALENDAR