BEGIN:VCALENDAR
VERSION:2.0
PRODID:-//Main Line Parent - ECPv6.15.20//NONSGML v1.0//EN
CALSCALE:GREGORIAN
METHOD:PUBLISH
X-WR-CALNAME:Main Line Parent
X-ORIGINAL-URL:https://mainlineparent.com
X-WR-CALDESC:Events for Main Line Parent
REFRESH-INTERVAL;VALUE=DURATION:PT1H
X-Robots-Tag:noindex
X-PUBLISHED-TTL:PT1H
BEGIN:VTIMEZONE
TZID:America/New_York
BEGIN:DAYLIGHT
TZOFFSETFROM:-0500
TZOFFSETTO:-0400
TZNAME:EDT
DTSTART:20250309T070000
END:DAYLIGHT
BEGIN:STANDARD
TZOFFSETFROM:-0400
TZOFFSETTO:-0500
TZNAME:EST
DTSTART:20251102T060000
END:STANDARD
BEGIN:DAYLIGHT
TZOFFSETFROM:-0500
TZOFFSETTO:-0400
TZNAME:EDT
DTSTART:20260308T070000
END:DAYLIGHT
BEGIN:STANDARD
TZOFFSETFROM:-0400
TZOFFSETTO:-0500
TZNAME:EST
DTSTART:20261101T060000
END:STANDARD
BEGIN:DAYLIGHT
TZOFFSETFROM:-0500
TZOFFSETTO:-0400
TZNAME:EDT
DTSTART:20270314T070000
END:DAYLIGHT
BEGIN:STANDARD
TZOFFSETFROM:-0400
TZOFFSETTO:-0500
TZNAME:EST
DTSTART:20271107T060000
END:STANDARD
END:VTIMEZONE
BEGIN:VEVENT
DTSTART;TZID=America/New_York:20260311T150000
DTEND;TZID=America/New_York:20260311T170000
DTSTAMP:20260419T200733
CREATED:20240307T173048Z
LAST-MODIFIED:20260216T213227Z
UID:10046112-1773241200-1773248400@mainlineparent.com
SUMMARY:St Patrick's Day Crafternoon
DESCRIPTION:Wear something green because St. Patrick’s Day is right around the corner! Head to the Children’s Room anytime between 3 and 5 pm to create a fun leprechaun craft! The library will have colorful paper\, stickers\, and markers.
URL:https://mainlineparent.com/event/st-patricks-day-crafternoon-2/
LOCATION:Gladwyne Library\, 362 Righters Mill Road\, Gladwyne\, PA\, 19035\, United States
CATEGORIES:At the Library,Free,Kid Event,St. Patrick's Day
ATTACH;FMTTYPE=image/jpeg:https://mainlineparent.com/wp-content/uploads/2024/03/St.-Pats-crafternoon-Gladwyne.jpg
GEO:40.0380774;-75.2810136
X-APPLE-STRUCTURED-LOCATION;VALUE=URI;X-ADDRESS=Gladwyne Library 362 Righters Mill Road Gladwyne PA 19035 United States;X-APPLE-RADIUS=500;X-TITLE=362 Righters Mill Road:geo:-75.2810136,40.0380774
END:VEVENT
BEGIN:VEVENT
DTSTART;TZID=America/New_York:20260312T103000
DTEND;TZID=America/New_York:20260312T110000
DTSTAMP:20260419T200733
CREATED:20250306T214715Z
LAST-MODIFIED:20260213T221232Z
UID:10056285-1773311400-1773313200@mainlineparent.com
SUMMARY:Baby St. Patrick's Day Storytime
DESCRIPTION:Join the Upper Merion Library for a special St. Patrick’s Day story time!  Wear your green and get ready to celebrate the fun of the Irish. \nThis 30-minute in-person program is designed for families with children ages birth-2 years old and their parent/caregiver. \nThis story time fosters a love of books and supports the development of early literacy skills in children. It is a fun engaging program for the whole family with interactive stories\, music\, rhythm\, and movement activities. \nRegistration required.
URL:https://mainlineparent.com/event/st-patricks-day-baby-storytime/
LOCATION:Upper Merion Township Library\, 175 W Valley Forge Road\, King of Prussia\, PA\, 19406
CATEGORIES:At the Library,St. Patrick's Day,Storytime,Toddler Event
ATTACH;FMTTYPE=image/jpeg:https://mainlineparent.com/wp-content/uploads/2025/03/baby-st-pats-story-time-e1771020648831.jpg
END:VEVENT
BEGIN:VEVENT
DTSTART;TZID=America/New_York:20260313T113000
DTEND;TZID=America/New_York:20260313T120000
DTSTAMP:20260419T200733
CREATED:20250306T212520Z
LAST-MODIFIED:20260213T215424Z
UID:10056287-1773401400-1773403200@mainlineparent.com
SUMMARY:Storytime with Miss Rebecca: Happy St. Patrick's Day!
DESCRIPTION:Join Miss Rebecca for a drop-in story time celebrating St. Patrick’s Day. All ages are invited to attend\, but this story time is geared towards ages 0-6. \nEnjoy reading\, dancing\, and singing! Each story time will be an adventure! Story time will take place in the open area next to the children’s section. \nREGISTRATION IS NOT REQUIRED FOR DROP-IN PROGRAMS.
URL:https://mainlineparent.com/event/st-patricks-storytime-downingtown/
LOCATION:Downingtown Library\, 122 Wallace Avenue\, Downingtown\, PA\, 19335\, United States
CATEGORIES:At the Library,Chester County Events,Free,St. Patrick's Day,Storytime
ATTACH;FMTTYPE=image/jpeg:https://mainlineparent.com/wp-content/uploads/2025/03/Downingtown-St.-PAts-storyime-1-e1771019615273.jpg
END:VEVENT
END:VCALENDAR