BEGIN:VCALENDAR
VERSION:2.0
PRODID:-//Main Line Parent - ECPv6.15.20//NONSGML v1.0//EN
CALSCALE:GREGORIAN
METHOD:PUBLISH
X-WR-CALNAME:Main Line Parent
X-ORIGINAL-URL:https://mainlineparent.com
X-WR-CALDESC:Events for Main Line Parent
REFRESH-INTERVAL;VALUE=DURATION:PT1H
X-Robots-Tag:noindex
X-PUBLISHED-TTL:PT1H
BEGIN:VTIMEZONE
TZID:America/New_York
BEGIN:DAYLIGHT
TZOFFSETFROM:-0500
TZOFFSETTO:-0400
TZNAME:EDT
DTSTART:20250309T070000
END:DAYLIGHT
BEGIN:STANDARD
TZOFFSETFROM:-0400
TZOFFSETTO:-0500
TZNAME:EST
DTSTART:20251102T060000
END:STANDARD
BEGIN:DAYLIGHT
TZOFFSETFROM:-0500
TZOFFSETTO:-0400
TZNAME:EDT
DTSTART:20260308T070000
END:DAYLIGHT
BEGIN:STANDARD
TZOFFSETFROM:-0400
TZOFFSETTO:-0500
TZNAME:EST
DTSTART:20261101T060000
END:STANDARD
BEGIN:DAYLIGHT
TZOFFSETFROM:-0500
TZOFFSETTO:-0400
TZNAME:EDT
DTSTART:20270314T070000
END:DAYLIGHT
BEGIN:STANDARD
TZOFFSETFROM:-0400
TZOFFSETTO:-0500
TZNAME:EST
DTSTART:20271107T060000
END:STANDARD
END:VTIMEZONE
BEGIN:VEVENT
DTSTART;TZID=America/New_York:20260307T140000
DTEND;TZID=America/New_York:20260307T153000
DTSTAMP:20260419T181012
CREATED:20260227T161109Z
LAST-MODIFIED:20260303T212512Z
UID:10077518-1772892000-1772897400@mainlineparent.com
SUMMARY:Parenting for Growth FREE Workshop
DESCRIPTION:Struggling in navigating your child’s big feelings and behaviors? Feeling like you have no time for yourself? \nIn this workshop\, parents will learn skills to help navigate the challenges faced in parenting. \nSome themes that will be explored are:\nUnderstanding your child’s behaviors and emotions\nHow temperaments shape parenting\nParenting styles\nStrategies for supporting children as they grow\nEmotional co-regulation\nNurture the nurturer (self-care)\nGrowth over perfection in parenting
URL:https://mainlineparent.com/event/parenting-for-growth-free-workshop/
LOCATION:Haverford Township Free Library\, 1601 Darby Road\, Havertown\, PA\, 19083
CATEGORIES:At the Library,Class or Workshop,Delaware County Events,For Parents
ATTACH;FMTTYPE=image/jpeg:https://mainlineparent.com/wp-content/uploads/2026/02/haverford-library-parenting-workshop-1-e1772573107820.jpg
END:VEVENT
END:VCALENDAR