BEGIN:VCALENDAR
VERSION:2.0
PRODID:-//Main Line Parent - ECPv6.15.20//NONSGML v1.0//EN
CALSCALE:GREGORIAN
METHOD:PUBLISH
X-ORIGINAL-URL:https://mainlineparent.com
X-WR-CALDESC:Events for Main Line Parent
REFRESH-INTERVAL;VALUE=DURATION:PT1H
X-Robots-Tag:noindex
X-PUBLISHED-TTL:PT1H
BEGIN:VTIMEZONE
TZID:America/New_York
BEGIN:DAYLIGHT
TZOFFSETFROM:-0500
TZOFFSETTO:-0400
TZNAME:EDT
DTSTART:20250309T070000
END:DAYLIGHT
BEGIN:STANDARD
TZOFFSETFROM:-0400
TZOFFSETTO:-0500
TZNAME:EST
DTSTART:20251102T060000
END:STANDARD
BEGIN:DAYLIGHT
TZOFFSETFROM:-0500
TZOFFSETTO:-0400
TZNAME:EDT
DTSTART:20260308T070000
END:DAYLIGHT
BEGIN:STANDARD
TZOFFSETFROM:-0400
TZOFFSETTO:-0500
TZNAME:EST
DTSTART:20261101T060000
END:STANDARD
BEGIN:DAYLIGHT
TZOFFSETFROM:-0500
TZOFFSETTO:-0400
TZNAME:EDT
DTSTART:20270314T070000
END:DAYLIGHT
BEGIN:STANDARD
TZOFFSETFROM:-0400
TZOFFSETTO:-0500
TZNAME:EST
DTSTART:20271107T060000
END:STANDARD
END:VTIMEZONE
BEGIN:VEVENT
DTSTART;TZID=America/New_York:20260223T160000
DTEND;TZID=America/New_York:20260223T170000
DTSTAMP:20260419T194904
CREATED:20250123T194028Z
LAST-MODIFIED:20260118T220532Z
UID:10054561-1771862400-1771866000@mainlineparent.com
SUMMARY:African American Inventors Showcase
DESCRIPTION:Invention Fun: Celebrating African-American Innovators! \nDid you know that many everyday items we use today were created by African-American inventors? Join an engaging program where kids will explore history through fun\, hands-on activities! \nThey’ll: \n\n\n\nCraft their own traffic lights\, inspired by Garrett Morgan.\nCreate tasty peanut butter treats in honor of George Washington Carver.\n\n\n\nThis program is perfect for curious kids who love to learn and create! \nRegister today to be part of this exciting celebration of Black history and innovation!
URL:https://mainlineparent.com/event/black-history-vendor-market/
LOCATION:Avon Grove Library\, 117 Rosehill Ave.\, West Grove\, PA\, 19390
CATEGORIES:At the Library,Black History Month,Family Event
ATTACH;FMTTYPE=image/jpeg:https://mainlineparent.com/wp-content/uploads/2025/01/AA-inventors.jpg
END:VEVENT
BEGIN:VEVENT
DTSTART;TZID=America/New_York:20260224T180000
DTEND;TZID=America/New_York:20260224T190000
DTSTAMP:20260419T194904
CREATED:20250123T171827Z
LAST-MODIFIED:20260118T213829Z
UID:10075235-1771956000-1771959600@mainlineparent.com
SUMMARY:Black History Month Documentary Screening at Belmont Hills Library
DESCRIPTION:Join the Belmont Hills Library each Tuesday in February for a screening of four-part PBS documentary series Great Migrations: A People on the Move.  \n\nDirected by Julia Marchesi and Nailah Ife Sims\, this documentary “explores the transformative impact of Black migration on American culture and society. From the waves of Black Americans to the North — and back South — over the last century to the growing number of immigrants from Africa and the Caribbean today\, the film shows how movement is a defining feature of the Black experience.” \nNo registration is required for this program. Participants must be ages 14 and up.
URL:https://mainlineparent.com/event/anansi-the-spider-folktales/2026-02-24/
LOCATION:Belmont Hills Library\, 120 Mary Watersford Road\, Bala Cynwyd\, PA\, 19004
CATEGORIES:At the Library,Black History Month
ATTACH;FMTTYPE=image/png:https://mainlineparent.com/wp-content/uploads/2025/01/BHM-documentary-e1768772279283.png
GEO:40.0239026;-75.240477
X-APPLE-STRUCTURED-LOCATION;VALUE=URI;X-ADDRESS=Belmont Hills Library 120 Mary Watersford Road Bala Cynwyd PA 19004;X-APPLE-RADIUS=500;X-TITLE=120 Mary Watersford Road:geo:-75.240477,40.0239026
END:VEVENT
BEGIN:VEVENT
DTSTART;TZID=America/New_York:20260225T163000
DTEND;TZID=America/New_York:20260225T173000
DTSTAMP:20260419T194904
CREATED:20250123T201827Z
LAST-MODIFIED:20260118T215533Z
UID:10054565-1772037000-1772040600@mainlineparent.com
SUMMARY:Art Explorers: Black History Month
DESCRIPTION:Art Explorers: Join the Avon Grove Library for a fun-filled afternoon of art exploration! \nThis month\, celebrate Black History Month by learning about Faith Ringgold and her story quilts!
URL:https://mainlineparent.com/event/the-life-of-harriet-tubman-by-dr-daisy-century/
LOCATION:Avon Grove Library\, 117 Rosehill Ave.\, West Grove\, PA\, 19390
CATEGORIES:At the Library,Black History Month,Chester County Events,Free,Kid Event
ATTACH;FMTTYPE=image/jpeg:https://mainlineparent.com/wp-content/uploads/2025/01/Art-explorers.jpg
END:VEVENT
BEGIN:VEVENT
DTSTART;TZID=America/New_York:20260228T100000
DTEND;TZID=America/New_York:20260228T140000
DTSTAMP:20260419T194904
CREATED:20250123T200241Z
LAST-MODIFIED:20260118T155338Z
UID:10054564-1772272800-1772287200@mainlineparent.com
SUMMARY:Black History Month - The Marketplace: Celebrating Black Entrepreneurship
DESCRIPTION:Explore\, shop\, and support the vibrant creativity and talent within the local community at FOBH The Marketplace\, a cornerstone event of the FLY FOREVER series. This lively indoor market showcases a diverse selection of local Black-owned businesses\, offering everything from artisan goods to specialty services and delicious food. \nEvent Highlights: \n\nMeet and support local Black entrepreneurs\nDiscover unique handmade products\, baked goods\, art\, crafts\, and services\nEnjoy a welcoming community space that uplifts cultural expression and economic empowerment\nFamily-friendly atmosphere—come browse\, buy\, and celebrate community talent\n\nJoin and honor the entrepreneurial spirit that helps the community rise and thrive.
URL:https://mainlineparent.com/event/black-history-event-history-of-black-hollywood-by-professor-rel-dowdell/
LOCATION:Upper Merion Township Library\, 175 W Valley Forge Road\, King of Prussia\, PA\, 19406
CATEGORIES:At the Library,Black History Month,Family Event,Free
ATTACH;FMTTYPE=image/png:https://mainlineparent.com/wp-content/uploads/2025/01/Black-history-logo.png
END:VEVENT
END:VCALENDAR