BEGIN:VCALENDAR
VERSION:2.0
PRODID:-//Main Line Parent - ECPv6.15.20//NONSGML v1.0//EN
CALSCALE:GREGORIAN
METHOD:PUBLISH
X-ORIGINAL-URL:https://mainlineparent.com
X-WR-CALDESC:Events for Main Line Parent
REFRESH-INTERVAL;VALUE=DURATION:PT1H
X-Robots-Tag:noindex
X-PUBLISHED-TTL:PT1H
BEGIN:VTIMEZONE
TZID:America/New_York
BEGIN:DAYLIGHT
TZOFFSETFROM:-0500
TZOFFSETTO:-0400
TZNAME:EDT
DTSTART:20250309T070000
END:DAYLIGHT
BEGIN:STANDARD
TZOFFSETFROM:-0400
TZOFFSETTO:-0500
TZNAME:EST
DTSTART:20251102T060000
END:STANDARD
BEGIN:DAYLIGHT
TZOFFSETFROM:-0500
TZOFFSETTO:-0400
TZNAME:EDT
DTSTART:20260308T070000
END:DAYLIGHT
BEGIN:STANDARD
TZOFFSETFROM:-0400
TZOFFSETTO:-0500
TZNAME:EST
DTSTART:20261101T060000
END:STANDARD
BEGIN:DAYLIGHT
TZOFFSETFROM:-0500
TZOFFSETTO:-0400
TZNAME:EDT
DTSTART:20270314T070000
END:DAYLIGHT
BEGIN:STANDARD
TZOFFSETFROM:-0400
TZOFFSETTO:-0500
TZNAME:EST
DTSTART:20271107T060000
END:STANDARD
END:VTIMEZONE
BEGIN:VEVENT
DTSTART;TZID=America/New_York:20260216T130000
DTEND;TZID=America/New_York:20260216T143000
DTSTAMP:20260419T180434
CREATED:20250123T175840Z
LAST-MODIFIED:20260118T215044Z
UID:10054555-1771246800-1771252200@mainlineparent.com
SUMMARY:Crafternoon: Exploring the Art of Alma Thomas
DESCRIPTION:Celebrate Black History Month by learning about African American artist\, Alma Thomas!  \n\nListen to a read aloud of Ablaze with Color: the Story of Painter Alma Thomas by Jeanne Walker Harvey. Then\, create your own artwork inspired by the art style of Alma Thomas! \nFor ages 5+ \nRequired Registration begins 2/9/26
URL:https://mainlineparent.com/event/easttown-library-movie-night-the-color-purple-2023/
LOCATION:West Chester Library\, 415 N. Church St.\, West Chester\, PA
CATEGORIES:At the Library,Black History Month,Chester County Events,Kid Event
ATTACH;FMTTYPE=image/png:https://mainlineparent.com/wp-content/uploads/2025/01/BHM-crafternoon.png
END:VEVENT
BEGIN:VEVENT
DTSTART;VALUE=DATE:20260217
DTEND;VALUE=DATE:20260218
DTSTAMP:20260419T180434
CREATED:20260121T120051Z
LAST-MODIFIED:20260121T120051Z
UID:10075274-1771286400-1771372799@mainlineparent.com
SUMMARY:Lunar New Year Scavenger Hunt and Craft
DESCRIPTION:Decorate a traditional red envelope to celebrate Lunar New Year\, then learn about Chinese Zodiac folklore by going on an animal scavenger hunt around the children’s area and earn a special treat! \nVisit the children’s desk anytime between February 2-17th to participate. \nPlease Note: The Library will be closed Wednesday\, February 4 and Monday\, February 16.
URL:https://mainlineparent.com/event/lunar-new-year-scavenger-hunt-and-craft/2026-02-17/
LOCATION:Radnor Memorial Library\, 114 West Wayne Avenue\, Wayne\, PA\, 19087
CATEGORIES:At the Library,Delaware County Events,Lunar New Year
ATTACH;FMTTYPE=image/png:https://mainlineparent.com/wp-content/uploads/2026/01/lunar-scavenger-radnor-e1768996840196.png
END:VEVENT
BEGIN:VEVENT
DTSTART;TZID=America/New_York:20260217T120000
DTEND;TZID=America/New_York:20260217T170000
DTSTAMP:20260419T180434
CREATED:20260121T123936Z
LAST-MODIFIED:20260121T123936Z
UID:10075279-1771329600-1771347600@mainlineparent.com
SUMMARY:Lunar New Year Crafts at Ludington Library
DESCRIPTION:Come into the Junior Room from 12 to 5pm Tuesday through Friday and create a wonderful craft celebrating the Lunar New Year. \nAges 3 and up can do one craft a day while supplies last. No registration necessary.
URL:https://mainlineparent.com/event/lunar-new-year-crafts-at-ludington-library/2026-02-17/
LOCATION:Ludington Library\, 5 S. Bryn Mawr Avenue\, Bryn Mawr\, PA\, 19010\, United States
CATEGORIES:At the Library,Lunar New Year
ATTACH;FMTTYPE=image/jpeg:https://mainlineparent.com/wp-content/uploads/2026/01/Ludington-lunar-NY-e1768999169305.jpg
GEO:40.0207429;-75.3176219
X-APPLE-STRUCTURED-LOCATION;VALUE=URI;X-ADDRESS=Ludington Library 5 S. Bryn Mawr Avenue Bryn Mawr PA 19010 United States;X-APPLE-RADIUS=500;X-TITLE=5 S. Bryn Mawr Avenue:geo:-75.3176219,40.0207429
END:VEVENT
BEGIN:VEVENT
DTSTART;TZID=America/New_York:20260217T143000
DTEND;TZID=America/New_York:20260217T153000
DTSTAMP:20260419T180434
CREATED:20260121T120853Z
LAST-MODIFIED:20260121T120853Z
UID:10075276-1771338600-1771342200@mainlineparent.com
SUMMARY:Homeschool Hangout: Holidays Around the World- Celebrate Lunar New Year
DESCRIPTION:Join Miss Rebecca and your fellow homeschool and non-traditional schooled friends for a Lunar New Year themed story time and craft. \nRead a story (or two!)\, and then complete a themed craft. This homeschool hangout program is for ages 2+. \n*Ages 2-6 must have adults remain in the room for the duration of the program to assist with the craft.*  All materials will be supplied. \nSpots are limited\, registration is required.  Please email Miss Rebecca at rviola@ccls.org with any questions.
URL:https://mainlineparent.com/event/homeschool-hangout-holidays-around-the-world-celebrate-lunar-new-year/
LOCATION:Downingtown Library\, 122 Wallace Avenue\, Downingtown\, PA\, 19335\, United States
CATEGORIES:At the Library,Chester County Events,Lunar New Year
ATTACH;FMTTYPE=image/png:https://mainlineparent.com/wp-content/uploads/2026/01/homeschool-lunar-new-yr.png
END:VEVENT
BEGIN:VEVENT
DTSTART;TZID=America/New_York:20260217T180000
DTEND;TZID=America/New_York:20260217T190000
DTSTAMP:20260419T180434
CREATED:20250123T171827Z
LAST-MODIFIED:20260118T213829Z
UID:10075234-1771351200-1771354800@mainlineparent.com
SUMMARY:Black History Month Documentary Screening at Belmont Hills Library
DESCRIPTION:Join the Belmont Hills Library each Tuesday in February for a screening of four-part PBS documentary series Great Migrations: A People on the Move.  \n\nDirected by Julia Marchesi and Nailah Ife Sims\, this documentary “explores the transformative impact of Black migration on American culture and society. From the waves of Black Americans to the North — and back South — over the last century to the growing number of immigrants from Africa and the Caribbean today\, the film shows how movement is a defining feature of the Black experience.” \nNo registration is required for this program. Participants must be ages 14 and up.
URL:https://mainlineparent.com/event/anansi-the-spider-folktales/2026-02-17/
LOCATION:Belmont Hills Library\, 120 Mary Watersford Road\, Bala Cynwyd\, PA\, 19004
CATEGORIES:At the Library,Black History Month
ATTACH;FMTTYPE=image/png:https://mainlineparent.com/wp-content/uploads/2025/01/BHM-documentary-e1768772279283.png
GEO:40.0239026;-75.240477
X-APPLE-STRUCTURED-LOCATION;VALUE=URI;X-ADDRESS=Belmont Hills Library 120 Mary Watersford Road Bala Cynwyd PA 19004;X-APPLE-RADIUS=500;X-TITLE=120 Mary Watersford Road:geo:-75.240477,40.0239026
END:VEVENT
BEGIN:VEVENT
DTSTART;TZID=America/New_York:20260218T120000
DTEND;TZID=America/New_York:20260218T170000
DTSTAMP:20260419T180434
CREATED:20260121T123936Z
LAST-MODIFIED:20260121T123936Z
UID:10075280-1771416000-1771434000@mainlineparent.com
SUMMARY:Lunar New Year Crafts at Ludington Library
DESCRIPTION:Come into the Junior Room from 12 to 5pm Tuesday through Friday and create a wonderful craft celebrating the Lunar New Year. \nAges 3 and up can do one craft a day while supplies last. No registration necessary.
URL:https://mainlineparent.com/event/lunar-new-year-crafts-at-ludington-library/2026-02-18/
LOCATION:Ludington Library\, 5 S. Bryn Mawr Avenue\, Bryn Mawr\, PA\, 19010\, United States
CATEGORIES:At the Library,Lunar New Year
ATTACH;FMTTYPE=image/jpeg:https://mainlineparent.com/wp-content/uploads/2026/01/Ludington-lunar-NY-e1768999169305.jpg
GEO:40.0207429;-75.3176219
X-APPLE-STRUCTURED-LOCATION;VALUE=URI;X-ADDRESS=Ludington Library 5 S. Bryn Mawr Avenue Bryn Mawr PA 19010 United States;X-APPLE-RADIUS=500;X-TITLE=5 S. Bryn Mawr Avenue:geo:-75.3176219,40.0207429
END:VEVENT
BEGIN:VEVENT
DTSTART;TZID=America/New_York:20260219T120000
DTEND;TZID=America/New_York:20260219T170000
DTSTAMP:20260419T180434
CREATED:20260121T123936Z
LAST-MODIFIED:20260121T123936Z
UID:10075281-1771502400-1771520400@mainlineparent.com
SUMMARY:Lunar New Year Crafts at Ludington Library
DESCRIPTION:Come into the Junior Room from 12 to 5pm Tuesday through Friday and create a wonderful craft celebrating the Lunar New Year. \nAges 3 and up can do one craft a day while supplies last. No registration necessary.
URL:https://mainlineparent.com/event/lunar-new-year-crafts-at-ludington-library/2026-02-19/
LOCATION:Ludington Library\, 5 S. Bryn Mawr Avenue\, Bryn Mawr\, PA\, 19010\, United States
CATEGORIES:At the Library,Lunar New Year
ATTACH;FMTTYPE=image/jpeg:https://mainlineparent.com/wp-content/uploads/2026/01/Ludington-lunar-NY-e1768999169305.jpg
GEO:40.0207429;-75.3176219
X-APPLE-STRUCTURED-LOCATION;VALUE=URI;X-ADDRESS=Ludington Library 5 S. Bryn Mawr Avenue Bryn Mawr PA 19010 United States;X-APPLE-RADIUS=500;X-TITLE=5 S. Bryn Mawr Avenue:geo:-75.3176219,40.0207429
END:VEVENT
BEGIN:VEVENT
DTSTART;TZID=America/New_York:20260220T120000
DTEND;TZID=America/New_York:20260220T170000
DTSTAMP:20260419T180434
CREATED:20260121T123936Z
LAST-MODIFIED:20260121T123936Z
UID:10075282-1771588800-1771606800@mainlineparent.com
SUMMARY:Lunar New Year Crafts at Ludington Library
DESCRIPTION:Come into the Junior Room from 12 to 5pm Tuesday through Friday and create a wonderful craft celebrating the Lunar New Year. \nAges 3 and up can do one craft a day while supplies last. No registration necessary.
URL:https://mainlineparent.com/event/lunar-new-year-crafts-at-ludington-library/2026-02-20/
LOCATION:Ludington Library\, 5 S. Bryn Mawr Avenue\, Bryn Mawr\, PA\, 19010\, United States
CATEGORIES:At the Library,Lunar New Year
ATTACH;FMTTYPE=image/jpeg:https://mainlineparent.com/wp-content/uploads/2026/01/Ludington-lunar-NY-e1768999169305.jpg
GEO:40.0207429;-75.3176219
X-APPLE-STRUCTURED-LOCATION;VALUE=URI;X-ADDRESS=Ludington Library 5 S. Bryn Mawr Avenue Bryn Mawr PA 19010 United States;X-APPLE-RADIUS=500;X-TITLE=5 S. Bryn Mawr Avenue:geo:-75.3176219,40.0207429
END:VEVENT
BEGIN:VEVENT
DTSTART;TZID=America/New_York:20260221T110000
DTEND;TZID=America/New_York:20260221T120000
DTSTAMP:20260419T180434
CREATED:20260118T155742Z
LAST-MODIFIED:20260118T155742Z
UID:10075228-1771671600-1771675200@mainlineparent.com
SUMMARY:Black History STEM Workshop: Innovate\, Engineer\, Elevate
DESCRIPTION:Celebrate Black History Month with an action-packed afternoon of hands-on science and tech exploration. The FOBH STEM Workshop invites students and curious creators to dive into engineering\, robotics\, and innovation inspired by African-American trailblazers who shaped aerospace and STEM fields. \nEvent Highlights: \n\nBuild a working robot alongside special guest “Stevie the Inventor\,” who will guide participants through fun\, accessible robotics concepts\nA collaborative environment perfect for learners.\n\nDiscover the power of curiosity and innovation as we celebrate the thinkers and creators who continue to lift our world to new heights. Registration required – suitable for ages 7 through 12.
URL:https://mainlineparent.com/event/black-history-stem-workshop-innovate-engineer-elevate/
LOCATION:Upper Merion Library\, 175 W. Valley Forge Road\, King of Prussia\, PA\, 19406
CATEGORIES:At the Library,Black History Month,Kid Event
ATTACH;FMTTYPE=image/png:https://mainlineparent.com/wp-content/uploads/2025/01/Black-history-logo.png
END:VEVENT
BEGIN:VEVENT
DTSTART;TZID=America/New_York:20260221T120000
DTEND;TZID=America/New_York:20260221T150000
DTSTAMP:20260419T180434
CREATED:20250123T193603Z
LAST-MODIFIED:20260118T160833Z
UID:10054560-1771675200-1771686000@mainlineparent.com
SUMMARY:Black History STEM Fair: Innovate\, Engineer\, Elevate In-Person
DESCRIPTION:Celebrate Black History Month with an action-packed afternoon of hands-on science and tech exploration at the FOBH STEM Fair. This event invites families\, students\, and curious creators to dive into engineering\, robotics\, and innovation inspired by African-American trailblazers who shaped aerospace and STEM fields. \nEvent Highlights: \n\nStudent STEM Showcase featuring creative projects\, experiments\, and inventions by local young scientists\nInteractive stations highlighting engineering\, coding\, flight science\, and problem-solving\nA collaborative environment perfect for learners of all ages\n\nDiscover the power of curiosity and innovation as we celebrate the thinkers and creators who continue to lift the world to new heights. Registration required. \nEvery attendee will receive a complimentary raffle ticket for a chance to win a Black history-themed basket\, filled with art\, history\, culture\, and music. The drawing will be held on Saturday\, February 28th at the end of Dr. Daisy Century’s presentation.
URL:https://mainlineparent.com/event/black-history-kids-crafts-and-activities/
LOCATION:Upper Merion Township Library\, 175 W Valley Forge Road\, King of Prussia\, PA\, 19406
CATEGORIES:At the Library,Black History Month
ATTACH;FMTTYPE=image/png:https://mainlineparent.com/wp-content/uploads/2025/01/Black-history-logo.png
END:VEVENT
BEGIN:VEVENT
DTSTART;TZID=America/New_York:20260221T130000
DTEND;TZID=America/New_York:20260221T140000
DTSTAMP:20260419T180434
CREATED:20250123T191831Z
LAST-MODIFIED:20260118T222048Z
UID:10054557-1771678800-1771682400@mainlineparent.com
SUMMARY:Teen & Tween Artist Justin Lockley
DESCRIPTION:Artist Justin Lockley will be speaking to teens and tweens in honor of Black History Month.  He will talk about overcoming obstacles and his journey to his dream of being an artist.  Registration is required.
URL:https://mainlineparent.com/event/young-illustrators-ezra-jack-keats/
LOCATION:West Chester Library\, 415 N. Church St.\, West Chester\, PA
CATEGORIES:At the Library,Black History Month,Chester County Events
ATTACH;FMTTYPE=image/png:https://mainlineparent.com/wp-content/uploads/2025/01/BHM-WCL.png
END:VEVENT
BEGIN:VEVENT
DTSTART;TZID=America/New_York:20260221T140000
DTEND;TZID=America/New_York:20260221T153000
DTSTAMP:20260419T180434
CREATED:20250123T195625Z
LAST-MODIFIED:20260118T214359Z
UID:10054563-1771682400-1771687800@mainlineparent.com
SUMMARY:Ned Hector – Black Revolutionary War Hero
DESCRIPTION:Join the Haverford Township Free Library for an afternoon with historical interpreter\, Noah Lewis who presents the life and times of Edward “Ned” Hector\, a black soldier who fought in the American Revolution for the Continental Army for the cause of American Independence.  Ned Hector served as a teamster (a wagon driver) and a bombardier (part of an artillery crew) with the state militia called Proctor’s Third Pennsylvania Artillery\, which by the end of 1777 became the Fourth Continental Artillery.  The known battles he participated in are the Battle of Brandywine (September 11\, 1777) and Germantown (October 4\, 1777) \nNoah’s presentation is participatory and is suited for children (3rd grade and up)\, teens\, and adults.  No registration is required.
URL:https://mainlineparent.com/event/black-history-historical-interpretation-of-stagecoach-mary/
LOCATION:Haverford Township Free Library\, 1601 Darby Road\, Havertown\, PA\, 19083
CATEGORIES:At the Library,Black History Month,Delaware County Events
ATTACH;FMTTYPE=image/png:https://mainlineparent.com/wp-content/uploads/2025/01/Delco-BHM.png
END:VEVENT
END:VCALENDAR