BEGIN:VCALENDAR
VERSION:2.0
PRODID:-//Main Line Parent - ECPv6.15.20//NONSGML v1.0//EN
CALSCALE:GREGORIAN
METHOD:PUBLISH
X-ORIGINAL-URL:https://mainlineparent.com
X-WR-CALDESC:Events for Main Line Parent
REFRESH-INTERVAL;VALUE=DURATION:PT1H
X-Robots-Tag:noindex
X-PUBLISHED-TTL:PT1H
BEGIN:VTIMEZONE
TZID:America/New_York
BEGIN:DAYLIGHT
TZOFFSETFROM:-0500
TZOFFSETTO:-0400
TZNAME:EDT
DTSTART:20250309T070000
END:DAYLIGHT
BEGIN:STANDARD
TZOFFSETFROM:-0400
TZOFFSETTO:-0500
TZNAME:EST
DTSTART:20251102T060000
END:STANDARD
BEGIN:DAYLIGHT
TZOFFSETFROM:-0500
TZOFFSETTO:-0400
TZNAME:EDT
DTSTART:20260308T070000
END:DAYLIGHT
BEGIN:STANDARD
TZOFFSETFROM:-0400
TZOFFSETTO:-0500
TZNAME:EST
DTSTART:20261101T060000
END:STANDARD
BEGIN:DAYLIGHT
TZOFFSETFROM:-0500
TZOFFSETTO:-0400
TZNAME:EDT
DTSTART:20270314T070000
END:DAYLIGHT
BEGIN:STANDARD
TZOFFSETFROM:-0400
TZOFFSETTO:-0500
TZNAME:EST
DTSTART:20271107T060000
END:STANDARD
END:VTIMEZONE
BEGIN:VEVENT
DTSTART;VALUE=DATE:20260517
DTEND;VALUE=DATE:20260518
DTSTAMP:20260423T063535
CREATED:20260420T165036Z
LAST-MODIFIED:20260420T165036Z
UID:10077792-1778976000-1779062399@mainlineparent.com
SUMMARY:Annual Bubble Walk & Fun Day
DESCRIPTION:Have fun at the Annual Bubble & Fun Day on May 17th at West Goshen Community Park! \nTo register to attend in-person or virtually\, please complete the registration form!\n$30 / Per Person (10 yrs & up) \nCheck-in 11 am & Opening Ceremonies 11:30 am \nRegistration includes the Walk\, T-shirt\, Food\, Dancing\, & Activities\, Fun and Games!
URL:https://mainlineparent.com/event/annual-bubble-walk-fun-day/
LOCATION:West Goshen Community Park\, 1023 Fern Hill Road\, West Chester\, PA\, 19380
CATEGORIES:Chester County Events,Community Event,For Kids Ages 1 – 3,For Kids Ages 4 – 6,For Kids Ages 5-7,For Kids Ages 8 – 10,For The Whole Family
ATTACH;FMTTYPE=image/jpeg:https://mainlineparent.com/wp-content/uploads/2026/04/bubble-fun-walk.jpg
END:VEVENT
BEGIN:VEVENT
DTSTART;TZID=America/New_York:20260517T080000
DTEND;TZID=America/New_York:20260517T110000
DTSTAMP:20260423T063535
CREATED:20260408T194825Z
LAST-MODIFIED:20260408T194825Z
UID:10077755-1779004800-1779015600@mainlineparent.com
SUMMARY:SunriseWALKS Greater Philadelphia
DESCRIPTION:Join the fun at SunriseWALKS\, a family-friendly community event\nbenefiting Sunrise Day Camp. The morning features a walk\,\nmusic\, kid-friendly activities\, and more-bringing the community\ntogether to support local children with cancer and their siblings.\nEvery dollar raised helps send kids to camp\, completely free of\ncharge. \n$20 adults\, $5 child 12 & under using code PHILLYFAM \nAddress: 1100 Pattison Ave Philadelphia\, PA 19148
URL:https://mainlineparent.com/event/sunrisewalks-greater-philadelphia/
LOCATION:DE
CATEGORIES:Community Event,For Kids Ages 1 – 3,For Kids Ages 11 – 14,For Kids Ages 15+,For Kids Ages 4 – 6,For Kids Ages 7 – 10,For The Whole Family
ATTACH;FMTTYPE=image/jpeg:https://mainlineparent.com/wp-content/uploads/2026/04/Sunrise-Day-camp-walk-e1775677648764.jpg
END:VEVENT
BEGIN:VEVENT
DTSTART;TZID=America/New_York:20260517T120000
DTEND;TZID=America/New_York:20260517T180000
DTSTAMP:20260423T063535
CREATED:20260319T140906Z
LAST-MODIFIED:20260319T140906Z
UID:10077691-1779019200-1779040800@mainlineparent.com
SUMMARY:Lansdowne Arts on the Avenue
DESCRIPTION:Lansdowne Arts on the Avenue Festival annually features 50+ juried artists\, performances\, demonstrations and more! \n Lansdowne Arts on the Avenue Festival – A Free Celebration of Creativity\, Craft & Community 30 N. Lansdowne Ave.\, Lansdowne\, PA Sunday\, May 17\, 2026 | 12–6 PM (Rain Date: Sunday\, May 31) \nJoin us for a vibrant celebration of art\, music\, and community in the heart of Lansdowne. Since 2003\, the Lansdowne Economic Development Corporation has brought this free\, all-ages festival to life\, transforming our historic downtown into a lively\, open-air gallery where local makers\, visual artists\, performers\, and neighbors come together. \nWhat you’ll discover: \n70+ juried artists working in painting\, sculpture\, fiber\, ceramics\, jewelry\, and more\nLive music and performances throughout the day\nDemonstrations and interactive art experiences for all ages\nFood trucks\, a beer garden\, and great downtown shopping\nA walkable festival footprint that encourages exploration of Lansdowne’s businesses\, galleries and cultural spaces \nBring a friend\, bring the family\, and enjoy: \nA stroll down Lansdowne Avenue with artist booths interwoven into the streetscape\nCreative moments for kids and adults\, from craft demos to live performance\nA chance to meet the makers\, ask questions\, and discover work you won’t find anywhere else\nSupporting a nonprofit-led festival that keeps 100% of sales with the artists (no commission taken) \nCome for the art\, stay for the community. Join us in celebrating 21 years of creativity in Lansdowne! \n Learn more and plan your visit: https://www.lansdowneartsontheavenue.com/ \nFor more to do in Delco\, go to visitdelco.com
URL:https://mainlineparent.com/event/lansdowne-arts-on-the-avenue/
LOCATION:Veterans Landing\, 30 N. Lansdowne Ave.\, Lansdowne\, PA\, 19050
CATEGORIES:Community Event,Delaware County Events,For The Whole Family
ATTACH;FMTTYPE=image/jpeg:https://mainlineparent.com/wp-content/uploads/2026/03/Lansdown-Arts-Ave-e1773929332163.jpg
END:VEVENT
BEGIN:VEVENT
DTSTART;TZID=America/New_York:20260517T160000
DTEND;TZID=America/New_York:20260517T173000
DTSTAMP:20260423T063535
CREATED:20260410T183847Z
LAST-MODIFIED:20260410T183847Z
UID:10077767-1779033600-1779039000@mainlineparent.com
SUMMARY:Mada & Hugh Piano Duo: America 250 – A 4-Hand Piano Celebration
DESCRIPTION:The acclaimed Mada & Hugh Piano Duo performs a festive program celebrating American music featuring works by Gershwin\, Copland\, Bernstein\, and Florence B. Price. Suggested donation: $10 per person\, $20 per family.
URL:https://mainlineparent.com/event/mada-hugh-piano-duo-america-250-a-4-hand-piano-celebration/
LOCATION:Saint Katharine of Siena\, 104 S Aberdeen Ave\, Wayne\, PA\, 19087\, United States
CATEGORIES:Community Event,For Kids Ages 1 – 3,For Kids Ages 11 – 14,For Kids Ages 15+,For Kids Ages 4 – 6,For Kids Ages 7 – 10,For New & Expecting Parents,For Parents,For The Whole Family
ATTACH;FMTTYPE=image/jpeg:https://mainlineparent.com/wp-content/uploads/2026/04/mada-hugh-piano-duo-e1775846302574.jpg
END:VEVENT
END:VCALENDAR