BEGIN:VCALENDAR
VERSION:2.0
PRODID:-//Main Line Parent - ECPv6.15.20//NONSGML v1.0//EN
CALSCALE:GREGORIAN
METHOD:PUBLISH
X-ORIGINAL-URL:https://mainlineparent.com
X-WR-CALDESC:Events for Main Line Parent
REFRESH-INTERVAL;VALUE=DURATION:PT1H
X-Robots-Tag:noindex
X-PUBLISHED-TTL:PT1H
BEGIN:VTIMEZONE
TZID:America/New_York
BEGIN:DAYLIGHT
TZOFFSETFROM:-0500
TZOFFSETTO:-0400
TZNAME:EDT
DTSTART:20250309T070000
END:DAYLIGHT
BEGIN:STANDARD
TZOFFSETFROM:-0400
TZOFFSETTO:-0500
TZNAME:EST
DTSTART:20251102T060000
END:STANDARD
BEGIN:DAYLIGHT
TZOFFSETFROM:-0500
TZOFFSETTO:-0400
TZNAME:EDT
DTSTART:20260308T070000
END:DAYLIGHT
BEGIN:STANDARD
TZOFFSETFROM:-0400
TZOFFSETTO:-0500
TZNAME:EST
DTSTART:20261101T060000
END:STANDARD
BEGIN:DAYLIGHT
TZOFFSETFROM:-0500
TZOFFSETTO:-0400
TZNAME:EDT
DTSTART:20270314T070000
END:DAYLIGHT
BEGIN:STANDARD
TZOFFSETFROM:-0400
TZOFFSETTO:-0500
TZNAME:EST
DTSTART:20271107T060000
END:STANDARD
END:VTIMEZONE
BEGIN:VEVENT
DTSTART;TZID=America/New_York:20260507T190000
DTEND;TZID=America/New_York:20260507T210000
DTSTAMP:20260423T061915
CREATED:20260416T144338Z
LAST-MODIFIED:20260416T144338Z
UID:10077788-1778180400-1778187600@mainlineparent.com
SUMMARY:CCC Shines Presents: Jungle Book Kids
DESCRIPTION:CCC Shines is excited to introduce a special 4-week Micro on stage Production of Disney’s The Jungle Book KIDS for students in 2nd-6th Grade. \nDesigned for students who are eager for a quick\, high-energy performance experience\, this condensed rehearsal process allows young performers to strengthen their acting skills\, build stage confidence\, and collaborate in a joyful\, focused environment before summer begins. Join us for our performance on May 7th at 7pm.
URL:https://mainlineparent.com/event/ccc-shines-presents-jungle-book-kids/
LOCATION:CCC Shines\, 1701 S. Sproul Road\, Springfield\, PA\, 19064\, United States
CATEGORIES:Community Event,Delaware County Events,Family Event,For The Whole Family,Musical Performance,Theatre Performances
ATTACH;FMTTYPE=image/jpeg:https://mainlineparent.com/wp-content/uploads/2026/04/CCC-SHINES-Jungle-Book.jpg
END:VEVENT
BEGIN:VEVENT
DTSTART;TZID=America/New_York:20260510T100000
DTEND;TZID=America/New_York:20260510T180000
DTSTAMP:20260423T061915
CREATED:20260422T133226Z
LAST-MODIFIED:20260422T133226Z
UID:10077803-1778407200-1778436000@mainlineparent.com
SUMMARY:Mother’s Day Celebration
DESCRIPTION:Celebrate Mother’s Day at Mt. Cuba Center! Spend the afternoon exploring the spring blooms and guided tours led by our native plant educators. Enjoy family-friendly activities for all ages. Don’t forget to visit our plant sale to find the perfect Mother’s Day gift! Local food truck fare\, beer and wine will be available for purchase. No outside alcohol permitted. \nThis program takes place in-person at Mt. Cuba Center Sunday\, May 10\, 2026.
URL:https://mainlineparent.com/event/mothers-day-celebration/
LOCATION:Mt. Cuba Center\, 3120 Barley Mill Rd.\, Hockessin\, DE\, 19707\, United States
CATEGORIES:Community Event,For Kids Ages 1 – 3,For Kids Ages 11 – 14,For Kids Ages 15+,For Kids Ages 4 – 6,For Kids Ages 5-7,For Kids Ages 7 – 10,For Kids Ages 8 – 10,For New & Expecting Parents,For Parents,For The Whole Family
ATTACH;FMTTYPE=image/jpeg:https://mainlineparent.com/wp-content/uploads/2026/04/golden-hour-mt-cuba-center-e1776864436213.jpg
END:VEVENT
END:VCALENDAR