BEGIN:VCALENDAR
VERSION:2.0
PRODID:-//Main Line Parent - ECPv6.15.20//NONSGML v1.0//EN
CALSCALE:GREGORIAN
METHOD:PUBLISH
X-ORIGINAL-URL:https://mainlineparent.com
X-WR-CALDESC:Events for Main Line Parent
REFRESH-INTERVAL;VALUE=DURATION:PT1H
X-Robots-Tag:noindex
X-PUBLISHED-TTL:PT1H
BEGIN:VTIMEZONE
TZID:America/New_York
BEGIN:DAYLIGHT
TZOFFSETFROM:-0500
TZOFFSETTO:-0400
TZNAME:EDT
DTSTART:20250309T070000
END:DAYLIGHT
BEGIN:STANDARD
TZOFFSETFROM:-0400
TZOFFSETTO:-0500
TZNAME:EST
DTSTART:20251102T060000
END:STANDARD
BEGIN:DAYLIGHT
TZOFFSETFROM:-0500
TZOFFSETTO:-0400
TZNAME:EDT
DTSTART:20260308T070000
END:DAYLIGHT
BEGIN:STANDARD
TZOFFSETFROM:-0400
TZOFFSETTO:-0500
TZNAME:EST
DTSTART:20261101T060000
END:STANDARD
BEGIN:DAYLIGHT
TZOFFSETFROM:-0500
TZOFFSETTO:-0400
TZNAME:EDT
DTSTART:20270314T070000
END:DAYLIGHT
BEGIN:STANDARD
TZOFFSETFROM:-0400
TZOFFSETTO:-0500
TZNAME:EST
DTSTART:20271107T060000
END:STANDARD
END:VTIMEZONE
BEGIN:VEVENT
DTSTART;TZID=America/New_York:20260523T163000
DTEND;TZID=America/New_York:20260523T200000
DTSTAMP:20260423T201550
CREATED:20260422T132734Z
LAST-MODIFIED:20260422T132734Z
UID:10077801-1779553800-1779566400@mainlineparent.com
SUMMARY:Golden Hour
DESCRIPTION:Enjoy the cooler evening temperatures with extended garden hours\, a full bar and discounted admission of just $10 when you arrive after 4:30 PM and buy your tickets on-site\, with free admission for members. Whether you’re looking for the perfect light for photography\, a way to wind down at the end of the day\, or an opportunity to enjoy time with friends and family\, come take in the unique beauty of the gardens during the golden hours! \nGolden Hour dates:\n5/23\, 6/20 | 4:30 PM – 8 PM \nDiscounted Tickets Available to Purchase On-Site.
URL:https://mainlineparent.com/event/golden-hour/2026-05-23/
LOCATION:Mt. Cuba Center\, 3120 Barley Mill Rd.\, Hockessin\, DE\, 19707\, United States
CATEGORIES:Community Event,For Parents,For The Whole Family
ATTACH;FMTTYPE=image/jpeg:https://mainlineparent.com/wp-content/uploads/2026/04/golden-hour-mt-cuba-center-e1776864436213.jpg
END:VEVENT
BEGIN:VEVENT
DTSTART;TZID=America/New_York:20260524T100000
DTEND;TZID=America/New_York:20260524T180000
DTSTAMP:20260423T201550
CREATED:20260422T015720Z
LAST-MODIFIED:20260422T015720Z
UID:10077800-1779616800-1779645600@mainlineparent.com
SUMMARY:Garden Share Guest Days
DESCRIPTION:Share the beauty of Mt. Cuba Center! Experience the gardens with a friend during our special Garden Share Guest Pass Days when you can enjoy two-for-one general admission! Whether you’re introducing a friend to our spring ephemerals\, enjoying a quiet walk through the summer blooms\, or strolling through the autumn beauty – invite a fellow nature lover to explore our winding paths and vibrant native plant displays. \nDiscount is available when you buy your tickets on-site\, and is valid for General Admission only. Not applicable for special events\, classes\, or in combination with other promotional offers. Special for members: Bring one additional guest on these dates. \nThis program takes place in-person at Mt. Cuba Center Sunday\, May 24\, 2026. \nDiscounted Tickets Available On-Site.
URL:https://mainlineparent.com/event/garden-share-guest-days/
LOCATION:Mt. Cuba Center\, 3120 Barley Mill Rd.\, Hockessin\, DE\, 19707\, United States
CATEGORIES:Community Event,For Kids Ages 11 – 14,For Kids Ages 15+,For Kids Ages 7 – 10,For Kids Ages 8 – 10,For Parents,For The Whole Family
ATTACH;FMTTYPE=image/jpeg:https://mainlineparent.com/wp-content/uploads/2026/04/mt-cuba-center-guest-pass-e1776823030839.jpg
END:VEVENT
BEGIN:VEVENT
DTSTART;TZID=America/New_York:20260530T100000
DTEND;TZID=America/New_York:20260530T180000
DTSTAMP:20260423T201550
CREATED:20260422T015415Z
LAST-MODIFIED:20260422T015415Z
UID:10077799-1780135200-1780164000@mainlineparent.com
SUMMARY:Botanical Bazaar Art Show & Festival
DESCRIPTION:NEW this year! Mt. Cuba Center has expanded upon its legacy Art-In event with a celebration of the beauty of plants and the inspiration they can provide with the addition of a Botanical Art market. ​ \n​Calling all artists and art lovers! Let creativity blossom while you draw\, paint\, or photograph outside in Mt. Cuba Center’s beautiful\, ever-changing gardens and natural areas. Stroll through the marketplace of local botanical artists and those inspired by nature. Purchase local food truck fare\, beer and wine. No outside alcohol permitted. \nThis program takes place in-person at Mt. Cuba Center Saturday\, May 30\, 2026 (Rain Date: 5/31/2026). Free with general admission to the gardens and for members.
URL:https://mainlineparent.com/event/botanical-bazaar-art-show-festival/
LOCATION:Mt. Cuba Center\, 3120 Barley Mill Rd.\, Hockessin\, DE\, 19707\, United States
CATEGORIES:Community Event,For Kids Ages 11 – 14,For Kids Ages 15+,For Kids Ages 7 – 10,For Kids Ages 8 – 10,For The Whole Family
ATTACH;FMTTYPE=image/jpeg:https://mainlineparent.com/wp-content/uploads/2026/04/Botanical-Bazaar-Art-Show-Festival-mt-cuba-center-e1776822841459.jpg
END:VEVENT
BEGIN:VEVENT
DTSTART;TZID=America/New_York:20260606T090000
DTEND;TZID=America/New_York:20260606T130000
DTSTAMP:20260423T201550
CREATED:20260420T163750Z
LAST-MODIFIED:20260420T163750Z
UID:10077789-1780736400-1780750800@mainlineparent.com
SUMMARY:2026 Walk to Cure Arthritis Philadelphia
DESCRIPTION:Join us on Saturday\, June 6\, 2026\, for the 2026 Walk to Cure Arthritis Philadelphia as we celebrate 25 years of impact\, progress\, and hope. \nThis year\, experience our newly reimagined event\, designed to inspire and engage all ages. Enjoy:\n– A Family Fun Zone packed with activities\n– Our brand-new Pawspitality Place for your furry friends\n– Joint-friendly fare and mobility exercise sessions\n– Arthritis resources and connect with local vendors\n– Exciting surprises throughout the day \nWhether you walk with a team\, bring your friends & family\, or join on your own\, every step you take fuels life-changing research\, supports patient programs\, and strengthens advocacy efforts at every level. \nRegistration is free and your fundraising makes the difference. Raise $100 or more and receive an exclusive\, limited-edition 25th Anniversary t-shirt. \nTake the first step today. Register now: www.walktocurearthritis.org/philadelphia
URL:https://mainlineparent.com/event/2026-walk-to-cure-arthritis-philadelphia/
LOCATION:Montgomery County Community College\, 340 DeKalb Pike\, Blue Bell\, PA\, 19422\, United States
CATEGORIES:Community Event,For The Whole Family,Montgomery County Events
ATTACH;FMTTYPE=image/jpeg:https://mainlineparent.com/wp-content/uploads/2026/04/walk-for-arthritis-e1776703049173.jpg
END:VEVENT
BEGIN:VEVENT
DTSTART;TZID=America/New_York:20260606T100000
DTEND;TZID=America/New_York:20260606T130000
DTSTAMP:20260423T201550
CREATED:20260313T134312Z
LAST-MODIFIED:20260313T134312Z
UID:10077645-1780740000-1780750800@mainlineparent.com
SUMMARY:First Touch Academy USA – Free Soccer Launch Event
DESCRIPTION:First Touch Academy USA is launching in Wayne\, Pennsylvania and is inviting local families to a free soccer launch event. \nThis special introduction event will give young players and parents the opportunity to experience the coaching philosophy behind First Touch Academy\, an elite football development program inspired by European academy training methods. \nBoys and girls ages 5–16 are welcome to attend. Players will take part in engaging technical training activities designed to develop ball mastery\, confidence\, and creativity on the field. \nFamilies will also have the opportunity to learn more about the upcoming First Touch Academy Summer Soccer Camps launching June 22\, 2026. \nSpaces are limited and families are encouraged to register their interest online. \nMore information:\nhttps://firsttouchacademyusa.com
URL:https://mainlineparent.com/event/first-touch-academy-usa-free-soccer-launch-event/
LOCATION:Dittmar Park Fields\, 600 W Wayne Ave\, Wayne\, PA\, 19087\, United States
CATEGORIES:Chester County Events,Community Event,For Kids Ages 11 – 14,For Kids Ages 5-7,For Kids Ages 8 – 10,For Parents,For The Whole Family
ATTACH;FMTTYPE=image/jpeg:https://mainlineparent.com/wp-content/uploads/2026/03/First-Touch-Soccer-e1773409381905.jpg
END:VEVENT
BEGIN:VEVENT
DTSTART;VALUE=DATE:20260614
DTEND;VALUE=DATE:20260615
DTSTAMP:20260423T201550
CREATED:20260409T144322Z
LAST-MODIFIED:20260409T144421Z
UID:10077761-1781395200-1781481599@mainlineparent.com
SUMMARY:Flag Day Gala
DESCRIPTION:On Flag Day—June 14\, 2026—join community leaders and supporters for a commemorative fundraising gala marking the 250th anniversary of the United States. Held at the Museum at Hoppenville\, a new venue located in the heart of the Perkiomen Valley\, this special evening will feature a guest appearance by Betsy Ross and live music by the Community Music School of Trappe. Enjoy cocktails and hors d’oeuvres on the outdoor patio overlooking the historic estate from 5 to 6 pm\, followed by a seated dinner and a lively performance by Carol Spacht as America’s famous flag maker. \nThis event jointly benefits the Montgomery Bar Foundation and Perkiomen Valley 250\, a collaborative effort to celebrate the nation’s Semiquincentennial anniversary. Early sponsorship opportunities are available through May 1; ticket sales for the gala will open after that date.
URL:https://mainlineparent.com/event/flag-day-gala/
LOCATION:Museum at Hoppenville\, 4363 Campbell Rd\, Pennsburg\, PA\, 18073\, United States
CATEGORIES:Community Event,Flag Day,For The Whole Family,Montgomery County Events
ATTACH;FMTTYPE=image/jpeg:https://mainlineparent.com/wp-content/uploads/2026/04/Carol-Spacht-Betsy-Ross-683x1024-1-e1775745788525.jpg
END:VEVENT
BEGIN:VEVENT
DTSTART;TZID=America/New_York:20260620T163000
DTEND;TZID=America/New_York:20260620T200000
DTSTAMP:20260423T201550
CREATED:20260422T132734Z
LAST-MODIFIED:20260422T132734Z
UID:10077802-1781973000-1781985600@mainlineparent.com
SUMMARY:Golden Hour
DESCRIPTION:Enjoy the cooler evening temperatures with extended garden hours\, a full bar and discounted admission of just $10 when you arrive after 4:30 PM and buy your tickets on-site\, with free admission for members. Whether you’re looking for the perfect light for photography\, a way to wind down at the end of the day\, or an opportunity to enjoy time with friends and family\, come take in the unique beauty of the gardens during the golden hours! \nGolden Hour dates:\n5/23\, 6/20 | 4:30 PM – 8 PM \nDiscounted Tickets Available to Purchase On-Site.
URL:https://mainlineparent.com/event/golden-hour/2026-06-20/
LOCATION:Mt. Cuba Center\, 3120 Barley Mill Rd.\, Hockessin\, DE\, 19707\, United States
CATEGORIES:Community Event,For Parents,For The Whole Family
ATTACH;FMTTYPE=image/jpeg:https://mainlineparent.com/wp-content/uploads/2026/04/golden-hour-mt-cuba-center-e1776864436213.jpg
END:VEVENT
BEGIN:VEVENT
DTSTART;TZID=America/New_York:20260730T080000
DTEND;TZID=America/New_York:20260730T170000
DTSTAMP:20260423T201550
CREATED:20260413T174531Z
LAST-MODIFIED:20260413T174531Z
UID:10077775-1785398400-1785430800@mainlineparent.com
SUMMARY:Continental Youth Championships: Youth Gaelic Sport Tournament
DESCRIPTION:The O’Neills Continental Youth Championships is the largest Youth Gaelic Games tournament outside of Ireland. Found in 2004\, the tournament hosts teams from the USGAA\, Canadian GAA\, and New York. \nFree on Thursday and Friday\n$10 admission Saturday and Sunday for adults
URL:https://mainlineparent.com/event/continental-youth-championships-youth-gaelic-sport-tournament/2026-07-30/
LOCATION:Line Rd Sports Complex\, 137 Line Road\, Malvern\, PA\, 19355\, United States
CATEGORIES:Community Event,For Kids Ages 11 – 14,For Kids Ages 15+,For Kids Ages 4 – 6,For Kids Ages 7 – 10,For Kids Ages 8 – 10,For The Whole Family
ATTACH;FMTTYPE=image/jpeg:https://mainlineparent.com/wp-content/uploads/2026/04/youth-gaelic-sport-e1776102318199.jpg
END:VEVENT
BEGIN:VEVENT
DTSTART;TZID=America/New_York:20260731T080000
DTEND;TZID=America/New_York:20260731T170000
DTSTAMP:20260423T201550
CREATED:20260413T174531Z
LAST-MODIFIED:20260413T174531Z
UID:10077776-1785484800-1785517200@mainlineparent.com
SUMMARY:Continental Youth Championships: Youth Gaelic Sport Tournament
DESCRIPTION:The O’Neills Continental Youth Championships is the largest Youth Gaelic Games tournament outside of Ireland. Found in 2004\, the tournament hosts teams from the USGAA\, Canadian GAA\, and New York. \nFree on Thursday and Friday\n$10 admission Saturday and Sunday for adults
URL:https://mainlineparent.com/event/continental-youth-championships-youth-gaelic-sport-tournament/2026-07-31/
LOCATION:Line Rd Sports Complex\, 137 Line Road\, Malvern\, PA\, 19355\, United States
CATEGORIES:Community Event,For Kids Ages 11 – 14,For Kids Ages 15+,For Kids Ages 4 – 6,For Kids Ages 7 – 10,For Kids Ages 8 – 10,For The Whole Family
ATTACH;FMTTYPE=image/jpeg:https://mainlineparent.com/wp-content/uploads/2026/04/youth-gaelic-sport-e1776102318199.jpg
END:VEVENT
BEGIN:VEVENT
DTSTART;TZID=America/New_York:20260801T080000
DTEND;TZID=America/New_York:20260801T170000
DTSTAMP:20260423T201550
CREATED:20260413T174531Z
LAST-MODIFIED:20260413T174531Z
UID:10077777-1785571200-1785603600@mainlineparent.com
SUMMARY:Continental Youth Championships: Youth Gaelic Sport Tournament
DESCRIPTION:The O’Neills Continental Youth Championships is the largest Youth Gaelic Games tournament outside of Ireland. Found in 2004\, the tournament hosts teams from the USGAA\, Canadian GAA\, and New York. \nFree on Thursday and Friday\n$10 admission Saturday and Sunday for adults
URL:https://mainlineparent.com/event/continental-youth-championships-youth-gaelic-sport-tournament/2026-08-01/
LOCATION:Line Rd Sports Complex\, 137 Line Road\, Malvern\, PA\, 19355\, United States
CATEGORIES:Community Event,For Kids Ages 11 – 14,For Kids Ages 15+,For Kids Ages 4 – 6,For Kids Ages 7 – 10,For Kids Ages 8 – 10,For The Whole Family
ATTACH;FMTTYPE=image/jpeg:https://mainlineparent.com/wp-content/uploads/2026/04/youth-gaelic-sport-e1776102318199.jpg
END:VEVENT
BEGIN:VEVENT
DTSTART;TZID=America/New_York:20260802T080000
DTEND;TZID=America/New_York:20260802T170000
DTSTAMP:20260423T201550
CREATED:20260413T174531Z
LAST-MODIFIED:20260413T174531Z
UID:10077778-1785657600-1785690000@mainlineparent.com
SUMMARY:Continental Youth Championships: Youth Gaelic Sport Tournament
DESCRIPTION:The O’Neills Continental Youth Championships is the largest Youth Gaelic Games tournament outside of Ireland. Found in 2004\, the tournament hosts teams from the USGAA\, Canadian GAA\, and New York. \nFree on Thursday and Friday\n$10 admission Saturday and Sunday for adults
URL:https://mainlineparent.com/event/continental-youth-championships-youth-gaelic-sport-tournament/2026-08-02/
LOCATION:Line Rd Sports Complex\, 137 Line Road\, Malvern\, PA\, 19355\, United States
CATEGORIES:Community Event,For Kids Ages 11 – 14,For Kids Ages 15+,For Kids Ages 4 – 6,For Kids Ages 7 – 10,For Kids Ages 8 – 10,For The Whole Family
ATTACH;FMTTYPE=image/jpeg:https://mainlineparent.com/wp-content/uploads/2026/04/youth-gaelic-sport-e1776102318199.jpg
END:VEVENT
BEGIN:VEVENT
DTSTART;TZID=America/New_York:20260823T120000
DTEND;TZID=America/New_York:20260823T200000
DTSTAMP:20260423T201550
CREATED:20260406T204333Z
LAST-MODIFIED:20260406T204333Z
UID:10077753-1787486400-1787515200@mainlineparent.com
SUMMARY:Ukrainian Folk Festival 2026
DESCRIPTION:UKRAINIAN FOLK FESTIVAL & SUMMER CONCERT 2026\nCelebrate the enduring\, vibrant culture of a people that fights for freedom!\nCelebrate America’s 250th Birthday! \nOn Sunday\, August 23; 12:00 – 8:00 PM\, the Ukrainian Folk Festival & Summer Concert 2026 will be held at the Ukrainian American Sport Center (www.tryzub.org)\, County Line and Lower State Roads\, Horsham\, PA. \nExciting\, spectacular\, dazzling\, breathtaking\, exhilarating\, spirited\, soulful\, enchanting\, captivating\, and intriguing – modest words which describe but by no means capture the essence of Ukrainian folk art\, music\, song and dance. From the rich color and deep symbolism of the delicate “pysanka” (Ukrainian Easter Egg) to the thunderous\, power\, rhythm and strength of “HOPAK” – the world’s most exciting ethnic dance\, and every brilliant “Kolomiyka” (polka) and soulful folk song in between\, experience the UKRAINIAN FOLK FESTIVAL 2026\, celebrating the 35th anniversary of our ancestral homeland’s independence. Enjoy an outdoor summer stage concert and show (1:30 to 4:30 PM)\, live orchestra music (4:30 – 8:00 PM)\, traditional Ukrainian foods and baked goods\, BBQ pit\, standard picnic fare\, vendors grove\, arts and crafts displays and bazaar\, cool adult and soft refreshments\, Live exhibitors of Ukrainian history and Ukrainian hospitality. \n“A CELEBRATION OF LIBERTY AND UNITY”\nA Resplendent Outdoor Summer Concert (1:30 to 4:30 pm) Marking Ukraine’s Independence\, the Unity of her People\, and their Gallant Twilight Struggle for Freedom\, Prosperity and Dignity\nThe artists (dance troupes\, musicians\, singers and ensembles that have performed in previous years) have created a dynamic and integrated collaborative program. \nFEATURED PERFORMERS\nHROMOVYTSIA Ukrainian Dance Ensemble\nVOLOSHKY Ukrainian Dance Ensemble\nSPIRIT OF THE DANCE Ukrainian Dance Ensemble\nSinger-Songwriter SHANIS (the Ukrainian Voice of Disney’s Elsa in Frozen\nViolinist INNESA Tymochko Dekajlo\nVOX ETHNIKA BAND\nLive Exhibitors of Ukrainian History \nLive Orchestra-Band Dance music – Ukrainian\, traditional\, rock and modern – by VOX ETHNIKA BAND will follow the stage concert and show (4:30 – 8:00 PM). \nAdmission (Tickets at Gate Only! Open to General Public!): $20 ($2 of each paid admission donated to Humanitarian Relief of Victims of War in Ukraine); children < 15 Free; FREE PARKING – some offsite (details on website). Info: info@tryzub.org\, or www.tryzub.org.
URL:https://mainlineparent.com/event/ukrainian-folk-festival-2026/
LOCATION:Ukrainian American Sport Center\, Lower State and County Line Roads\, Horsham\, PA\, 19044\, United States
CATEGORIES:Community Event,For Parents,For The Whole Family,Montgomery County Events
ATTACH;FMTTYPE=image/jpeg:https://mainlineparent.com/wp-content/uploads/2026/04/Ukranian-Folk-Festival-e1775508178689.jpg
END:VEVENT
END:VCALENDAR