BEGIN:VCALENDAR
VERSION:2.0
PRODID:-//Main Line Parent - ECPv6.15.20//NONSGML v1.0//EN
CALSCALE:GREGORIAN
METHOD:PUBLISH
X-WR-CALNAME:Main Line Parent
X-ORIGINAL-URL:https://mainlineparent.com
X-WR-CALDESC:Events for Main Line Parent
REFRESH-INTERVAL;VALUE=DURATION:PT1H
X-Robots-Tag:noindex
X-PUBLISHED-TTL:PT1H
BEGIN:VTIMEZONE
TZID:America/New_York
BEGIN:DAYLIGHT
TZOFFSETFROM:-0500
TZOFFSETTO:-0400
TZNAME:EDT
DTSTART:20250309T070000
END:DAYLIGHT
BEGIN:STANDARD
TZOFFSETFROM:-0400
TZOFFSETTO:-0500
TZNAME:EST
DTSTART:20251102T060000
END:STANDARD
BEGIN:DAYLIGHT
TZOFFSETFROM:-0500
TZOFFSETTO:-0400
TZNAME:EDT
DTSTART:20260308T070000
END:DAYLIGHT
BEGIN:STANDARD
TZOFFSETFROM:-0400
TZOFFSETTO:-0500
TZNAME:EST
DTSTART:20261101T060000
END:STANDARD
BEGIN:DAYLIGHT
TZOFFSETFROM:-0500
TZOFFSETTO:-0400
TZNAME:EDT
DTSTART:20270314T070000
END:DAYLIGHT
BEGIN:STANDARD
TZOFFSETFROM:-0400
TZOFFSETTO:-0500
TZNAME:EST
DTSTART:20271107T060000
END:STANDARD
END:VTIMEZONE
BEGIN:VEVENT
DTSTART;TZID=America/New_York:20260422T183000
DTEND;TZID=America/New_York:20260422T203000
DTSTAMP:20260423T195311
CREATED:20260331T174755Z
LAST-MODIFIED:20260331T174755Z
UID:10077734-1776882600-1776889800@mainlineparent.com
SUMMARY:Recycled Materials Tapestry Weaving
DESCRIPTION:Celebrate Earth Day with a fun new technique! Earth Day Fiber Workshop: Weave with Recycled Materials with fiber artist Elena Gans – Pfister  \nCelebrate Earth Day by turning discarded materials into something beautiful. In this creative\, hands-on workshop\, fiber artist Elena Gans – Pfister will guide participants through the basics of tapestry weaving using a variety of recycled and repurposed materials. \nLearn simple weaving techniques while experimenting with texture\, color\, and pattern. Fabric scraps\, yarn remnants\, and other found fibers become the building blocks for your own small woven tapestry—proof that sustainability and creativity can go hand in hand. \nThis workshop is perfect for beginners and curious makers alike. Whether you’re interested in fiber art\, sustainable craft\, or simply want to try something new\, you’ll leave with new skills and a one-of-a-kind woven piece made from materials given a second life. \n All basic materials will be provided\, but participants are encouraged to bring small recycled textiles\, fabric scraps\, or fibers they’d like to weave into their piece. \nConsider the following:\nPlastic Bags\nT-Shirts\nCasset or VHS tapes\nPicture frames\nCome celebrate Earth Day with creativity\, community\, and a fresh perspective on reuse.
URL:https://mainlineparent.com/event/recycled-materials-tapestry-weaving/
LOCATION:Utility Works\, 32 East Baltimore Avenue\, Lansdowne\, PA\, 19050
CATEGORIES:Class or Workshop,Delaware County Events,For Kids Ages 11 – 14,For Kids Ages 15+,For Kids Ages 8 – 10
ATTACH;FMTTYPE=image/jpeg:https://mainlineparent.com/wp-content/uploads/2026/03/Lansdowne-Recycled-Materials-TapestryWeaving_192866677_image6.jpg
END:VEVENT
BEGIN:VEVENT
DTSTART;TZID=America/New_York:20260423T173000
DTEND;TZID=America/New_York:20260423T192000
DTSTAMP:20260423T195311
CREATED:20260414T142918Z
LAST-MODIFIED:20260414T142918Z
UID:10077785-1776965400-1776972000@mainlineparent.com
SUMMARY:Philadelphia Eagles Brandon Graham Book Signing in Media to Support Children in Foster Care
DESCRIPTION:Philadelphia Eagles legend Brandon Graham will be in Media on April 23rd from 5:30 – 7:30 for a special public book signing featuring his children’s book\, BG’s ABCs: Tackling Football and Life. \nThe event at 117 Gayley Street\, Media\, will raise money for CASA Youth Advocates\, a nonprofit that recruits and supports trained advocates for children who have experienced abuse or neglect and are involved in foster care and the child welfare system. Tickets are $65\, which includes admission for four people\, one copy of BG’s ABCs: Tackling Football and Life\, an autograph from Brandon Graham\, and a donation to CASA’s Delco Gives campaign. \nAdditional books may be purchased for $30 with the original reservation. There will be onsite raffle items from Carl’s Cards\, including an autographed A.J. Brown jersey\, free face painting for kids from Birl Girl Designs and Pinocchio’s will offer a dine-and-donate\, with 20% of the bill\, excluding tax and tip\, donated to CASA on April 23.
URL:https://mainlineparent.com/event/philadelphia-eagles-brandon-graham-book-signing-in-media-to-support-children-in-foster-care/
LOCATION:CASA Youth Advocates Office\, 117 Gayley Street\, Media\, PA\, 19063\, United States
CATEGORIES:Community Event,Delaware County Events,For Kids Ages 1 – 3,For Kids Ages 11 – 14,For Kids Ages 15+,For Kids Ages 4 – 6,For Kids Ages 5-7,For Kids Ages 7 – 10,For Kids Ages 8 – 10,For Parents,For The Whole Family
ATTACH;FMTTYPE=image/jpeg:https://mainlineparent.com/wp-content/uploads/2026/04/brandon-graham-e1776176948375.jpg
END:VEVENT
BEGIN:VEVENT
DTSTART;TZID=America/New_York:20260424T100000
DTEND;TZID=America/New_York:20260424T180000
DTSTAMP:20260423T195311
CREATED:20260422T133653Z
LAST-MODIFIED:20260422T133720Z
UID:10077804-1777024800-1777053600@mainlineparent.com
SUMMARY:Wildflower Weekend
DESCRIPTION:Mt. Cuba’s Wildflower Weekend takes place for three full days\, April 24-26\, 2026. Experience a magnificent display of native spring blooms at the peak of their glory\, enjoy three days of live music\, gardening activities\, outdoor family programming\, and more. A variety of food selections and native plants will be available for purchase\, while supplies last. The event is free with general admission to the gardens and for members.
URL:https://mainlineparent.com/event/wildflower-weekend/2026-04-24/
LOCATION:Mt. Cuba Center\, 3120 Barley Mill Rd.\, Hockessin\, DE\, 19707\, United States
CATEGORIES:Community Event,For Kids Ages 1 – 3,For Kids Ages 11 – 14,For Kids Ages 15+,For Kids Ages 4 – 6,For Kids Ages 5-7,For Kids Ages 7 – 10,For Kids Ages 8 – 10,For Parents,For The Whole Family
ATTACH;FMTTYPE=image/jpeg:https://mainlineparent.com/wp-content/uploads/2026/04/wildflower-cuba-center-e1776864992647.jpg
END:VEVENT
BEGIN:VEVENT
DTSTART;TZID=America/New_York:20260425T100000
DTEND;TZID=America/New_York:20260425T130000
DTSTAMP:20260423T195312
CREATED:20260414T134755Z
LAST-MODIFIED:20260414T134755Z
UID:10077780-1777111200-1777122000@mainlineparent.com
SUMMARY:Festival of Colors
DESCRIPTION:Family-friendly Festival of Colors\nCelebrating 10 years  in Chester County with safe\, natural colors for kids. \nAge below 5yrs – Free\nAge 6 to 10 yrs – $7\nAge 11 and above – $15.
URL:https://mainlineparent.com/event/festival-of-colors/
LOCATION:East Goshen Park\, 1661 Paoli Pike\, West Chester\, PA\, 19380
CATEGORIES:Chester County Events,Community Event,For Kids Ages 1 – 3,For Kids Ages 11 – 14,For Kids Ages 15+,For Kids Ages 4 – 6,For Kids Ages 5-7,For Kids Ages 7 – 10,For Kids Ages 8 – 10,For The Whole Family
ATTACH;FMTTYPE=image/jpeg:https://mainlineparent.com/wp-content/uploads/2026/04/festival-of-colors-e1776174468911.jpg
END:VEVENT
BEGIN:VEVENT
DTSTART;TZID=America/New_York:20260425T100000
DTEND;TZID=America/New_York:20260425T180000
DTSTAMP:20260423T195312
CREATED:20260422T133653Z
LAST-MODIFIED:20260422T133720Z
UID:10077805-1777111200-1777140000@mainlineparent.com
SUMMARY:Wildflower Weekend
DESCRIPTION:Mt. Cuba’s Wildflower Weekend takes place for three full days\, April 24-26\, 2026. Experience a magnificent display of native spring blooms at the peak of their glory\, enjoy three days of live music\, gardening activities\, outdoor family programming\, and more. A variety of food selections and native plants will be available for purchase\, while supplies last. The event is free with general admission to the gardens and for members.
URL:https://mainlineparent.com/event/wildflower-weekend/2026-04-25/
LOCATION:Mt. Cuba Center\, 3120 Barley Mill Rd.\, Hockessin\, DE\, 19707\, United States
CATEGORIES:Community Event,For Kids Ages 1 – 3,For Kids Ages 11 – 14,For Kids Ages 15+,For Kids Ages 4 – 6,For Kids Ages 5-7,For Kids Ages 7 – 10,For Kids Ages 8 – 10,For Parents,For The Whole Family
ATTACH;FMTTYPE=image/jpeg:https://mainlineparent.com/wp-content/uploads/2026/04/wildflower-cuba-center-e1776864992647.jpg
END:VEVENT
BEGIN:VEVENT
DTSTART;TZID=America/New_York:20260425T103000
DTEND;TZID=America/New_York:20260425T120000
DTSTAMP:20260423T195312
CREATED:20260322T232454Z
LAST-MODIFIED:20260322T232522Z
UID:10077698-1777113000-1777118400@mainlineparent.com
SUMMARY:Small Wonders: A Fairy House & Miniature Making Workshop
DESCRIPTION: Fairy House Workshop & Woodland Walk  \nStep into a world of imagination\, creativity\, and a little bit of magic! In this hands-on workshop\, participants will design and build their own miniature fairy furniture\, doors\, and tiny details—then bring their creations to life outdoors. \nWe’ll begin in the makerspace\, where you’ll have the opportunity to use tools like the laser cutter and other machines to create detailed\, custom pieces for your fairy builds. You’ll learn how to safely and creatively translate simple designs into tiny furniture\, doors\, and decorative elements using a mix of digital fabrication and hand-building techniques. \nOnce your pieces are complete\, we’ll head out together on a guided walk to a nearby park. There\, we’ll use natural materials like sticks\, leaves\, bark\, and stones to construct whimsical fairy houses nestled into trees and hidden throughout the landscape—combining your crafted elements with the beauty of the outdoors. \nThis workshop blends technology\, craft\, and nature—inviting participants to explore both the makerspace and the environment in a playful\, imaginative way. \n What to expect: \nLearn to use the laser cutter and makerspace tools to create miniature designs\, build fairy furniture\, doors\, and decorative elements\nTake a guided walk to a local park\, and use natural materials to construct fairy houses in the landscape \n All materials provided\, no prior experience needed. \nPerfect for families\, creatives\, and anyone who loves making\, exploring\, and a touch of magic. Come create something small—and leave a little wonder behind  \nAges:\nRecommended for ages 10+\, with anyone age 10-13 welcome with an accompanying adult to supervise 1-on-1 for the duration of the class. \nPricing:\nEveryone is welcome at this workshop! You do not have to have a MakerSpace membership or any affiliation with Utility Works. These tickets are $20 \nThis Workshop is free to MakerSpace Equipment Members. If you are interested in a membership check out our membership page here. \nParking:\nStreet Parking is metered.\nThe Highland avenue parking lot behind Dunkin Doughnuts is also available for parking\, if there is not closer street parking. \nFirst Floor Accessibility\nInclusive Design: Our first floor is designed to be inclusive and ensure accessibility for all. \nApproachable Entrance: Our entrance is approachable to all who enter\, providing ease of access for everyone. \nAccessible Restroom: We offer an accessible gender-neutral bathroom for the convenience of all visitors. \nWide Hallways: Our hallway is wide enough to accommodate wheelchair users\, ensuring smooth and easy navigation.
URL:https://mainlineparent.com/event/small-wonders-a-fairy-house-miniature-making-workshop/
LOCATION:Lansdown Economic Development Corp.\, 32 E. Baltimore Ave.\, Lansdown\, PA\, United States
CATEGORIES:Community Event,Delaware County Events,For Kids Ages 11 – 14,For Kids Ages 15+,For Kids Ages 8 – 10,For Parents,For The Whole Family
ATTACH;FMTTYPE=image/jpeg:https://mainlineparent.com/wp-content/uploads/2026/03/SmallWonders-Fairy-House-MiniatureMakingWorkshop_192866677_image_3.jpg
END:VEVENT
BEGIN:VEVENT
DTSTART;TZID=America/New_York:20260425T110000
DTEND;TZID=America/New_York:20260425T150000
DTSTAMP:20260423T195312
CREATED:20260326T143400Z
LAST-MODIFIED:20260326T143400Z
UID:10077702-1777114800-1777129200@mainlineparent.com
SUMMARY:Astronomy Day 2026
DESCRIPTION:Celebrate International Astronomy Day at The Franklin Institute. Spend the day unlocking the mysteries of the universe across four floors of out-of-this-world experiences\, including the two-story Wondrous Space exhibit\, Fels Planetarium\, and the Holt & Miller Observatory. \nFeatured Programming:\nSolar Viewing in Science Park: Safely view the sun with telescopes and custom solar-viewing tents.\nSpace Suit Show: Do you have what it takes to visit space\, or at least dress the part? Learn the ins and outs of a space suit to prepare you for your future travels.\nExplosive Trash Can Rocket Launch Finale: See science performers launch a 40-gallon trash can into the sky using our favorite ingredient\, liquid nitrogen.\nSpecial Guest: Chief Astronomer Derrick Pitts.
URL:https://mainlineparent.com/event/astronomy-day-2026/
LOCATION:The Franklin Institute\, 222 N 20th St\, Philadelphia\, PA\, 19103\, United States
CATEGORIES:For Kids Ages 1 – 3,For Kids Ages 11 – 14,For Kids Ages 15+,For Kids Ages 4 – 6,For Kids Ages 5-7,For Kids Ages 7 – 10,For Kids Ages 8 – 10,For The Whole Family
ATTACH;FMTTYPE=image/jpeg:https://mainlineparent.com/wp-content/uploads/2026/03/Astronomy-Day-TFI-e1774535632109.jpg
END:VEVENT
BEGIN:VEVENT
DTSTART;TZID=America/New_York:20260425T110000
DTEND;TZID=America/New_York:20260425T150000
DTSTAMP:20260423T195312
CREATED:20260423T141522Z
LAST-MODIFIED:20260423T141522Z
UID:10077814-1777114800-1777129200@mainlineparent.com
SUMMARY:Vanguard Community Day
DESCRIPTION:Community Day returns on Saturday\, April 25\, 2026\, from 11am–3pm. Spend the afternoon in a welcoming\, sensory‑friendly environment designed for neurodiverse individuals and families. \nEnjoy activities\, connection\, and a space built for all to enjoy. Free and open to all!
URL:https://mainlineparent.com/event/vanguard-community-day/
LOCATION:The Vanguard School\, 1777 North Valley Road\, Malvern\, PA\, United States
CATEGORIES:Chester County Events,Community Event,For Kids Ages 1 – 3,For Kids Ages 4 – 6,For Kids Ages 5-7,For Kids Ages 7 – 10,For Kids Ages 8 – 10,For The Whole Family,Sensory Friendly
ATTACH;FMTTYPE=image/jpeg:https://mainlineparent.com/wp-content/uploads/2026/04/community-day-vanguard-school.jpg
END:VEVENT
BEGIN:VEVENT
DTSTART;TZID=America/New_York:20260426T100000
DTEND;TZID=America/New_York:20260426T180000
DTSTAMP:20260423T195312
CREATED:20260422T133653Z
LAST-MODIFIED:20260422T133720Z
UID:10077806-1777197600-1777226400@mainlineparent.com
SUMMARY:Wildflower Weekend
DESCRIPTION:Mt. Cuba’s Wildflower Weekend takes place for three full days\, April 24-26\, 2026. Experience a magnificent display of native spring blooms at the peak of their glory\, enjoy three days of live music\, gardening activities\, outdoor family programming\, and more. A variety of food selections and native plants will be available for purchase\, while supplies last. The event is free with general admission to the gardens and for members.
URL:https://mainlineparent.com/event/wildflower-weekend/2026-04-26/
LOCATION:Mt. Cuba Center\, 3120 Barley Mill Rd.\, Hockessin\, DE\, 19707\, United States
CATEGORIES:Community Event,For Kids Ages 1 – 3,For Kids Ages 11 – 14,For Kids Ages 15+,For Kids Ages 4 – 6,For Kids Ages 5-7,For Kids Ages 7 – 10,For Kids Ages 8 – 10,For Parents,For The Whole Family
ATTACH;FMTTYPE=image/jpeg:https://mainlineparent.com/wp-content/uploads/2026/04/wildflower-cuba-center-e1776864992647.jpg
END:VEVENT
END:VCALENDAR