BEGIN:VCALENDAR
VERSION:2.0
PRODID:-//Main Line Parent - ECPv6.15.20//NONSGML v1.0//EN
CALSCALE:GREGORIAN
METHOD:PUBLISH
X-ORIGINAL-URL:https://mainlineparent.com
X-WR-CALDESC:Events for Main Line Parent
REFRESH-INTERVAL;VALUE=DURATION:PT1H
X-Robots-Tag:noindex
X-PUBLISHED-TTL:PT1H
BEGIN:VTIMEZONE
TZID:America/New_York
BEGIN:DAYLIGHT
TZOFFSETFROM:-0500
TZOFFSETTO:-0400
TZNAME:EDT
DTSTART:20250309T070000
END:DAYLIGHT
BEGIN:STANDARD
TZOFFSETFROM:-0400
TZOFFSETTO:-0500
TZNAME:EST
DTSTART:20251102T060000
END:STANDARD
BEGIN:DAYLIGHT
TZOFFSETFROM:-0500
TZOFFSETTO:-0400
TZNAME:EDT
DTSTART:20260308T070000
END:DAYLIGHT
BEGIN:STANDARD
TZOFFSETFROM:-0400
TZOFFSETTO:-0500
TZNAME:EST
DTSTART:20261101T060000
END:STANDARD
BEGIN:DAYLIGHT
TZOFFSETFROM:-0500
TZOFFSETTO:-0400
TZNAME:EDT
DTSTART:20270314T070000
END:DAYLIGHT
BEGIN:STANDARD
TZOFFSETFROM:-0400
TZOFFSETTO:-0500
TZNAME:EST
DTSTART:20271107T060000
END:STANDARD
END:VTIMEZONE
BEGIN:VEVENT
DTSTART;TZID=America/New_York:20260413T093000
DTEND;TZID=America/New_York:20260413T103000
DTSTAMP:20260420T161521
CREATED:20260330T155850Z
LAST-MODIFIED:20260330T155850Z
UID:10077722-1776072600-1776076200@mainlineparent.com
SUMMARY:Trinity Preschool of Berwyn FREE Parent/Toddler Class
DESCRIPTION:Trinity Preschool is extending a special offer to attend one FREE trial Parent-Toddler class during the month of April! Children aged 11-19 months and their parent are invited to join. Advanced registration is required. \nTrinity Preschool’s Parent-Toddler program is designed to introduce your young child to preschool without parent separation. In this program\, your toddler attends a class offered weekly on Mondays or Wednesdays\, where they explore their creativity\, build social skills\, and simply play in a fun\, safe\, and nurturing environment with you by their side. We hope you’ll join us to preview this class with your little one! \nParents interested in this free trial class may select a Monday or Wednesday morning to attend to come and see all this wonderful class has to offer. To attend\, please see the sign up sheet on Trinity’s website for available dates and to sign up to attend. Please also be sure to print and complete the waiver and bring to your selected class. \nThis event is open to the public!\nTimes are Mondays at 9:30 or or 10:45 am or Wednesdays at 9:30 throughout the month of April.
URL:https://mainlineparent.com/event/trinity-preschool-of-berwyn-free-parent-toddler-class/2026-04-13/1/
LOCATION:Trinity School of Berwyn\, 50 Main Avenue\, Berwyn\, PA\, 19312\, United States
CATEGORIES:Community Event,For Kids Ages 1 – 3,For New & Expecting Parents,For Parents,For The Whole Family
ATTACH;FMTTYPE=image/jpeg:https://mainlineparent.com/wp-content/uploads/2026/03/trinity-preschool-berwyn-e1774886303541.jpg
END:VEVENT
BEGIN:VEVENT
DTSTART;TZID=America/New_York:20260413T100000
DTEND;TZID=America/New_York:20260413T224000
DTSTAMP:20260420T161521
CREATED:20260304T201609Z
LAST-MODIFIED:20260304T201818Z
UID:10077594-1776074400-1776120000@mainlineparent.com
SUMMARY:Makin' Music at Villa
DESCRIPTION:Parents and children up to 5 years of age are welcome to join in for this FREE event. Makin’ Music performer\, Miss Jen\, will visit Villa Maria Academy for 45-minute performances of music and fun. Sessions begin at 10:00 AM in the gymnasium. Guests should park in the main lot across from the playground. \nR.S.V.P. here: https://villamaria.org/community-events/
URL:https://mainlineparent.com/event/makin-music-at-villa-2/2026-04-13/
LOCATION:Villa Maria Academy Lower School\, 280 IHM Drive\, Malvern\, PA\, 19355\, United States
CATEGORIES:Chester County Events,Community Event,For Kids Ages 1 – 3,For New & Expecting Parents,Free
ATTACH;FMTTYPE=image/jpeg:https://mainlineparent.com/wp-content/uploads/2026/03/Villa-Maria-Makin-Music-e1772655352981.jpg
END:VEVENT
BEGIN:VEVENT
DTSTART;TZID=America/New_York:20260413T104500
DTEND;TZID=America/New_York:20260413T114500
DTSTAMP:20260420T161521
CREATED:20260330T155850Z
LAST-MODIFIED:20260330T155850Z
UID:10077723-1776077100-1776080700@mainlineparent.com
SUMMARY:Trinity Preschool of Berwyn FREE Parent/Toddler Class
DESCRIPTION:Trinity Preschool is extending a special offer to attend one FREE trial Parent-Toddler class during the month of April! Children aged 11-19 months and their parent are invited to join. Advanced registration is required. \nTrinity Preschool’s Parent-Toddler program is designed to introduce your young child to preschool without parent separation. In this program\, your toddler attends a class offered weekly on Mondays or Wednesdays\, where they explore their creativity\, build social skills\, and simply play in a fun\, safe\, and nurturing environment with you by their side. We hope you’ll join us to preview this class with your little one! \nParents interested in this free trial class may select a Monday or Wednesday morning to attend to come and see all this wonderful class has to offer. To attend\, please see the sign up sheet on Trinity’s website for available dates and to sign up to attend. Please also be sure to print and complete the waiver and bring to your selected class. \nThis event is open to the public!\nTimes are Mondays at 9:30 or or 10:45 am or Wednesdays at 9:30 throughout the month of April.
URL:https://mainlineparent.com/event/trinity-preschool-of-berwyn-free-parent-toddler-class/2026-04-13/2/
LOCATION:Trinity School of Berwyn\, 50 Main Avenue\, Berwyn\, PA\, 19312\, United States
CATEGORIES:Community Event,For Kids Ages 1 – 3,For New & Expecting Parents,For Parents,For The Whole Family
ATTACH;FMTTYPE=image/jpeg:https://mainlineparent.com/wp-content/uploads/2026/03/trinity-preschool-berwyn-e1774886303541.jpg
END:VEVENT
BEGIN:VEVENT
DTSTART;TZID=America/New_York:20260413T110000
DTEND;TZID=America/New_York:20260413T120000
DTSTAMP:20260420T161521
CREATED:20260318T151205Z
LAST-MODIFIED:20260318T152056Z
UID:10077683-1776078000-1776081600@mainlineparent.com
SUMMARY:Babble & Books at Harmony Kids Playhouse
DESCRIPTION:Join HKP for a story time and play session designed to boost your child’s early language skills! Led by Ms. Tina\, a Speech and Language Pathologist (SLP) from The Speech Language Center\, Babble & Books combines 30 minutes of interactive story time with 30 minutes of open play. \nPerfect for little ones and their grownups looking to turn reading into a language-rich experience! \n$15/child. Book in advance.
URL:https://mainlineparent.com/event/babble-books-at-harmony-kids-playhouse/2026-04-13/
LOCATION:Harmony Kids Playhouse\, 7 West Baltimore Ave.\, Media\, PA\, 19063
CATEGORIES:Delaware County Events,For Kids Ages 1 – 3,For New & Expecting Parents,Kid Event,Storytime
ATTACH;FMTTYPE=image/png:https://mainlineparent.com/wp-content/uploads/2025/10/Harmony-Kids-Playhouse-Collab-2-e1761942290351.png
END:VEVENT
BEGIN:VEVENT
DTSTART;TZID=America/New_York:20260415T093000
DTEND;TZID=America/New_York:20260415T103000
DTSTAMP:20260420T161521
CREATED:20260330T155850Z
LAST-MODIFIED:20260330T155850Z
UID:10077724-1776245400-1776249000@mainlineparent.com
SUMMARY:Trinity Preschool of Berwyn FREE Parent/Toddler Class
DESCRIPTION:Trinity Preschool is extending a special offer to attend one FREE trial Parent-Toddler class during the month of April! Children aged 11-19 months and their parent are invited to join. Advanced registration is required. \nTrinity Preschool’s Parent-Toddler program is designed to introduce your young child to preschool without parent separation. In this program\, your toddler attends a class offered weekly on Mondays or Wednesdays\, where they explore their creativity\, build social skills\, and simply play in a fun\, safe\, and nurturing environment with you by their side. We hope you’ll join us to preview this class with your little one! \nParents interested in this free trial class may select a Monday or Wednesday morning to attend to come and see all this wonderful class has to offer. To attend\, please see the sign up sheet on Trinity’s website for available dates and to sign up to attend. Please also be sure to print and complete the waiver and bring to your selected class. \nThis event is open to the public!\nTimes are Mondays at 9:30 or or 10:45 am or Wednesdays at 9:30 throughout the month of April.
URL:https://mainlineparent.com/event/trinity-preschool-of-berwyn-free-parent-toddler-class/2026-04-15/
LOCATION:Trinity School of Berwyn\, 50 Main Avenue\, Berwyn\, PA\, 19312\, United States
CATEGORIES:Community Event,For Kids Ages 1 – 3,For New & Expecting Parents,For Parents,For The Whole Family
ATTACH;FMTTYPE=image/jpeg:https://mainlineparent.com/wp-content/uploads/2026/03/trinity-preschool-berwyn-e1774886303541.jpg
END:VEVENT
BEGIN:VEVENT
DTSTART;TZID=America/New_York:20260417T150000
DTEND;TZID=America/New_York:20260417T163000
DTSTAMP:20260420T161521
CREATED:20260413T161304Z
LAST-MODIFIED:20260413T161304Z
UID:10077773-1776438000-1776443400@mainlineparent.com
SUMMARY:Superhero Party at HKP
DESCRIPTION:Step into HKP as it transforms into a superhero headquarters for an unforgettable celebration with Captain America and Ghost-Spider. Each ticket includes a meet and greet with both heroes\, interactive music and movement\, a themed superhero craft\, photo opportunities\, snacks and refreshments for children & adults\, and open play. \n\n\n$40\nLimited availability.
URL:https://mainlineparent.com/event/superhero-party-at-hkp/2026-04-17/1/
LOCATION:Harmony Kids Playhouse\, 7 West Baltimore Ave.\, Media\, PA\, 19063
CATEGORIES:Delaware County Events,For Kids Ages 1 – 3,For Kids Ages 4 – 6,Kid Event
ATTACH;FMTTYPE=image/png:https://mainlineparent.com/wp-content/uploads/2024/10/HKP-e1770222934649.png
END:VEVENT
BEGIN:VEVENT
DTSTART;TZID=America/New_York:20260417T171500
DTEND;TZID=America/New_York:20260417T181500
DTSTAMP:20260420T161521
CREATED:20260413T161304Z
LAST-MODIFIED:20260413T161304Z
UID:10077774-1776446100-1776449700@mainlineparent.com
SUMMARY:Superhero Party at HKP
DESCRIPTION:Step into HKP as it transforms into a superhero headquarters for an unforgettable celebration with Captain America and Ghost-Spider. Each ticket includes a meet and greet with both heroes\, interactive music and movement\, a themed superhero craft\, photo opportunities\, snacks and refreshments for children & adults\, and open play. \n\n\n$40\nLimited availability.
URL:https://mainlineparent.com/event/superhero-party-at-hkp/2026-04-17/2/
LOCATION:Harmony Kids Playhouse\, 7 West Baltimore Ave.\, Media\, PA\, 19063
CATEGORIES:Delaware County Events,For Kids Ages 1 – 3,For Kids Ages 4 – 6,Kid Event
ATTACH;FMTTYPE=image/png:https://mainlineparent.com/wp-content/uploads/2024/10/HKP-e1770222934649.png
END:VEVENT
BEGIN:VEVENT
DTSTART;TZID=America/New_York:20260418T100000
DTEND;TZID=America/New_York:20260418T130000
DTSTAMP:20260420T161521
CREATED:20260416T143026Z
LAST-MODIFIED:20260416T143157Z
UID:10077786-1776506400-1776517200@mainlineparent.com
SUMMARY:Earth Day Festival & Healthy Kids Day
DESCRIPTION:YMCA of Greater Brandywine has partnered again with Senator Carolyn Comitta for Chester County’s celebration of sustainability\, conservation\, and environmental education at the Chester County Earth Day Festival and Healthy Kids Day! \nSaturday\, April 18\, 10 am – 1 pm at the Upper Main Line YMCA
URL:https://mainlineparent.com/event/earth-day-festival-healthy-kids-day/
LOCATION:Upper Main Line YMCA\, 1416 Berwyn Paoli Road\, Berwyn\, PA\, 19312\, United States
CATEGORIES:Community Event,Family Event,For Kids Ages 1 – 3,For Kids Ages 4 – 6,For Kids Ages 7 – 10,For Parents,For The Whole Family
ATTACH;FMTTYPE=image/jpeg:https://mainlineparent.com/wp-content/uploads/2026/04/Earth-Day-YMCA-Healthy-Kids-e1776349908278.jpg
END:VEVENT
BEGIN:VEVENT
DTSTART;TZID=America/New_York:20260419T140000
DTEND;TZID=America/New_York:20260419T160000
DTSTAMP:20260420T161521
CREATED:20260330T162956Z
LAST-MODIFIED:20260330T162956Z
UID:10077731-1776607200-1776614400@mainlineparent.com
SUMMARY:Camp Kef Open House
DESCRIPTION:Join Camp Director Katie and learn all about Camp Kef! Take a tour of our campus and see just how special Camp Kef is. This is a free event.
URL:https://mainlineparent.com/event/camp-kef-open-house/
LOCATION:Kaiserman Jewish Community Center\, 45 Haverford Road\, Wynnewood\, PA\, 19096
CATEGORIES:Community Event,For Kids Ages 1 – 3,For Kids Ages 11 – 14,For Kids Ages 4 – 6,For Kids Ages 7 – 10,For Kids Ages 8 – 10,For Parents,For The Whole Family,Free,Montgomery County Events
ATTACH;FMTTYPE=image/jpeg:https://mainlineparent.com/wp-content/uploads/2026/03/camp-open-house-jcc.jpg
END:VEVENT
END:VCALENDAR