BEGIN:VCALENDAR
VERSION:2.0
PRODID:-//Main Line Parent - ECPv6.15.20//NONSGML v1.0//EN
CALSCALE:GREGORIAN
METHOD:PUBLISH
X-WR-CALNAME:Main Line Parent
X-ORIGINAL-URL:https://mainlineparent.com
X-WR-CALDESC:Events for Main Line Parent
REFRESH-INTERVAL;VALUE=DURATION:PT1H
X-Robots-Tag:noindex
X-PUBLISHED-TTL:PT1H
BEGIN:VTIMEZONE
TZID:America/New_York
BEGIN:DAYLIGHT
TZOFFSETFROM:-0500
TZOFFSETTO:-0400
TZNAME:EDT
DTSTART:20250309T070000
END:DAYLIGHT
BEGIN:STANDARD
TZOFFSETFROM:-0400
TZOFFSETTO:-0500
TZNAME:EST
DTSTART:20251102T060000
END:STANDARD
BEGIN:DAYLIGHT
TZOFFSETFROM:-0500
TZOFFSETTO:-0400
TZNAME:EDT
DTSTART:20260308T070000
END:DAYLIGHT
BEGIN:STANDARD
TZOFFSETFROM:-0400
TZOFFSETTO:-0500
TZNAME:EST
DTSTART:20261101T060000
END:STANDARD
BEGIN:DAYLIGHT
TZOFFSETFROM:-0500
TZOFFSETTO:-0400
TZNAME:EDT
DTSTART:20270314T070000
END:DAYLIGHT
BEGIN:STANDARD
TZOFFSETFROM:-0400
TZOFFSETTO:-0500
TZNAME:EST
DTSTART:20271107T060000
END:STANDARD
END:VTIMEZONE
BEGIN:VEVENT
DTSTART;TZID=America/New_York:20260422T093000
DTEND;TZID=America/New_York:20260422T103000
DTSTAMP:20260422T023725
CREATED:20260330T155850Z
LAST-MODIFIED:20260330T155850Z
UID:10077727-1776850200-1776853800@mainlineparent.com
SUMMARY:Trinity Preschool of Berwyn FREE Parent/Toddler Class
DESCRIPTION:Trinity Preschool is extending a special offer to attend one FREE trial Parent-Toddler class during the month of April! Children aged 11-19 months and their parent are invited to join. Advanced registration is required. \nTrinity Preschool’s Parent-Toddler program is designed to introduce your young child to preschool without parent separation. In this program\, your toddler attends a class offered weekly on Mondays or Wednesdays\, where they explore their creativity\, build social skills\, and simply play in a fun\, safe\, and nurturing environment with you by their side. We hope you’ll join us to preview this class with your little one! \nParents interested in this free trial class may select a Monday or Wednesday morning to attend to come and see all this wonderful class has to offer. To attend\, please see the sign up sheet on Trinity’s website for available dates and to sign up to attend. Please also be sure to print and complete the waiver and bring to your selected class. \nThis event is open to the public!\nTimes are Mondays at 9:30 or or 10:45 am or Wednesdays at 9:30 throughout the month of April.
URL:https://mainlineparent.com/event/trinity-preschool-of-berwyn-free-parent-toddler-class/2026-04-22/
LOCATION:Trinity School of Berwyn\, 50 Main Avenue\, Berwyn\, PA\, 19312\, United States
CATEGORIES:Community Event,For Kids Ages 1 – 3,For New & Expecting Parents,For Parents,For The Whole Family
ATTACH;FMTTYPE=image/jpeg:https://mainlineparent.com/wp-content/uploads/2026/03/trinity-preschool-berwyn-e1774886303541.jpg
END:VEVENT
BEGIN:VEVENT
DTSTART;TZID=America/New_York:20260422T170000
DTEND;TZID=America/New_York:20260422T173000
DTSTAMP:20260422T023725
CREATED:20260410T181626Z
LAST-MODIFIED:20260410T181626Z
UID:10077765-1776877200-1776879000@mainlineparent.com
SUMMARY:Story Walk Grand Opening
DESCRIPTION:Come to Strafford Park adjacent to the library to celebrate the Grand Opening of Tredyffrin Public Library’s Story Walk! A Story Walk is a series of permanent\, weather-protected stands that hold large storybook pages along a path. Walk\, bike\, or scoot along and read the story! Stories will change seasonally. Come celebrate our first story!
URL:https://mainlineparent.com/event/story-walk-grand-opening/
LOCATION:DE
CATEGORIES:At the Library,Chester County Events,Community Event,For Kids Ages 1 – 3,For Kids Ages 4 – 6,For Kids Ages 5-7,For The Whole Family
ATTACH;FMTTYPE=image/jpeg:https://mainlineparent.com/wp-content/uploads/2026/04/storywalk-grand-opening.jpg
END:VEVENT
BEGIN:VEVENT
DTSTART;TZID=America/New_York:20260422T173000
DTEND;TZID=America/New_York:20260422T183000
DTSTAMP:20260422T023725
CREATED:20260330T164345Z
LAST-MODIFIED:20260330T164736Z
UID:10077733-1776879000-1776882600@mainlineparent.com
SUMMARY:Earth Day Yoga for Little Sprouts
DESCRIPTION:Celebrate our planet through play! This Earth Day-themed yoga adventure is perfect for ages 3-6\, focusing on nature inspired poses\, mindful storytelling\, and a hands on craft. Kids will stretch like trees and bloom like flowers as they learn to love our home\, the Earth. We do ask that caregivers stay with their children for this class.
URL:https://mainlineparent.com/event/earth-day-yoga-for-little-sprouts/
LOCATION:The Willows Mansion\, 490 Darby Paoli Road\, Villanova\, PA\, 19085
CATEGORIES:Community Event,For Kids Ages 1 – 3,For Kids Ages 4 – 6,For The Whole Family,Free
ATTACH;FMTTYPE=image/jpeg:https://mainlineparent.com/wp-content/uploads/2026/03/Earth-Day-Yoga-Willows-Mansion-e1774888986494.jpg
END:VEVENT
BEGIN:VEVENT
DTSTART;TZID=America/New_York:20260422T183000
DTEND;TZID=America/New_York:20260422T203000
DTSTAMP:20260422T023725
CREATED:20260331T174755Z
LAST-MODIFIED:20260331T174755Z
UID:10077734-1776882600-1776889800@mainlineparent.com
SUMMARY:Recycled Materials Tapestry Weaving
DESCRIPTION:Celebrate Earth Day with a fun new technique! Earth Day Fiber Workshop: Weave with Recycled Materials with fiber artist Elena Gans – Pfister  \nCelebrate Earth Day by turning discarded materials into something beautiful. In this creative\, hands-on workshop\, fiber artist Elena Gans – Pfister will guide participants through the basics of tapestry weaving using a variety of recycled and repurposed materials. \nLearn simple weaving techniques while experimenting with texture\, color\, and pattern. Fabric scraps\, yarn remnants\, and other found fibers become the building blocks for your own small woven tapestry—proof that sustainability and creativity can go hand in hand. \nThis workshop is perfect for beginners and curious makers alike. Whether you’re interested in fiber art\, sustainable craft\, or simply want to try something new\, you’ll leave with new skills and a one-of-a-kind woven piece made from materials given a second life. \n All basic materials will be provided\, but participants are encouraged to bring small recycled textiles\, fabric scraps\, or fibers they’d like to weave into their piece. \nConsider the following:\nPlastic Bags\nT-Shirts\nCasset or VHS tapes\nPicture frames\nCome celebrate Earth Day with creativity\, community\, and a fresh perspective on reuse.
URL:https://mainlineparent.com/event/recycled-materials-tapestry-weaving/
LOCATION:Utility Works\, 32 East Baltimore Avenue\, Lansdowne\, PA\, 19050
CATEGORIES:Class or Workshop,Delaware County Events,For Kids Ages 11 – 14,For Kids Ages 15+,For Kids Ages 8 – 10
ATTACH;FMTTYPE=image/jpeg:https://mainlineparent.com/wp-content/uploads/2026/03/Lansdowne-Recycled-Materials-TapestryWeaving_192866677_image6.jpg
END:VEVENT
END:VCALENDAR