BEGIN:VCALENDAR
VERSION:2.0
PRODID:-//Main Line Parent - ECPv6.15.20//NONSGML v1.0//EN
CALSCALE:GREGORIAN
METHOD:PUBLISH
X-WR-CALNAME:Main Line Parent
X-ORIGINAL-URL:https://mainlineparent.com
X-WR-CALDESC:Events for Main Line Parent
REFRESH-INTERVAL;VALUE=DURATION:PT1H
X-Robots-Tag:noindex
X-PUBLISHED-TTL:PT1H
BEGIN:VTIMEZONE
TZID:America/New_York
BEGIN:DAYLIGHT
TZOFFSETFROM:-0500
TZOFFSETTO:-0400
TZNAME:EDT
DTSTART:20250309T070000
END:DAYLIGHT
BEGIN:STANDARD
TZOFFSETFROM:-0400
TZOFFSETTO:-0500
TZNAME:EST
DTSTART:20251102T060000
END:STANDARD
BEGIN:DAYLIGHT
TZOFFSETFROM:-0500
TZOFFSETTO:-0400
TZNAME:EDT
DTSTART:20260308T070000
END:DAYLIGHT
BEGIN:STANDARD
TZOFFSETFROM:-0400
TZOFFSETTO:-0500
TZNAME:EST
DTSTART:20261101T060000
END:STANDARD
BEGIN:DAYLIGHT
TZOFFSETFROM:-0500
TZOFFSETTO:-0400
TZNAME:EDT
DTSTART:20270314T070000
END:DAYLIGHT
BEGIN:STANDARD
TZOFFSETFROM:-0400
TZOFFSETTO:-0500
TZNAME:EST
DTSTART:20271107T060000
END:STANDARD
END:VTIMEZONE
BEGIN:VEVENT
DTSTART;TZID=America/New_York:20260417T101500
DTEND;TZID=America/New_York:20260417T110000
DTSTAMP:20260423T160930
CREATED:20260220T194457Z
LAST-MODIFIED:20260220T194457Z
UID:10077062-1776420900-1776423600@mainlineparent.com
SUMMARY:PlayIn Time Children's Music Circle at Stoneleigh
DESCRIPTION:Join PlayIn Time Productions for a weekly\, interactive musical program geared toward children up to age five and their parents or caregivers. Instructor Miss Virginia will guide you and your child through warming up your bodies with movement\, practicing listening skills using activities like freeze dances\, and jamming to classic and new tunes. PlayIn Time’s Music Circles build musical connection and community through shared fun. Get ready to dance\, jam\, and learn. \nThings to know: \n\nClasses will run on Friday mornings from 10:15 – 11:00am.\nJoin for the whole series or just for one or two sessions. Register here.\nIf you have them\, you are welcome to bring your own shakers\, sticks\, or other percussive instruments.\nClasses will be held outside on the Great Lawn so bring a blanket or lawn pad to sit on.\n\nPlease note\, while the program is geared toward younger ages\, siblings ages 6 and older are welcome and can attend free of charge.
URL:https://mainlineparent.com/event/playin-time-childrens-music-circle-at-stoneleigh/2026-04-17/
LOCATION:Stoneleigh: A Natural Garden\, 1829 East County Line Road\, Villanova\, PA\, 19085\, United States
CATEGORIES:Class or Workshop,Montgomery County Events,Toddler Event
ATTACH;FMTTYPE=image/jpeg:https://mainlineparent.com/wp-content/uploads/2026/02/PXL_20250418_143137916-2-scaled-e1771616671812.jpg
GEO:40.0424337;-75.3399653
X-APPLE-STRUCTURED-LOCATION;VALUE=URI;X-ADDRESS=Stoneleigh: A Natural Garden 1829 East County Line Road Villanova PA 19085 United States;X-APPLE-RADIUS=500;X-TITLE=1829 East County Line Road:geo:-75.3399653,40.0424337
END:VEVENT
BEGIN:VEVENT
DTSTART;TZID=America/New_York:20260417T150000
DTEND;TZID=America/New_York:20260417T163000
DTSTAMP:20260423T160930
CREATED:20260413T161304Z
LAST-MODIFIED:20260413T161304Z
UID:10077773-1776438000-1776443400@mainlineparent.com
SUMMARY:Superhero Party at HKP
DESCRIPTION:Step into HKP as it transforms into a superhero headquarters for an unforgettable celebration with Captain America and Ghost-Spider. Each ticket includes a meet and greet with both heroes\, interactive music and movement\, a themed superhero craft\, photo opportunities\, snacks and refreshments for children & adults\, and open play. \n\n\n$40\nLimited availability.
URL:https://mainlineparent.com/event/superhero-party-at-hkp/2026-04-17/1/
LOCATION:Harmony Kids Playhouse\, 7 West Baltimore Ave.\, Media\, PA\, 19063
CATEGORIES:Delaware County Events,For Kids Ages 1 – 3,For Kids Ages 4 – 6,Kid Event
ATTACH;FMTTYPE=image/png:https://mainlineparent.com/wp-content/uploads/2024/10/HKP-e1770222934649.png
END:VEVENT
BEGIN:VEVENT
DTSTART;TZID=America/New_York:20260417T171500
DTEND;TZID=America/New_York:20260417T181500
DTSTAMP:20260423T160930
CREATED:20260413T161304Z
LAST-MODIFIED:20260413T161304Z
UID:10077774-1776446100-1776449700@mainlineparent.com
SUMMARY:Superhero Party at HKP
DESCRIPTION:Step into HKP as it transforms into a superhero headquarters for an unforgettable celebration with Captain America and Ghost-Spider. Each ticket includes a meet and greet with both heroes\, interactive music and movement\, a themed superhero craft\, photo opportunities\, snacks and refreshments for children & adults\, and open play. \n\n\n$40\nLimited availability.
URL:https://mainlineparent.com/event/superhero-party-at-hkp/2026-04-17/2/
LOCATION:Harmony Kids Playhouse\, 7 West Baltimore Ave.\, Media\, PA\, 19063
CATEGORIES:Delaware County Events,For Kids Ages 1 – 3,For Kids Ages 4 – 6,Kid Event
ATTACH;FMTTYPE=image/png:https://mainlineparent.com/wp-content/uploads/2024/10/HKP-e1770222934649.png
END:VEVENT
BEGIN:VEVENT
DTSTART;TZID=America/New_York:20260417T200000
DTEND;TZID=America/New_York:20260417T220000
DTSTAMP:20260423T160930
CREATED:20260328T212557Z
LAST-MODIFIED:20260328T212649Z
UID:10077708-1776456000-1776463200@mainlineparent.com
SUMMARY:Urinetown
DESCRIPTION:The Villanova Theatre presents Urinetown! \nThis hilarious and subversive musical depicts a drought stricken dystopian society where private toilets are outlawed and there is a fee to pee. When a custodian of Public Facility #9 decides he’s had enough of the mega-corporation\, Urine Good Company\, he leads his community in a revolution to free citizens from the financial burden of paying to pee. \n  \nThis three-time Tony Award-winning musical saw success both on and off-Broadway in the early 2000s and was recently nominated for a Drama League Award for Outstanding Revival of a Musical in 2025. Urinetown remains a beloved political satire that delivers a perfect stream of irreverent humor aimed at capitalism\, social justice\, environmental collapse\, and musical theater itself.
URL:https://mainlineparent.com/event/urinetown/2026-04-17/
LOCATION:Mullen Center for the Performing Arts\, 800 E. Lancaster Avenue\, Villanova\, PA\, 19085\, United States
CATEGORIES:For Kids Ages 15+,For The Whole Family,Montgomery County Events,Musical Performance
ATTACH;FMTTYPE=image/jpeg:https://mainlineparent.com/wp-content/uploads/2026/03/Urinetown-Villanova-e1774733128443.jpg
END:VEVENT
END:VCALENDAR