BEGIN:VCALENDAR
VERSION:2.0
PRODID:-//Main Line Parent - ECPv6.15.20//NONSGML v1.0//EN
CALSCALE:GREGORIAN
METHOD:PUBLISH
X-WR-CALNAME:Main Line Parent
X-ORIGINAL-URL:https://mainlineparent.com
X-WR-CALDESC:Events for Main Line Parent
REFRESH-INTERVAL;VALUE=DURATION:PT1H
X-Robots-Tag:noindex
X-PUBLISHED-TTL:PT1H
BEGIN:VTIMEZONE
TZID:America/New_York
BEGIN:DAYLIGHT
TZOFFSETFROM:-0500
TZOFFSETTO:-0400
TZNAME:EDT
DTSTART:20240310T070000
END:DAYLIGHT
BEGIN:STANDARD
TZOFFSETFROM:-0400
TZOFFSETTO:-0500
TZNAME:EST
DTSTART:20241103T060000
END:STANDARD
BEGIN:DAYLIGHT
TZOFFSETFROM:-0500
TZOFFSETTO:-0400
TZNAME:EDT
DTSTART:20250309T070000
END:DAYLIGHT
BEGIN:STANDARD
TZOFFSETFROM:-0400
TZOFFSETTO:-0500
TZNAME:EST
DTSTART:20251102T060000
END:STANDARD
BEGIN:DAYLIGHT
TZOFFSETFROM:-0500
TZOFFSETTO:-0400
TZNAME:EDT
DTSTART:20260308T070000
END:DAYLIGHT
BEGIN:STANDARD
TZOFFSETFROM:-0400
TZOFFSETTO:-0500
TZNAME:EST
DTSTART:20261101T060000
END:STANDARD
BEGIN:DAYLIGHT
TZOFFSETFROM:-0500
TZOFFSETTO:-0400
TZNAME:EDT
DTSTART:20270314T070000
END:DAYLIGHT
BEGIN:STANDARD
TZOFFSETFROM:-0400
TZOFFSETTO:-0500
TZNAME:EST
DTSTART:20271107T060000
END:STANDARD
END:VTIMEZONE
BEGIN:VEVENT
DTSTART;TZID=America/New_York:20251128T120000
DTEND;TZID=America/New_York:20260301T170000
DTSTAMP:20260424T090433
CREATED:20251116T192503Z
LAST-MODIFIED:20251116T192503Z
UID:10070388-1764331200-1772384400@mainlineparent.com
SUMMARY:Independence Blue Cross RiverRink Winterfest
DESCRIPTION:For more than 32 seasons\, Independence Blue Cross RiverRink Winterfest has been Philadelphia’s favorite wintertime tradition on the Delaware River Waterfront. It invites visitors to indulge in flights of fancy under thousands of sparkling lights in a wonderland with spectacular views of the Delaware River.
URL:https://mainlineparent.com/event/independence-blue-cross-riverrink-winterfest/
LOCATION:Blue Cross RiverRink\, 101 S Columbus Blvd\, Philadelphia\, PA\, 19106\, United States
ATTACH;FMTTYPE=image/jpeg:https://mainlineparent.com/wp-content/uploads/2025/11/Blue-cross-riverrink-winterfest-rink-mstanley-for-drwc-1200x900px.jpg
END:VEVENT
BEGIN:VEVENT
DTSTART;VALUE=DATE:20260212
DTEND;VALUE=DATE:20260213
DTSTAMP:20260424T090433
CREATED:20260121T120051Z
LAST-MODIFIED:20260121T120051Z
UID:10075270-1770854400-1770940799@mainlineparent.com
SUMMARY:Lunar New Year Scavenger Hunt and Craft
DESCRIPTION:Decorate a traditional red envelope to celebrate Lunar New Year\, then learn about Chinese Zodiac folklore by going on an animal scavenger hunt around the children’s area and earn a special treat! \nVisit the children’s desk anytime between February 2-17th to participate. \nPlease Note: The Library will be closed Wednesday\, February 4 and Monday\, February 16.
URL:https://mainlineparent.com/event/lunar-new-year-scavenger-hunt-and-craft/2026-02-12/
LOCATION:Radnor Memorial Library\, 114 West Wayne Avenue\, Wayne\, PA\, 19087
CATEGORIES:At the Library,Delaware County Events,Lunar New Year
ATTACH;FMTTYPE=image/png:https://mainlineparent.com/wp-content/uploads/2026/01/lunar-scavenger-radnor-e1768996840196.png
END:VEVENT
BEGIN:VEVENT
DTSTART;TZID=America/New_York:20260212T110000
DTEND;TZID=America/New_York:20260212T120000
DTSTAMP:20260424T090433
CREATED:20260203T005240Z
LAST-MODIFIED:20260203T005240Z
UID:10076885-1770894000-1770897600@mainlineparent.com
SUMMARY:Newborn/Postpartum Mom's Support Group
DESCRIPTION:“Having a newborn is life-changing. Having support is paramount.” \nPhiladelphia Couples Therapy knows how transformative yet harrowing having a new baby can be. The first few months to the first few years of a child’s life has the potential to be incredible but also traumatizing. Support groups are one of the best ways to get through these times feeling calmer\, supported\, safer\, validated\, and most importantly\, not alone. \nInterested moms should use this form and will be set up with a brief complimentary consultation with the group leader\, Dr. Rebecca Glass\, to make sure it’s a good fit for you. The group meets virtually on Thursdays at 11 am. \nYou don’t have to suffer through this\, and you don’t have to do it alone. Reach out today.
URL:https://mainlineparent.com/event/newborn-postpartum-moms-support-group/2026-02-12/
LOCATION:Virtual Event
CATEGORIES:Parent Event
ATTACH;FMTTYPE=image/jpeg:https://mainlineparent.com/wp-content/uploads/2026/01/Newborn-Moms-Group-3-e1770079951246.jpg
END:VEVENT
BEGIN:VEVENT
DTSTART;TZID=America/New_York:20260212T163000
DTEND;TZID=America/New_York:20260212T180000
DTSTAMP:20260424T090434
CREATED:20260118T221540Z
LAST-MODIFIED:20260118T221540Z
UID:10075239-1770913800-1770919200@mainlineparent.com
SUMMARY:Teen & Tween Event - Black History Month Charles McGee Art Two-Day Program
DESCRIPTION:Have some fun with crazy lines\, and crazy colors as we honor artist Charles McGee for Black History month. \nMake some really cool designs and create a 3-D picture!  This is a 2 day project.  Please sign up for both days – it’s Tuesday and Thursday! Come and get messy! \nRegistration required.
URL:https://mainlineparent.com/event/teen-tween-event-black-history-month-charles-mcgee-art-two-day-program/2026-02-12/
LOCATION:West Chester Library\, 415 N. Church St.\, West Chester\, PA
CATEGORIES:At the Library,Black History Month,Chester County Events
ATTACH;FMTTYPE=image/png:https://mainlineparent.com/wp-content/uploads/2026/01/McGee-BHM.png
END:VEVENT
BEGIN:VEVENT
DTSTART;TZID=America/New_York:20260212T180000
DTEND;TZID=America/New_York:20260212T190000
DTSTAMP:20260424T090434
CREATED:20260127T154135Z
LAST-MODIFIED:20260127T154135Z
UID:10075832-1770919200-1770922800@mainlineparent.com
SUMMARY:Teen STEAM: Valentine's Day Card In-Person
DESCRIPTION:Teens\, make a Valentine’s Day card using Easttown Library’s Cricut cutting machine! \nHands-on STEAM fun for teens! Explore science\, tech\, engineering\, and math through creative projects\, experiments\, and challenges! \nRegistration for this program is required (and opens 1/29). When registering\, please only register the children that will be attending (no need to register caregivers! \nAge: For ages 12-18
URL:https://mainlineparent.com/event/teen-steam-valentines-day-card-in-person/
LOCATION:Easttown Library\, 720 First Avenue\, Berwyn\, PA\, 19312\, United States
CATEGORIES:At the Library,Teen Event,Valentine’s Day
ATTACH;FMTTYPE=image/png:https://mainlineparent.com/wp-content/uploads/2026/01/Teen-Valentines-easttown.png
END:VEVENT
BEGIN:VEVENT
DTSTART;TZID=America/New_York:20260212T190000
DTEND;TZID=America/New_York:20260212T190000
DTSTAMP:20260424T090434
CREATED:20260129T185718Z
LAST-MODIFIED:20260129T185718Z
UID:10076116-1770922800-1770922800@mainlineparent.com
SUMMARY:Valentines Day Paint a Vase Party
DESCRIPTION:Get ready to unleash your inner artist at the Valentine’s Day Paint Party at Char & Stave in Ardmore\, where creativity meets fun! Join the fun at this creative evening perfect for date night\, friends’ night out\, or a little self-love! \nWhat to Expect:\nGuided vase painting in a relaxed\, energetic atmosphere;\nCreate a one-of-a-kind piece perfect for flowers or gifting;\nValentine’s Day vibes\, creativity\, and great company. \nSweet Treat Included: Each ticket includes a serving of banana pudding. If you have allergies or dietary restrictions\, please let us know in advance. \nFood & Beverage Policy:\nTicket holders may bring their own food or snacks. Outside drinks are not permitted. All ticket holders must purchase at least one beverage while painting\, per Char & Stave policy. \nTickets can be purchased here.
URL:https://mainlineparent.com/event/valentines-day-paint-a-vase-party/
LOCATION:Char & Stave\, 21 Rittenhouse Place\, Ardmore\, PA
CATEGORIES:Parent Event,Valentine’s Day
ATTACH;FMTTYPE=image/jpeg:https://mainlineparent.com/wp-content/uploads/2026/01/Paint-a-bottle-valentines.jpeg
END:VEVENT
BEGIN:VEVENT
DTSTART;TZID=America/New_York:20260212T190000
DTEND;TZID=America/New_York:20260212T200000
DTSTAMP:20260424T090434
CREATED:20260211T155314Z
LAST-MODIFIED:20260211T155314Z
UID:10076927-1770922800-1770926400@mainlineparent.com
SUMMARY:Author James Ponti @ Children's Book World with New Book "City Spies Europa"
DESCRIPTION:Visit Children’s Book World to celebrate the 7th book in James’ wildly popular and exciting City Spies mystery series. The newest book\, Europa takes readers across Europe on another thrilling adventure with the City Spy leading the way. James will be in conversation with award winning author\, Erin Entrada Kelly. \nAbout James Ponti\nJames Ponti is the New York Times-bestselling author of four middle grade book series: The Sherlock Society following a group of young detectives; City Spies\, about an unlikely squad of five kids from around the world who form an elite MI6 Spy Team; the Edgar Award-winning Framed! series\, about a pair of tweens who solve mysteries in Washington\, DC; and the Dead City trilogy\, about a secret society that polices the undead living beneath Manhattan. His books have appeared on more than fifteen different state award lists\, and he is the founder of a writers group known as the Renegades of Middle Grade. James is also an Emmy-nominated television writer and producer who has worked for many networks including Nickelodeon\, Disney Channel\, PBS\, History\, and Spike TV\, as well as NBC Sports. He lives with his family in Orlando\, Florida.
URL:https://mainlineparent.com/event/author-james-ponti-childrens-book-world-with-new-book-city-spies-europa/
LOCATION:Children’s Book World\, 17 Haverford Station Road\, Haverford\, PA\, 19041
CATEGORIES:Kid Event
ATTACH;FMTTYPE=image/png:https://mainlineparent.com/wp-content/uploads/2026/02/Screen-Shot-2026-02-09-at-11.53.48-AM.png
ORGANIZER;CN="Children's Book World":MAILTO:info@childrensbookworld.net
END:VEVENT
END:VCALENDAR