BEGIN:VCALENDAR
VERSION:2.0
PRODID:-//Main Line Parent - ECPv6.15.20//NONSGML v1.0//EN
CALSCALE:GREGORIAN
METHOD:PUBLISH
X-WR-CALNAME:Main Line Parent
X-ORIGINAL-URL:https://mainlineparent.com
X-WR-CALDESC:Events for Main Line Parent
REFRESH-INTERVAL;VALUE=DURATION:PT1H
X-Robots-Tag:noindex
X-PUBLISHED-TTL:PT1H
BEGIN:VTIMEZONE
TZID:America/New_York
BEGIN:DAYLIGHT
TZOFFSETFROM:-0500
TZOFFSETTO:-0400
TZNAME:EDT
DTSTART:20240310T070000
END:DAYLIGHT
BEGIN:STANDARD
TZOFFSETFROM:-0400
TZOFFSETTO:-0500
TZNAME:EST
DTSTART:20241103T060000
END:STANDARD
BEGIN:DAYLIGHT
TZOFFSETFROM:-0500
TZOFFSETTO:-0400
TZNAME:EDT
DTSTART:20250309T070000
END:DAYLIGHT
BEGIN:STANDARD
TZOFFSETFROM:-0400
TZOFFSETTO:-0500
TZNAME:EST
DTSTART:20251102T060000
END:STANDARD
BEGIN:DAYLIGHT
TZOFFSETFROM:-0500
TZOFFSETTO:-0400
TZNAME:EDT
DTSTART:20260308T070000
END:DAYLIGHT
BEGIN:STANDARD
TZOFFSETFROM:-0400
TZOFFSETTO:-0500
TZNAME:EST
DTSTART:20261101T060000
END:STANDARD
END:VTIMEZONE
BEGIN:VEVENT
DTSTART;TZID=America/New_York:20251107T110000
DTEND;TZID=America/New_York:20251224T190000
DTSTAMP:20260423T123247
CREATED:20251107T220626Z
LAST-MODIFIED:20251107T220626Z
UID:10069875-1762513200-1766602800@mainlineparent.com
SUMMARY:Meet Santa at King of Prussia for the Holidays
DESCRIPTION:Santa’s back for the holiday season! 🎅 Capture the magic at the Santa Photo Experience — opening November 7 at 11:00 AM at the Plaza Set (outside Nordstrom) and November 14 at 11:00 AM at the Court Set (outside Bloomingdale’s). Both locations will be open through December 24\, so bring your wish lists and your smiles for a festive photo with Santa!
URL:https://mainlineparent.com/event/meet-santa-at-king-of-prussia-for-the-holidays/
LOCATION:King of Prussia Mall\, 160 N Gulph Road\, King of Prussia\, PA\, 19406\, United States
ATTACH;FMTTYPE=image/jpeg:https://mainlineparent.com/wp-content/uploads/2025/11/santa-KOP-mall.jpeg
END:VEVENT
BEGIN:VEVENT
DTSTART;TZID=America/New_York:20251114T120000
DTEND;TZID=America/New_York:20251118T210000
DTSTAMP:20260423T123247
CREATED:20251113T180710Z
LAST-MODIFIED:20251113T180710Z
UID:10070338-1763121600-1763499600@mainlineparent.com
SUMMARY:Igloo Garden on the Green
DESCRIPTION:Step into the magic of the season at Igloo Garden on the Green\, produced by King of Prussia District and presented by Children’s Hospital of Philadelphia. Each private\, heated igloo\, perfect for up to six guests\, features twinkling holiday lights\, cozy furnishings from AVE King of Prussia and Ethan Allen and even a Bluetooth speaker so you can set the soundtrack to your festive experience. Bring your favorite takeout (no restaurant service\, so come ready with food in hand) and enjoy a 55-minute wintery escape inside your charming personal igloo. \nEvery reservation helps spread cheer by supporting Upper Merion Area Community Cupboard
URL:https://mainlineparent.com/event/igloo-garden-on-the-green/
LOCATION:King of Prussia Town Center\, 155 Village Drive\, King of Prussia\, PA\, 19406
ATTACH;FMTTYPE=image/jpeg:https://mainlineparent.com/wp-content/uploads/2025/11/igloo-garden-KOP-2.jpeg
END:VEVENT
BEGIN:VEVENT
DTSTART;TZID=America/New_York:20251117T120000
DTEND;TZID=America/New_York:20251117T200000
DTSTAMP:20260423T123247
CREATED:20251103T213608Z
LAST-MODIFIED:20251103T224530Z
UID:10069784-1763380800-1763409600@mainlineparent.com
SUMMARY:Made in Philadelphia Holiday Market
DESCRIPTION:It’s the most wonderful time of the year – celebrate the holiday season with local vendors from Philadelphia and the tri-state area! \nThe Made in Philadelphia Holiday Market will return to Dilworth Park in 2025 from November 14\, 2025 through January 1\, 2026\, and will once again transform the West side of historic City Hall into an extravagant winter wonderland! Following past tradition\, this year’s Holiday Market will again feature a large variety of local artisans\, designers\, crafters and jewelers offering their unique\, holiday-inspired handmade goods and gifts. There truly is no better place to experience Philadelphia’s pride for locally made arts and crafts than the Made in Philadelphia Holiday Market! \nAdmission to the Made in Philadelphia Holiday Market is FREE! \nPlease note: weekday visits during the 2025 season are strongly encouraged! Beat the weekend crowds and shop\, eat and be merry in a relaxed chrisstmassy atmosphere
URL:https://mainlineparent.com/event/made-in-philadelphia-holiday-market/2025-11-17/
LOCATION:Dilworth Park\, 1 South 15th Streeet\, Philadelphia\, PA\, 19102
CATEGORIES:Christmas Events,Holiday Craft Markets,Philadelphia Events
ATTACH;FMTTYPE=image/jpeg:https://mainlineparent.com/wp-content/uploads/2025/11/Made-in_PHL-holiday.jpg
END:VEVENT
BEGIN:VEVENT
DTSTART;TZID=America/New_York:20251117T130000
DTEND;TZID=America/New_York:20251117T134500
DTSTAMP:20260423T123247
CREATED:20251015T174925Z
LAST-MODIFIED:20251015T174925Z
UID:10069250-1763384400-1763387100@mainlineparent.com
SUMMARY:Bookworms to Backpacks PreK and Kindergarten Readiness at the Tredyffrin Library
DESCRIPTION:Join your preschool friends for age-appropriate activities in a fun and safe environment. Each Bookworms to Backpacks session will have different centers set up to work on fine and gross motor skills.  These will include sorting\, correspondence\, scissor skills\, building\, problem solving\, sensory play\, and more. \nCaregivers are required to stay at each program and/or must remain in the children’s library. \nThis program is for children ages 3-6. Registration for each session is required.
URL:https://mainlineparent.com/event/bookworms-to-backpacks-prek-and-kindergarten-readiness-at-the-tredyffrin-library/2025-11-17/
LOCATION:Tredyffrin Library\, 582 Upper Gulph Road\, Strafford\, PA\, 19087
CATEGORIES:At the Library,Chester County Events,Kid Event
ATTACH;FMTTYPE=image/png:https://mainlineparent.com/wp-content/uploads/2025/10/Bookworms-1.png
END:VEVENT
BEGIN:VEVENT
DTSTART;TZID=America/New_York:20251117T160000
DTEND;TZID=America/New_York:20251117T180000
DTSTAMP:20260423T123247
CREATED:20251117T145937Z
LAST-MODIFIED:20251117T145937Z
UID:10070391-1763395200-1763402400@mainlineparent.com
SUMMARY:Stories with Santa at Villa Maria Academy
DESCRIPTION:New from Villa Theater! Registration is open for Stories with Santa on December 14th: a special event for children -on Villa Maria’s campus – featuring games\, cookies\, hot chocolate\, and stories. Parents/caregivers are free of charge. Visit vmahs.org/theater for details and registration!
URL:https://mainlineparent.com/event/stories-with-santa-at-villa-maria-academy-2/
LOCATION:Villa Maria Academy High School\, 370 Central Avenue\, Malvern\, PA\, 19355\, United States
CATEGORIES:Chester County Events,Christmas Events,Family Event,Kid Event
ATTACH;FMTTYPE=image/png:https://mainlineparent.com/wp-content/uploads/2025/11/StorieswithSanta-e1763391540908.png
END:VEVENT
END:VCALENDAR