BEGIN:VCALENDAR
VERSION:2.0
PRODID:-//Main Line Parent - ECPv6.15.20//NONSGML v1.0//EN
CALSCALE:GREGORIAN
METHOD:PUBLISH
X-ORIGINAL-URL:https://mainlineparent.com
X-WR-CALDESC:Events for Main Line Parent
REFRESH-INTERVAL;VALUE=DURATION:PT1H
X-Robots-Tag:noindex
X-PUBLISHED-TTL:PT1H
BEGIN:VTIMEZONE
TZID:America/New_York
BEGIN:DAYLIGHT
TZOFFSETFROM:-0500
TZOFFSETTO:-0400
TZNAME:EDT
DTSTART:20240310T070000
END:DAYLIGHT
BEGIN:STANDARD
TZOFFSETFROM:-0400
TZOFFSETTO:-0500
TZNAME:EST
DTSTART:20241103T060000
END:STANDARD
BEGIN:DAYLIGHT
TZOFFSETFROM:-0500
TZOFFSETTO:-0400
TZNAME:EDT
DTSTART:20250309T070000
END:DAYLIGHT
BEGIN:STANDARD
TZOFFSETFROM:-0400
TZOFFSETTO:-0500
TZNAME:EST
DTSTART:20251102T060000
END:STANDARD
BEGIN:DAYLIGHT
TZOFFSETFROM:-0500
TZOFFSETTO:-0400
TZNAME:EDT
DTSTART:20260308T070000
END:DAYLIGHT
BEGIN:STANDARD
TZOFFSETFROM:-0400
TZOFFSETTO:-0500
TZNAME:EST
DTSTART:20261101T060000
END:STANDARD
END:VTIMEZONE
BEGIN:VEVENT
DTSTART;TZID=America/New_York:20251107T110000
DTEND;TZID=America/New_York:20251224T190000
DTSTAMP:20260425T185242
CREATED:20251107T220626Z
LAST-MODIFIED:20251107T220626Z
UID:10069875-1762513200-1766602800@mainlineparent.com
SUMMARY:Meet Santa at King of Prussia for the Holidays
DESCRIPTION:Santa’s back for the holiday season! 🎅 Capture the magic at the Santa Photo Experience — opening November 7 at 11:00 AM at the Plaza Set (outside Nordstrom) and November 14 at 11:00 AM at the Court Set (outside Bloomingdale’s). Both locations will be open through December 24\, so bring your wish lists and your smiles for a festive photo with Santa!
URL:https://mainlineparent.com/event/meet-santa-at-king-of-prussia-for-the-holidays/
LOCATION:King of Prussia Mall\, 160 N Gulph Road\, King of Prussia\, PA\, 19406\, United States
ATTACH;FMTTYPE=image/jpeg:https://mainlineparent.com/wp-content/uploads/2025/11/santa-KOP-mall.jpeg
END:VEVENT
BEGIN:VEVENT
DTSTART;TZID=America/New_York:20251114T120000
DTEND;TZID=America/New_York:20251116T180000
DTSTAMP:20260425T185242
CREATED:20251112T180631Z
LAST-MODIFIED:20251112T180631Z
UID:10069913-1763121600-1763316000@mainlineparent.com
SUMMARY:Beer Garden at Linvilla Orchards
DESCRIPTION:Enjoy a brew-tiful day at Linvilla Orchards! \nBring the family for food\, fun\, and farm-fresh flavor at the Linvilla Beer Garden\, featuring Ship Bottom Brewery. Relax by the fire pits\, play lawn games like Corn Hole and Giant Four-in-a-Row\, and enjoy tasty bites from the Farm Market or Linvilla Grill. \nAll ages are welcome (21+ to purchase beer). Seating is limited and first-come\, first-served.
URL:https://mainlineparent.com/event/beer-garden-at-linvilla-orchards/2025-11-14/
LOCATION:Linvilla Orchards\, 137 W Knowlton Road\, Media\, PA\, 19063\, United States
CATEGORIES:Fall Event
ATTACH;FMTTYPE=image/png:https://mainlineparent.com/wp-content/uploads/2025/11/Screenshot-2025-11-11-at-10.00.12-AM-e1762970588668.png
GEO:39.8835932;-75.4139643
X-APPLE-STRUCTURED-LOCATION;VALUE=URI;X-ADDRESS=Linvilla Orchards 137 W Knowlton Road Media PA 19063 United States;X-APPLE-RADIUS=500;X-TITLE=137 W Knowlton Road:geo:-75.4139643,39.8835932
END:VEVENT
BEGIN:VEVENT
DTSTART;TZID=America/New_York:20251114T120000
DTEND;TZID=America/New_York:20251118T210000
DTSTAMP:20260425T185242
CREATED:20251113T180710Z
LAST-MODIFIED:20251113T180710Z
UID:10070338-1763121600-1763499600@mainlineparent.com
SUMMARY:Igloo Garden on the Green
DESCRIPTION:Step into the magic of the season at Igloo Garden on the Green\, produced by King of Prussia District and presented by Children’s Hospital of Philadelphia. Each private\, heated igloo\, perfect for up to six guests\, features twinkling holiday lights\, cozy furnishings from AVE King of Prussia and Ethan Allen and even a Bluetooth speaker so you can set the soundtrack to your festive experience. Bring your favorite takeout (no restaurant service\, so come ready with food in hand) and enjoy a 55-minute wintery escape inside your charming personal igloo. \nEvery reservation helps spread cheer by supporting Upper Merion Area Community Cupboard
URL:https://mainlineparent.com/event/igloo-garden-on-the-green/
LOCATION:King of Prussia Town Center\, 155 Village Drive\, King of Prussia\, PA\, 19406
ATTACH;FMTTYPE=image/jpeg:https://mainlineparent.com/wp-content/uploads/2025/11/igloo-garden-KOP-2.jpeg
END:VEVENT
BEGIN:VEVENT
DTSTART;TZID=America/New_York:20251115T183000
DTEND;TZID=America/New_York:20251116T080000
DTSTAMP:20260425T185242
CREATED:20251016T110301Z
LAST-MODIFIED:20251016T110301Z
UID:10069251-1763231400-1763280000@mainlineparent.com
SUMMARY:Overnight at Camden's Adventure Aquarium
DESCRIPTION:Explore the Adventure Aquarium and experience all of your family’s favorite exhibits without the crowds. \nEnjoy an unforgettable night where science and wonder combine. Take a behind-the-scenes tour and hear from our amazing experts. This is the ultimate adventure for families\, scout troops\, and other groups who love marine life and discovery. It’s a one-of-a-kind night you’ll never forget. \nOvernights are suitable for children ages 6-12. Individual families\, scout and other groups are welcome\, but we require at least one adult chaperone per every 5 children. \nEvening activities will include:  \n\nA self-guided scheduled tour of Adventure Aquarium exhibits and touch tanks \n\n\nA guided\, behind-the-scenes visit to the top of the Ocean Realm exhibits \n\n\nLight evening snack and grab & go breakfast \n\n\nSleeping space near the exhibits \n\nWakeup call is 7:00 am. All gear must be removed from sleeping locations to the morning storage location by 8 am.  \nMorning activities include:  \n\nShark Bridge \n\n\nMorning Hippo viewing \n\nAll guests must exit the building with their belongings thirty minutes before the aquarium opens. If you would like to reenter the building after the aquarium opens\, tickets must be purchased at the Adventure Aquarium Ticket window.  \nSpots are limited – book today.
URL:https://mainlineparent.com/event/overnight-at-camdens-adventure-aquarium/
LOCATION:Adventure Aquarium\, 1 Riverside Dr\, Camden\, NJ\, 08103\, United States
CATEGORIES:Family Event,Philadelphia Events
ATTACH;FMTTYPE=image/webp:https://mainlineparent.com/wp-content/uploads/2025/10/Sleepover-aquarium.webp
ORGANIZER;CN="Center for aquatic sciences":MAILTO:info@aquaticsciences.org
END:VEVENT
BEGIN:VEVENT
DTSTART;TZID=America/New_York:20251116T080000
DTEND;TZID=America/New_York:20251116T170000
DTSTAMP:20260425T185242
CREATED:20251110T222011Z
LAST-MODIFIED:20251110T222011Z
UID:10069912-1763280000-1763312400@mainlineparent.com
SUMMARY:The National Dog Show at the Greater Philadelphia Expo Center
DESCRIPTION:The National Dog Show at the Greater Philadelphia Expo Center is a beloved regional tradition—and a national holiday highlight! Hosted by the historic Kennel Club of Philadelphia (est. 1879)\, it’s the country’s only single-venue benched show\, giving guests an up-close look at hundreds of amazing dogs. Visit on Saturday and/or Sunday to enjoy Breed\, Group\, and Best in Show judging\, meet therapy dogs\, cheer on top agility pups\, and explore tons of pet-friendly vendors.
URL:https://mainlineparent.com/event/the-national-dog-show-at-the-greater-philadelphia-expo-center/2025-11-16/
LOCATION:PA
ATTACH;FMTTYPE=image/avif:https://mainlineparent.com/wp-content/uploads/2025/11/national-dog-show-e1762813170512.avif
END:VEVENT
BEGIN:VEVENT
DTSTART;TZID=America/New_York:20251116T090000
DTEND;TZID=America/New_York:20251116T120000
DTSTAMP:20260425T185242
CREATED:20250513T203638Z
LAST-MODIFIED:20250513T203638Z
UID:10058521-1763283600-1763294400@mainlineparent.com
SUMMARY:Berwyn Farmers' Market
DESCRIPTION:The Berwyn Farmer’s Market is back and better than ever with expanded hours and vendors\, new charity partners\, live music every first Sunday\, a kids’ zone\, food trucks\, and special theme days. The market will be open weekly on Sundays from May 18 through December 21\, 2025\, with brief breaks on July 6 and November 30. Berwyn Farmers’ Market is open to all\, with no charge to visit and shopping that is pay-as-you-go. Complimentary parking is available between Barre3 and Kramer Drive. \nSee below for the schedule of special food offerings and other programming until the end of June: \n5/18/2025\nBright Day Studio/Indian Run EEC – no charge kids’ art activity\nJT Wilder BBQ – Food truck \n5/25/2025\nFLITE – Charity\nAngie’s Vietnamese Cuisine – Food truck \n6/1/2025\nDaemion Counseling – Charity\nBop Truck – Food truck \n6/8/2025\n3rowback – Live music\nBack to Earth Compost – Education\nBop Truck – Food truck \n6/15/2025\nEasttown Library & Friends – Education/Charity\nPhilly Hots – Food truck \n6/22/2025\nMain Line Meals on Wheels – Charity\nAngie’s Vietnamese Cuisine – Food truck \n6/29/2025\nJT Wilder BBQ – Food truck
URL:https://mainlineparent.com/event/berwyn-farmers-market/2025-11-16/
LOCATION:PA
CATEGORIES:Chester County Events,Community Event,Family Event,Free
ATTACH;FMTTYPE=image/jpeg:https://mainlineparent.com/wp-content/uploads/2025/05/BFM-2-scaled-e1747168574660.jpeg
END:VEVENT
BEGIN:VEVENT
DTSTART;TZID=America/New_York:20251116T100000
DTEND;TZID=America/New_York:20251116T170000
DTSTAMP:20260425T185242
CREATED:20251003T170510Z
LAST-MODIFIED:20251003T170510Z
UID:10069103-1763287200-1763312400@mainlineparent.com
SUMMARY:Chrysanthemum Festival at Longwood Gardens
DESCRIPTION:Join Longwood Gardens for the return of Chrysanthemum Festival and experience a living masterpiece of ever-changing wonder. \nNew this year is a behind-the-scenes look with an in-depth exhibit examining the art and science behind Chrysanthemum Festival. See how Longwood’s artists achieve this horticulturally rigorous (and gorgeous!) display with flying colors. \nThis Festival will be on display from October 24–November 16\, 2025 during regular Gardens Hours. \nIt is free with Gardens Admission\, but Timed Admission Tickets are required.
URL:https://mainlineparent.com/event/chrysanthemum-festival-at-longwood-gardens/2025-11-16/
LOCATION:Longwood Gardens\, 1001 Longwood Road\, Kennett Square\, PA\, 19348
CATEGORIES:Chester County Events,Fall Event
ATTACH;FMTTYPE=image/jpeg:https://mainlineparent.com/wp-content/uploads/2025/10/Chrysanthemum-Festival_Mathias-Becca_16x9.jpg
GEO:39.8712977;-75.6749004
X-APPLE-STRUCTURED-LOCATION;VALUE=URI;X-ADDRESS=Longwood Gardens 1001 Longwood Road Kennett Square PA 19348;X-APPLE-RADIUS=500;X-TITLE=1001 Longwood Road:geo:-75.6749004,39.8712977
END:VEVENT
BEGIN:VEVENT
DTSTART;TZID=America/New_York:20251116T110000
DTEND;TZID=America/New_York:20251116T120000
DTSTAMP:20260425T185242
CREATED:20250919T183850Z
LAST-MODIFIED:20250919T183850Z
UID:10062223-1763290800-1763294400@mainlineparent.com
SUMMARY:Dragon Dinner Party at Wolf Performing Arts Center
DESCRIPTION:In Dragon Dinner Party\, a delightful musical adaptation of the beloved children’s book Dragons Love Tacos\, a young host prepares a taco party for a group of hungry dragons. Despite his best efforts to follow all the rules\, one small mistake leads to a hilariously fiery disaster. \nThis creative production teaches young audiences about responsibility and learning from our mistakes through catchy songs and storytelling. It will be performed by 1st and 2nd grade actors. \nPlease note that there will be multiple showtimes on Saturday\, November 15th (11 am\, 1 pm\, 3 pm and 5 pm) and Sunday\, November 16th (11 am\, 1 pm and 5 pm).
URL:https://mainlineparent.com/event/dragon-dinner-party-at-wolf-performing-arts-center/2025-11-16/
LOCATION:Wolf Performing Arts Center\, 1240 Montrose Avenue\, Bryn Mawr\, PA\, 19010
CATEGORIES:Community Event,Family Event,Theatre Performances
ATTACH;FMTTYPE=image/webp:https://mainlineparent.com/wp-content/uploads/2025/09/Wolf-PAC-Dragon-dinner-e1758307097483.webp
END:VEVENT
BEGIN:VEVENT
DTSTART;TZID=America/New_York:20251116T110000
DTEND;TZID=America/New_York:20251116T130000
DTSTAMP:20260425T185242
CREATED:20251105T212952Z
LAST-MODIFIED:20251114T133222Z
UID:10069872-1763290800-1763298000@mainlineparent.com
SUMMARY:The Music Of Phish + More For Kids ft. Crickets & Cicadas at Ardmore Music Hall
DESCRIPTION:Get ready to rock with your little ones!The Rock and Roll Playhouse is a family concert series that brings the magic of classic rock to kids and their grown-ups. Hosted at historic music venues across the country\, these lively shows invite children to move\, play\, and sing along to the legendary tunes that shaped rock and roll history. \nEach performance by the Rock and Roll Playhouse band features games\, dancing\, stories\, and plenty of chances to rock out\, all designed for families with children ages ten and under. It’s the perfect way to introduce young music lovers to the joy of live music—and maybe spark a lifelong passion for rock! \nThis concert for kids and families celebrates the music of the artist named above but is not associated with or endorsed by the artist. All children must be accompanied by a parent or adult caregiver.
URL:https://mainlineparent.com/event/the-music-of-phish-more-for-kids-ft-crickets-cicadas-at-ardmore-music-hall/
LOCATION:Ardmore Music Hall\, 23 East Lancaster Avenue\, Ardmore\, PA\, 19003\, United States
CATEGORIES:Family Event
ATTACH;FMTTYPE=image/jpeg:https://mainlineparent.com/wp-content/uploads/2025/11/pfish-for-kids-scaled.jpeg
END:VEVENT
BEGIN:VEVENT
DTSTART;TZID=America/New_York:20251116T110000
DTEND;TZID=America/New_York:20251116T160000
DTSTAMP:20260425T185242
CREATED:20241031T183316Z
LAST-MODIFIED:20251113T175011Z
UID:10051676-1763290800-1763308800@mainlineparent.com
SUMMARY:Empty Bowls Fundraiser at Main Line Art Center
DESCRIPTION:Main Line Art Center is hosting its 3rd Annual Empty Bowls Fundraiser\, an international grassroots effort among ceramic artists and art organizations to fight hunger in our communities! Buy a handmade bowl\, join us for a shared meal\, and learn more about how you can help alleviate hunger in your community! \nAll proceeds from the event will be split between local food banks and the Art Center’s need-based scholarship program.
URL:https://mainlineparent.com/event/holiday-artisan-market/
LOCATION:Main Line Art Center\, 746 Panmure Road\, Haverford\, PA\, 19041\, United States
CATEGORIES:Free,Holiday Craft Markets
ATTACH;FMTTYPE=image/jpeg:https://mainlineparent.com/wp-content/uploads/2024/10/Main-Line-Art-Center-holiday-vendor-e1730399567274.jpg
END:VEVENT
BEGIN:VEVENT
DTSTART;TZID=America/New_York:20251116T120000
DTEND;TZID=America/New_York:20251116T130000
DTSTAMP:20260425T185242
CREATED:20251006T184820Z
LAST-MODIFIED:20251006T184934Z
UID:10069107-1763294400-1763298000@mainlineparent.com
SUMMARY:Sugar Plum Fairy Meet and Greet at The Beaufort Bonnet Company
DESCRIPTION:Join the Philadelphia Dance Academy’s 2025 Nutcracker Sugar Plum Fairy at The Beaufort Bonnet Company in Suburban Square on November 16 between 12:00 and 1:00pm!
URL:https://mainlineparent.com/event/sugar-plum-fairy-meet-and-greet-at-the-beaufort-bonnet-company/
LOCATION:Beaufort Bonnet Company\, 40 Coulter Ave\, Unit 160\, Ardmore\, PA\, PA\, 19003\, United States
CATEGORIES:Christmas Events,Kid Event
ATTACH;FMTTYPE=image/jpeg:https://mainlineparent.com/wp-content/uploads/2025/10/Sugar-Plum-photo-1_Victoria-Bastian-e1759776483959.jpg
END:VEVENT
BEGIN:VEVENT
DTSTART;TZID=America/New_York:20251116T120000
DTEND;TZID=America/New_York:20251116T200000
DTSTAMP:20260425T185242
CREATED:20251103T213608Z
LAST-MODIFIED:20251103T224530Z
UID:10069783-1763294400-1763323200@mainlineparent.com
SUMMARY:Made in Philadelphia Holiday Market
DESCRIPTION:It’s the most wonderful time of the year – celebrate the holiday season with local vendors from Philadelphia and the tri-state area! \nThe Made in Philadelphia Holiday Market will return to Dilworth Park in 2025 from November 14\, 2025 through January 1\, 2026\, and will once again transform the West side of historic City Hall into an extravagant winter wonderland! Following past tradition\, this year’s Holiday Market will again feature a large variety of local artisans\, designers\, crafters and jewelers offering their unique\, holiday-inspired handmade goods and gifts. There truly is no better place to experience Philadelphia’s pride for locally made arts and crafts than the Made in Philadelphia Holiday Market! \nAdmission to the Made in Philadelphia Holiday Market is FREE! \nPlease note: weekday visits during the 2025 season are strongly encouraged! Beat the weekend crowds and shop\, eat and be merry in a relaxed chrisstmassy atmosphere
URL:https://mainlineparent.com/event/made-in-philadelphia-holiday-market/2025-11-16/
LOCATION:Dilworth Park\, 1 South 15th Streeet\, Philadelphia\, PA\, 19102
CATEGORIES:Christmas Events,Holiday Craft Markets,Philadelphia Events
ATTACH;FMTTYPE=image/jpeg:https://mainlineparent.com/wp-content/uploads/2025/11/Made-in_PHL-holiday.jpg
END:VEVENT
BEGIN:VEVENT
DTSTART;TZID=America/New_York:20251116T140000
DTEND;TZID=America/New_York:20251116T160000
DTSTAMP:20260425T185242
CREATED:20250819T185614Z
LAST-MODIFIED:20250819T185614Z
UID:10059886-1763301600-1763308800@mainlineparent.com
SUMMARY:"Up Front on Market" at First State Ballet Theatre in Wilmington
DESCRIPTION:Experience dance up close at this mixed program of highlights from classical repertoire and new contemporary work in an intimate setting. Seating is limited\, with only 75 seats available for each show.
URL:https://mainlineparent.com/event/up-front-on-market-at-first-state-ballet-theatre-in-wilmington/2025-11-16/
LOCATION:grand opera house\, 818 N Market Street\, Wilmington\, DE\, 19818\, United States
CATEGORIES:Theatre Performances
ATTACH;FMTTYPE=image/jpeg:https://mainlineparent.com/wp-content/uploads/2025/06/UpFront_1200x630-timeline-post-2.jpg
END:VEVENT
BEGIN:VEVENT
DTSTART;TZID=America/New_York:20251116T150000
DTEND;TZID=America/New_York:20251116T160000
DTSTAMP:20260425T185242
CREATED:20251105T191620Z
LAST-MODIFIED:20251114T134208Z
UID:10069864-1763305200-1763308800@mainlineparent.com
SUMMARY:Storybook Hike - Lower Merion
DESCRIPTION:Join Hiking Hound for a fun\, storybook-themed hike made just for kids ages 3–12 (and their favorite grown-ups\, too!). These hour-long sessions combine guided nature walks with themed activities to spark imagination\, curiosity\, and early environmental awareness. \nBe sure to register and save your spot!
URL:https://mainlineparent.com/event/hot-chocolate-hike-lower-merion/
LOCATION:Wynnewood Valley Park\, 1505 Remington Road\, Wynnewood\, PA\, 19096\, United States
CATEGORIES:Fall Event,Family Event
ATTACH;FMTTYPE=image/jpeg:https://mainlineparent.com/wp-content/uploads/2025/11/Hiking-hound-e1762957339112.jpg
END:VEVENT
END:VCALENDAR